Felt | Verdi |
AlreadyApplied | True |
AutoLateralCA | 0 |
AutoWhiteVersion | 134348800 |
BitsPerSample | 8 |
Blacks2012 | 0 |
BlueHue | 0 |
BlueSaturation | 0 |
CameraProfile | Adobe Standard |
CircleOfConfusion | 0.007 mm |
Clarity2012 | +13 |
ColorComponents | 3 |
ColorMode | RGB |
ColorNoiseReduction | 14 |
ColorNoiseReductionDetail | 0 |
ColorNoiseReductionSmoothness | 50 |
ColorSpace | Uncalibrated |
ColorTemperature | 3900 |
Contrast | Normal |
Contrast2012 | 0 |
ConvertToGrayscale | True |
CreateDate | 2014:04:21 12:47:06 |
CreatorTool | Adobe Photoshop CS6 (Macintosh) |
CustomRendered | Normal |
DateCreated (1) | 2014:04:21 |
DateCreated | 2014:04:21 12:47:06 |
DateTimeOriginal | 2014:04:21 12:47:06 |
ExifImageHeight | 900 |
ExifImageWidth | 900 |
Exposure2012 | 0.00 |
ExposureCompensation | 0 |
ExposureMode | Manual |
ExposureProgram | Manual |
ExposureTime | 1/125 |
Flash | Off, Did not fire |
FocalLength | 400.0 mm |
FocalLength35efl | 400.0 mm (35 mm equivalent: 1840.0 mm) |
FocalLengthIn35mmFormat | 1840 mm |
Format | image/jpeg |
FOV | 1.1 deg |
GrainAmount | 0 |
GrayMixerAqua | -36 |
GrayMixerBlue | -9 |
GrayMixerGreen | -22 |
GrayMixerMagenta | +43 |
GrayMixerOrange | +20 |
GrayMixerPurple | +28 |
GrayMixerRed | +1 |
GrayMixerYellow | +2 |
GreenHue | 0 |
GreenSaturation | 0 |
HasCrop | False |
HasSettings | True |
Highlights2012 | 0 |
ICCProfileName | Adobe RGB (1998) |
ImageHeight | 900 |
ImageSize | 900x900 |
ImageWidth | 900 |
ISO | 200 |
Label | Approved |
LensID (1) | 21 0 |
LensID | Pentax Q Manual Lens |
LensManualDistortionAmount | 0 |
LensProfileEnable | 0 |
LensProfileSetup | LensDefaults |
LuminanceSmoothing | 0 |
Make | PENTAX |
Megapixels | 0.810 |
MeteringMode | Multi-segment |
Model | PENTAX Q7 |
ModifyDate (1) | 2014:04:21 21:35:32+02:00 |
ModifyDate | 2014:04:21 21:35:32 |
Orientation | Horizontal (normal) |
ParametricDarks | 0 |
ParametricHighlights | 0 |
ParametricHighlightSplit | 75 |
ParametricLights | 0 |
ParametricMidtoneSplit | 50 |
ParametricShadows | 0 |
ParametricShadowSplit | 25 |
PerspectiveAspect | 0 |
PerspectiveHorizontal | 0 |
PerspectiveRotate | 0.0 |
PerspectiveScale | 100 |
PerspectiveUpright | 0 |
PerspectiveVertical | 0 |
PhotographicSensitivity | 200 |
PostCropVignetteAmount | 0 |
ProcessVersion | 6.7 |
ProfileDescription | Adobe RGB (1998) |
Rating | 5 |
RawFileName | _IMP3084.DNG |
RedHue | 0 |
RedSaturation | 0 |
Saturation | Normal |
ScaleFactor35efl | 4.6 |
SceneCaptureType | Standard |
SensingMethod | One-chip color area |
SerialNumber | 4792943 |
Shadows2012 | 0 |
ShadowTint | 0 |
SharpenDetail | 8 |
SharpenEdgeMasking | 0 |
SharpenRadius | +0.8 |
Sharpness (1) | 41 |
Sharpness | Normal |
ShutterSpeed | 1/125 |
ShutterSpeedValue | 1/125 |
Software | Adobe Photoshop CS6 (Macintosh) |
SplitToningBalance | 0 |
SplitToningHighlightHue | 0 |
SplitToningHighlightSaturation | 0 |
SplitToningShadowHue | 0 |
SplitToningShadowSaturation | 0 |
SubjectDistanceRange | Unknown |
Tint | +28 |
ToneCurveName2012 | Custom |
ToneCurvePV2012 | 0, 0, 56, 51, 108, 84, 169, 163, 201, 220, 255, 255 |
ToneCurvePV2012Blue | 0, 0, 255, 255 |
ToneCurvePV2012Green | 0, 0, 255, 255 |
ToneCurvePV2012Red | 0, 0, 255, 255 |
URL_List | |
Version | 8.3 |
VignetteAmount | 0 |
WhiteBalance (1) | Custom |
WhiteBalance | Auto |
Whites2012 | 0 |