Felt | Verdi |
AlreadyApplied | True |
Aperture | 4.0 |
ApertureValue | 4.0 |
ApproximateFocusDistance | 4294967295 |
Artist | Zoltan Tot |
AutoLateralCA | 0 |
AutoWhiteVersion | 134348800 |
BitsPerSample | 8 |
Blacks2012 | +1 |
BlueHue | 0 |
BlueSaturation | 0 |
By-line | Zoltan Tot |
CameraProfile | Adobe Standard |
CFAPattern | [Red,Green][Green,Blue] |
CircleOfConfusion | 0.030 mm |
Clarity2012 | +21 |
ColorComponents | 3 |
ColorMode | RGB |
ColorNoiseReduction | 25 |
ColorNoiseReductionDetail | 50 |
ColorNoiseReductionSmoothness | 50 |
ColorSpace | Uncalibrated |
ColorTemperature | 4250 |
ColorTransform | YCbCr |
Contrast | Normal |
Contrast2012 | -6 |
ConvertToGrayscale | False |
Copyright | Zoltan ToT |
CopyrightNotice | Zoltan ToT |
CreateDate | 2014:09:23 21:12:23 |
Creator | Zoltan Tot |
CreatorTool | Ver.1.02 |
CropAngle | 0 |
CropBottom | 0.990937 |
CropConstrainToWarp | 1 |
CropLeft | 0.33031 |
CropRight | 0.788979 |
CropTop | 0 |
CustomRendered | Normal |
DateCreated (1) | 2014:09:23 |
DateCreated | 2014:09:23 21:12:23.002 |
DateTimeOriginal | 2014:09:23 21:12:23 |
DefringeGreenAmount | 0 |
DefringeGreenHueHi | 60 |
DefringeGreenHueLo | 40 |
DefringePurpleAmount | 0 |
DefringePurpleHueHi | 70 |
DefringePurpleHueLo | 30 |
DigitalZoomRatio | 1 |
DOF | inf (1.63 m - inf) |
ExifImageHeight | 3980 |
ExifImageWidth | 2760 |
Exposure2012 | +2.50 |
ExposureCompensation | -4/3 |
ExposureMode | Manual |
ExposureProgram | Manual |
ExposureTime | 1.6 |
Flash | Off, Did not fire |
FNumber | 4.0 |
FocalLength | 14.0 mm |
FocalLength35efl | 14.0 mm (35 mm equivalent: 14.0 mm) |
FocalLengthIn35mmFormat | 14 mm |
Format | image/jpeg |
FOV | 104.3 deg |
GainControl | High gain up |
GradientBasedCorrActive | true |
GradientBasedCorrAmount | 1.000000 |
GradientBasedCorrBrightness | 0.000000 |
GradientBasedCorrClarity | 0.000000 |
GradientBasedCorrClarity2012 (1) | 0.440000 |
GradientBasedCorrClarity2012 | 0.690000 |
GradientBasedCorrContrast | 0.000000 |
GradientBasedCorrContrast2012 | 0.260000 |
GradientBasedCorrDefringe | 0.080000 |
GradientBasedCorrExposure | 0.000000 |
GradientBasedCorrExposure2012 (1) | 0.387500 |
GradientBasedCorrExposure2012 (2) | 0.337500 |
GradientBasedCorrExposure2012 | 0.262500 |
GradientBasedCorrHighlights2012 (1) | -0.340000 |
GradientBasedCorrHighlights2012 | 0.040000 |
GradientBasedCorrHue | 341.000000 |
GradientBasedCorrLuminanceNoise | 0.000000 |
GradientBasedCorrMaskFullX (1) | 0.552934 |
GradientBasedCorrMaskFullX (2) | 0.825881 |
GradientBasedCorrMaskFullX | 0.316232 |
GradientBasedCorrMaskFullY (1) | 0.995470 |
GradientBasedCorrMaskFullY (2) | 0.043233 |
GradientBasedCorrMaskFullY | 0.741614 |
GradientBasedCorrMaskValue | 1.000000 |
GradientBasedCorrMaskWhat | Mask/Gradient |
GradientBasedCorrMaskZeroX (1) | 0.552194 |
GradientBasedCorrMaskZeroX (2) | 0.404995 |
GradientBasedCorrMaskZeroX | 0.555153 |
GradientBasedCorrMaskZeroY (1) | 0.626326 |
GradientBasedCorrMaskZeroY (2) | 0.141893 |
GradientBasedCorrMaskZeroY | 0.687296 |
GradientBasedCorrMoire | 0.000000 |
GradientBasedCorrSaturation (1) | -0.040000 |
GradientBasedCorrSaturation (3) | 0.160000 |
GradientBasedCorrSaturation (5) | 0.300000 |
GradientBasedCorrSaturation | 0.000000 |
GradientBasedCorrShadows2012 (1) | 0.000000 |
GradientBasedCorrShadows2012 | -0.680000 |
GradientBasedCorrSharpness | 0.000000 |
GradientBasedCorrTemperature (1) | -0.330000 |
GradientBasedCorrTemperature (2) | -0.610000 |
GradientBasedCorrTemperature | -0.700000 |
GradientBasedCorrTint | 0.650000 |
GradientBasedCorrWhat | Correction |
GrainAmount | 0 |
GreenHue | 0 |
GreenSaturation | 0 |
HasCrop | True |
HasSettings | True |
Highlights2012 | -66 |
HueAdjustmentAqua | 0 |
HueAdjustmentBlue | 0 |
HueAdjustmentGreen | -3 |
HueAdjustmentMagenta | 0 |
HueAdjustmentOrange | 0 |
HueAdjustmentPurple | 0 |
HueAdjustmentRed | 0 |
HueAdjustmentYellow | 0 |
HyperfocalDistance | 1.63 m |
ICCProfileName | Adobe RGB (1998) |
ImageHeight | 3980 |
ImageNumber | 5567 |
ImageSize | 2760x3980 |
ImageWidth | 2760 |
ISO | 1100 |
Lens | 14.0 mm f/2.8 |
LensID (1) | 74 |
LensID | Samyang AE 14mm f/2.8 ED AS IF UMC |
LensInfo | 14mm f/2.8-1.4 |
LensManualDistortionAmount | 0 |
LensModel | 14.0 mm f/2.8 |
LensProfileEnable | 0 |
LensProfileSetup | LensDefaults |
LightSource | Unknown |
LightValue | -0.1 |
LuminanceAdjustmentAqua | 0 |
LuminanceAdjustmentBlue | 0 |
LuminanceAdjustmentGreen | +17 |
LuminanceAdjustmentMagenta | 0 |
LuminanceAdjustmentOrange | +26 |
LuminanceAdjustmentPurple | 0 |
LuminanceAdjustmentRed | 0 |
LuminanceAdjustmentYellow | -34 |
LuminanceNoiseReductionContrast | 0 |
LuminanceNoiseReductionDetail | 10 |
LuminanceSmoothing | 30 |
Make | NIKON CORPORATION |
MaxApertureValue | 2.8 |
Megapixels | 11.0 |
MeteringMode | Multi-segment |
Model | NIKON D600 |
ModifyDate (1) | 2014:09:24 14:11:47+02:00 |
ModifyDate | 2014:09:24 14:11:47 |
Orientation | Horizontal (normal) |
PaintCorrectionActive | true |
PaintCorrectionAmount | 1.000000 |
PaintCorrectionBrightness | 0.000000 |
PaintCorrectionClarity | 0.000000 |
PaintCorrectionClarity2012 (1) | 0.440000 |
PaintCorrectionClarity2012 | -0.100000 |
PaintCorrectionContrast | 0.000000 |
PaintCorrectionContrast2012 (1) | 0.220000 |
PaintCorrectionContrast2012 | -0.110000 |
PaintCorrectionDefringe | 0.080000 |
PaintCorrectionExposure | 0.000000 |
PaintCorrectionExposure2012 (1) | -0.025000 |
PaintCorrectionExposure2012 | 0.262500 |
PaintCorrectionHighlights2012 (1) | -0.480000 |
PaintCorrectionHighlights2012 | -0.450000 |
PaintCorrectionHue | 341.000000 |
PaintCorrectionLuminanceNoise | 0.000000 |
PaintCorrectionMaskCenterWeight (1) | 0.083679 |
PaintCorrectionMaskCenterWeight | 0.096428 |
PaintCorrectionMaskFlow | 0.888889 |
PaintCorrectionMaskRadius (1) | 0.176348 |
PaintCorrectionMaskRadius | 0.148662 |
PaintCorrectionMaskValue | 1.000000 |
PaintCorrectionMaskWhat | Mask/Paint |
PaintCorrectionMoire | 0.000000 |
PaintCorrectionSaturation (1) | 0.760000 |
PaintCorrectionSaturation (3) | 0.950000 |
PaintCorrectionSaturation | 0.000000 |
PaintCorrectionShadows2012 (1) | 0.330000 |
PaintCorrectionShadows2012 | 0.400000 |
PaintCorrectionSharpness | 0.000000 |
PaintCorrectionTemperature (1) | -0.170000 |
PaintCorrectionTemperature | -0.500000 |
PaintCorrectionTint (1) | -0.520000 |
PaintCorrectionTint | -0.670000 |
PaintCorrectionWhat | Correction |
ParametricDarks | -8 |
ParametricHighlights | +5 |
ParametricHighlightSplit | 75 |
ParametricLights | +11 |
ParametricMidtoneSplit | 50 |
ParametricShadows | +3 |
ParametricShadowSplit | 25 |
PerspectiveAspect | 0 |
PerspectiveHorizontal | 0 |
PerspectiveRotate | 0.0 |
PerspectiveScale | 100 |
PerspectiveUpright | 0 |
PerspectiveVertical | 0 |
PostCropVignetteAmount | 0 |
ProcessVersion | 6.7 |
ProfileDescription | Adobe RGB (1998) |
Rating | 0 |
RawFileName | DSC_5234.NEF |
RedHue | 0 |
RedSaturation | 0 |
Rights | Zoltan ToT |
Saturation (1) | +1 |
Saturation | Normal |
SaturationAdjustmentAqua | 0 |
SaturationAdjustmentBlue | 0 |
SaturationAdjustmentGreen | +8 |
SaturationAdjustmentMagenta | 0 |
SaturationAdjustmentOrange | -52 |
SaturationAdjustmentPurple | 0 |
SaturationAdjustmentRed | -3 |
SaturationAdjustmentYellow | -38 |
ScaleFactor35efl | 1.0 |
SceneCaptureType | Standard |
SceneType | Directly photographed |
SensingMethod | One-chip color area |
SensitivityType | Recommended Exposure Index |
SerialNumber | 6015639 |
Shadows2012 | +64 |
ShadowTint | 0 |
SharpenDetail | 25 |
SharpenEdgeMasking | 0 |
SharpenRadius | +1.0 |
Sharpness (1) | 25 |
Sharpness | Normal |
ShutterSpeed | 1.6 |
ShutterSpeedValue | 1.6 |
Software | Adobe Photoshop CC 2014 (Macintosh) |
SplitToningBalance | 0 |
SplitToningHighlightHue | 0 |
SplitToningHighlightSaturation | 0 |
SplitToningShadowHue | 0 |
SplitToningShadowSaturation | 0 |
SubjectDistanceRange | Unknown |
Tint | -20 |
ToneCurve | 0, 0, 32, 22, 64, 56, 128, 128, 192, 196, 255, 255 |
ToneCurveBlue | 0, 0, 255, 255 |
ToneCurveGreen | 0, 0, 255, 255 |
ToneCurveName | Medium Contrast |
ToneCurveName2012 | Linear |
ToneCurvePV2012 | 0, 0, 255, 255 |
ToneCurvePV2012Blue | 0, 0, 255, 255 |
ToneCurvePV2012Green | 0, 0, 255, 255 |
ToneCurvePV2012Red | 0, 0, 255, 255 |
ToneCurveRed | 0, 0, 255, 255 |
URL_List | |
Version | 8.6 |
Vibrance | -9 |
VignetteAmount | 0 |
WhiteBalance (1) | Custom |
WhiteBalance | Manual |
Whites2012 | -85 |