Felt | Verdi |
AlreadyApplied | True |
Aperture | 4.5 |
ApertureValue | 4.5 |
ApproximateFocusDistance | 0.89 |
Artist | Kim Toft, Tromso |
AutoLateralCA | 1 |
AutoWhiteVersion | 134348800 |
BitsPerSample | 8 |
Blacks2012 | -31 |
BlueHue | 0 |
BlueSaturation | 0 |
By-line | Kim Toft, Tromso |
CameraProfile | Adobe Standard |
CircleOfConfusion | 0.008 mm |
Clarity2012 | 0 |
ColorComponents | 3 |
ColorNoiseReduction | 25 |
ColorNoiseReductionDetail | 50 |
ColorNoiseReductionSmoothness | 50 |
ColorSpace | sRGB |
ColorTemperature | 4450 |
ColorTransform | YCbCr |
Contrast2012 | +36 |
ConvertToGrayscale | True |
Copyright | All rights reserved |
CopyrightNotice | All rights reserved |
Country | Sweden |
Country-PrimaryLocationName | Sweden |
CreateDate (1) | 2014:10:12 14:20:32.15 |
CreateDate | 2014:10:12 14:20:32 |
Creator | Kim Toft, Tromso |
CreatorTool | Adobe Photoshop Lightroom 5.6 (Windows) |
CropAngle | 0 |
CropBottom | 0.790511 |
CropConstrainToWarp | 0 |
CropLeft | 0.066401 |
CropRight | 0.856912 |
CropTop | 0 |
CustomRendered | Normal |
DateCreated (1) | 2014:10:12 |
DateCreated | 2014:10:12 14:20:32.15 |
DateTimeOriginal | 2014:10:12 14:20:32 |
DOF | 0.011 m (0.885 - 0.896 m) |
Exposure2012 | -0.60 |
ExposureCompensation | +1/3 |
ExposureMode | Auto |
ExposureProgram | Aperture-priority AE |
ExposureTime | 1/30 |
Firmware | 1.1.3 |
Flash | Off, Did not fire |
FlashCompensation | 0 |
FNumber | 4.5 |
FocalLength | 70.0 mm |
FocalLength35efl | 70.0 mm (35 mm equivalent: 255.4 mm) |
Format | image/jpeg |
FOV | 8.1 deg |
GPSAltitude (1) | 160.6 m |
GPSAltitude | 160.6 m Above Sea Level |
GPSAltitudeRef | Above Sea Level |
GPSDateStamp | 2014:10:12 |
GPSDateTime | 2014:10:12 12:18:13.071Z |
GPSDOP | 4.2 |
GPSLatitude (1) | 66 deg 3' 47.09" |
GPSLatitude | 66 deg 3' 47.09" N |
GPSLatitudeRef | North |
GPSLongitude (1) | 22 deg 31' 43.28" |
GPSLongitude | 22 deg 31' 43.28" E |
GPSLongitudeRef | East |
GPSMapDatum | WGS-84 |
GPSMeasureMode | 3-Dimensional Measurement |
GPSPosition | 66 deg 3' 47.09" N, 22 deg 31' 43.28" E |
GPSSatellites | 12 |
GPSStatus | Measurement Active |
GPSTimeStamp | 12:18:13.071 |
GPSVersionID | 2.3.0.0 |
GrainAmount | 0 |
GrayMixerAqua | -20 |
GrayMixerBlue | +5 |
GrayMixerGreen | -23 |
GrayMixerMagenta | +5 |
GrayMixerOrange | -69 |
GrayMixerPurple | +13 |
GrayMixerRed | -96 |
GrayMixerYellow | -49 |
GreenHue | 0 |
GreenSaturation | 0 |
HasCrop | True |
HasSettings | True |
Highlights2012 | -100 |
HyperfocalDistance | 132.21 m |
ImageHeight | 1000 |
ImageNumber | 0 |
ImageSize | 1500x1000 |
ImageWidth | 1500 |
ISO | 800 |
Lens | 24-70mm |
LensID (1) | 137 |
LensID | Sigma 24-70mm f/2.8 IF EX DG HSM or Tamron SP 24-70mm f/2.8 Di VC USD |
LensInfo | 24-70mm f/? |
LensManualDistortionAmount | 0 |
LensModel | 24-70mm |
LensProfileChromaticAberrationScale | 100 |
LensProfileDistortionScale | 100 |
LensProfileEnable | 1 |
LensProfileFilename | Canon (Sigma_24-70mm_F2.8_IF_EX_DG_HSM ) - RAW.lcp |
LensProfileName | Adobe (SIGMA 24-70mm F2.8 IF EX DG HSM, Canon) |
LensProfileSetup | LensDefaults |
LensProfileVignettingScale | 100 |
LensSerialNumber | 0000000000 |
LightValue | 6.2 |
LuminanceSmoothing | 0 |
Make | Canon |
MaxApertureValue | 2.8 |
Megapixels | 1.5 |
MeteringMode | Spot |
Model | Canon EOS 6D |
ModifyDate (1) | 2014:10:16 22:37:20+02:00 |
ModifyDate | 2014:10:16 22:37:20 |
ParametricDarks | 0 |
ParametricHighlights | 0 |
ParametricHighlightSplit | 75 |
ParametricLights | 0 |
ParametricMidtoneSplit | 50 |
ParametricShadows | 0 |
ParametricShadowSplit | 25 |
PerspectiveAspect | 0 |
PerspectiveHorizontal | 0 |
PerspectiveRotate | 0.0 |
PerspectiveScale | 100 |
PerspectiveUpright | 0 |
PerspectiveVertical | 0 |
PostCropVignetteAmount | 0 |
ProcessVersion | 6.7 |
ProfileDescription | ProPhoto RGB |
Province-State | Norrbotten County |
RecommendedExposureIndex | 800 |
RedHue | 0 |
RedSaturation | 0 |
Rights | All rights reserved |
ScaleFactor35efl | 3.6 |
SceneCaptureType | Standard |
SensitivityType | Recommended Exposure Index |
SerialNumber | 033024023782 |
Shadows2012 | 0 |
ShadowTint | 0 |
SharpenDetail | 25 |
SharpenEdgeMasking | 0 |
SharpenRadius | +1.0 |
Sharpness | 25 |
ShutterSpeed | 1/30 |
ShutterSpeedValue | 1/30 |
Software | Adobe Photoshop Lightroom 5.6 (Windows) |
SplitToningBalance | 0 |
SplitToningHighlightHue | 0 |
SplitToningHighlightSaturation | 0 |
SplitToningShadowHue | 0 |
SplitToningShadowSaturation | 0 |
State | Norrbotten County |
Tint | +5 |
ToneCurve | 0, 0, 255, 255 |
ToneCurveBlue | 0, 0, 255, 255 |
ToneCurveGreen | 0, 0, 255, 255 |
ToneCurveName | Linear |
ToneCurveName2012 | Linear |
ToneCurvePV2012 | 0, 0, 255, 255 |
ToneCurvePV2012Blue | 0, 0, 255, 255 |
ToneCurvePV2012Green | 0, 0, 255, 255 |
ToneCurvePV2012Red | 0, 0, 255, 255 |
ToneCurveRed | 0, 0, 255, 255 |
Version | 8.6 |
VignetteAmount | 0 |
WhiteBalance (1) | As Shot |
WhiteBalance | Auto |
Whites2012 | +33 |