Felt | Verdi |
AlreadyApplied | True |
AutoLateralCA | 0 |
AutoWhiteVersion | 134348800 |
BitsPerSample | 8 |
Blacks2012 | -45 |
BlueHue | 0 |
BlueSaturation | 0 |
BrightnessValue | -9.49453125 |
CameraProfile | Embedded |
Caption-Abstract | Please note that this is a long-exposure shot (158s). This shot has been taken around 11pm just half an hour after sunset in Trondheim. I could take two pictures after two hours. I was standing in a floating dock and boats and kayaks just made my evening ;).The atmospher was excellent! So quiet so beautiful. Hope you like the result. Please feel free to browse my photos here or find me by: |Website| ,|Facebook page| , |Instagram| ,|Google+| .|Twitter| .Please feel free to browse my photos here or find me by: |Website| ,|Facebook page| , |Instagram| ,|Google+| .|Twitter| . |
CircleOfConfusion | 0.003 mm |
City | Trondheim |
Clarity2012 | 0 |
ColorComponents | 3 |
ColorNoiseReduction | 0 |
ColorSpace | sRGB |
Contrast | Normal |
Contrast2012 | 0 |
ConvertToGrayscale | False |
Copyright | Aziz Nasuti |
CopyrightNotice | Aziz Nasuti |
Country | Norway |
Country-PrimaryLocationName | Norway |
CreateDate | 2015:07:28 21:54:20 |
CreatorTool | Adobe Photoshop Lightroom 5.7 (Windows) |
CustomRendered | Normal |
DateCreated (1) | 2015:07:28 21:54:20 |
DateCreated | 2015:07:28 |
DateTimeOriginal | 2015:07:28 21:54:20 |
DefringeGreenAmount | 0 |
DefringeGreenHueHi | 60 |
DefringeGreenHueLo | 40 |
DefringePurpleAmount | 0 |
DefringePurpleHueHi | 70 |
DefringePurpleHueLo | 30 |
Description | Please note that this is a long-exposure shot (158s). This shot has been taken around 11pm just half an hour after sunset in Trondheim. I could take two pictures after two hours. I was standing in a floating dock and boats and kayaks just made my evening ;).The atmospher was excellent! So quiet so beautiful. Hope you like the result. Please feel free to browse my photos here or find me by: |Website| ,|Facebook page| , |Instagram| ,|Google+| .|Twitter| .Please feel free to browse my photos here or find me by: |Website| ,|Facebook page| , |Instagram| ,|Google+| .|Twitter| . |
DigitalZoomRatio | 1 |
ExifImageHeight | 444 |
ExifImageWidth | 800 |
Exposure2012 | 0.00 |
ExposureCompensation | 0 |
ExposureMode | Manual |
ExposureProgram | Manual |
ExposureTime | 158 |
Flash | Off, Did not fire |
Format | image/jpeg |
GPSLatitude (1) | 63 deg 25' 52.54" |
GPSLatitude | 63 deg 25' 52.54" N |
GPSLatitudeRef | North |
GPSLongitude (1) | 10 deg 24' 18.05" |
GPSLongitude | 10 deg 24' 18.05" E |
GPSLongitudeRef | East |
GPSPosition | 63 deg 25' 52.54" N, 10 deg 24' 18.05" E |
GPSVersionID | 2.2.0.0 |
GrainAmount | 0 |
GreenHue | 0 |
GreenSaturation | 0 |
HasCrop | False |
HasSettings | True |
HierarchicalSubject | Adressa, NRKtrondelag, NRKtrøndelag, Nidelva, Norway, Norway. It lies on the east side of the river, Sør-Trøndelag, Trondheim, bakklandet, beautiful, beauty, blue, brown, colors, exploretrondelag, ga, gamle bybro, gamlebybro, golden hour, golden hour photos, kjøpmansgate, nrk, opplevtrondelag, primeglobaladventureNorway, reflection, sonya7r, summer, trondheim.water, weekly contest, wooden houses |
Highlights2012 | 0 |
HueAdjustmentAqua | 0 |
HueAdjustmentBlue | 0 |
HueAdjustmentGreen | 0 |
HueAdjustmentMagenta | 0 |
HueAdjustmentOrange | 0 |
HueAdjustmentPurple | 0 |
HueAdjustmentRed | 0 |
HueAdjustmentYellow | 0 |
ImageDescription | Please note that this is a long-exposure shot (158s). This shot has been taken around 11pm just half an hour after sunset in Trondheim. I could take two pictures after two hours. I was standing in a floating dock and boats and kayaks just made my evening ;).The atmospher was excellent! So quiet so beautiful. Hope you like the result. Please feel free to browse my photos here or find me by: |Website| ,|Facebook page| , |Instagram| ,|Google+| .|Twitter| .Please feel free to browse my photos here or find me by: |Website| ,|Facebook page| , |Instagram| ,|Google+| .|Twitter| . |
ImageHeight | 444 |
ImageSize | 800x444 |
ImageWidth | 800 |
IncrementalTemperature | +5 |
IncrementalTint | 0 |
ISO | 100 |
Keywords | Adressa, NRKtrondelag, NRKtrøndelag, Nidelva, Norway, Norway. It lies on the east side of the river, Sør-Trøndelag, Trondheim, bakklandet, beautiful, beauty, blue, brown, colors, exploretrondelag, ga, gamle bybro, gamlebybro, golden hour, golden hour photos, kjøpmansgate, nrk, opplevtrondelag, primeglobaladventureNorway, reflection, sonya7r, summer, trondheim.water, weekly contest, wooden houses |
Lens | ---- |
LensManualDistortionAmount | 0 |
LensModel | ---- |
LensProfileEnable | 0 |
LensProfileSetup | LensDefaults |
LightSource | Unknown |
LuminanceAdjustmentAqua | 0 |
LuminanceAdjustmentBlue | 0 |
LuminanceAdjustmentGreen | 0 |
LuminanceAdjustmentMagenta | 0 |
LuminanceAdjustmentOrange | 0 |
LuminanceAdjustmentPurple | 0 |
LuminanceAdjustmentRed | 0 |
LuminanceAdjustmentYellow | 0 |
LuminanceSmoothing | 0 |
Make | SONY |
Marked | True |
MaxApertureValue | 1.0 |
Megapixels | 0.355 |
MeteringMode | Multi-segment |
Model | ILCE-7R |
ModifyDate (1) | 2015:07:30 11:10:46+02:00 |
ModifyDate | 2015:07:30 15:24:56 |
ObjectName | Trondheim In Blue Hours! |
Orientation | Horizontal (normal) |
ParametricDarks | -7 |
ParametricHighlights | 0 |
ParametricHighlightSplit | 75 |
ParametricLights | 0 |
ParametricMidtoneSplit | 50 |
ParametricShadows | 0 |
ParametricShadowSplit | 25 |
PerspectiveAspect | 0 |
PerspectiveHorizontal | 0 |
PerspectiveRotate | 0.0 |
PerspectiveScale | 100 |
PerspectiveUpright | 0 |
PerspectiveVertical | 0 |
PostCropVignetteAmount | 0 |
ProcessVersion | 6.7 |
Province-State | Sør-Trøndelag |
Rating | 4 |
RecommendedExposureIndex | 100 |
RedHue | 0 |
RedSaturation | 0 |
Rights | Aziz Nasuti |
Saturation (1) | -9 |
Saturation | Normal |
SaturationAdjustmentAqua | 0 |
SaturationAdjustmentBlue | 0 |
SaturationAdjustmentGreen | 0 |
SaturationAdjustmentMagenta | 0 |
SaturationAdjustmentOrange | 0 |
SaturationAdjustmentPurple | 0 |
SaturationAdjustmentRed | 0 |
SaturationAdjustmentYellow | 0 |
ScaleFactor35efl | 9.7 |
SceneCaptureType | Standard |
SceneType | Directly photographed |
SensitivityType | Recommended Exposure Index |
Shadows2012 | 0 |
ShadowTint | 0 |
SharpenDetail | 25 |
SharpenEdgeMasking | 0 |
SharpenRadius | +1.0 |
Sharpness (1) | 0 |
Sharpness | Normal |
ShutterSpeed | 158 |
ShutterSpeedValue | 158 |
Software | ACDSee Pro 7 |
SplitToningBalance | 0 |
SplitToningHighlightHue | 0 |
SplitToningHighlightSaturation | 0 |
SplitToningShadowHue | 0 |
SplitToningShadowSaturation | 0 |
State | Sør-Trøndelag |
Subject | Adressa, NRKtrondelag, NRKtrøndelag, Nidelva, Norway, Norway. It lies on the east side of the river, Sør-Trøndelag, Trondheim, bakklandet, beautiful, beauty, blue, brown, colors, exploretrondelag, ga, gamle bybro, gamlebybro, golden hour, golden hour photos, kjøpmansgate, nrk, opplevtrondelag, primeglobaladventureNorway, reflection, sonya7r, summer, trondheim.water, weekly contest, wooden houses |
Title | Trondheim In Blue Hours! |
ToneCurve | 0, 0, 255, 255 |
ToneCurveBlue | 0, 0, 255, 255 |
ToneCurveGreen | 0, 0, 255, 255 |
ToneCurveName | Linear |
ToneCurveName2012 | Linear |
ToneCurvePV2012 | 0, 0, 255, 255 |
ToneCurvePV2012Blue | 0, 0, 255, 255 |
ToneCurvePV2012Green | 0, 0, 255, 255 |
ToneCurvePV2012Red | 0, 0, 255, 255 |
ToneCurveRed | 0, 0, 255, 255 |
Version | 8.7 |
Vibrance | 0 |
VignetteAmount | 0 |
WhiteBalance (1) | Custom |
WhiteBalance | Auto |
Whites2012 | +35 |