Felt | Verdi |
AlreadyApplied | True |
Aperture | 4.0 |
ApertureValue | 4.0 |
Artist | Vidar M. Jacobsen |
BitsPerSample | 8 |
BlueHue | 0 |
BlueSaturation | 0 |
Brightness | +23 |
BrightnessValue | 2.31796875 |
By-line | Vidar M. Jacobsen |
CameraProfile | Adobe Standard |
CameraSerialNumber | 0661377 |
Caption-Abstract | Nordic Philip |
ChromaticAberrationB | 0 |
ChromaticAberrationR | 0 |
CircleOfConfusion | 0.020 mm |
Clarity | -11 |
ColorComponents | 3 |
ColorMode | RGB |
ColorNoiseReduction | 90 |
ColorNoiseReductionDetail | 50 |
ColorSpace | sRGB |
ColorTemperature | 5400 |
ColorTransform | YCbCr |
Contrast (2) | +7 |
Contrast | Normal |
ConvertToGrayscale | False |
CreateDate (1) | 2015:11:12 16:24:11+01:00 |
CreateDate | 2015:11:12 16:24:11 |
Creator | Vidar M. Jacobsen |
CreatorTool | SLT-A77V v1.07 |
CustomRendered | Normal |
DateAcquired | 2015:11:12 09:52:33.926 |
DateCreated | 2015:11:12 |
DateTimeDigitized | 2015:11:12 16:24:11+01:00 |
DateTimeOriginal (1) | 2015:11:12 16:24:11+01:00 |
DateTimeOriginal | 2015:11:12 16:24:11 |
Defringe | 0 |
Description | Nordic Philip |
ExifImageHeight | 4000 |
ExifImageWidth | 6000 |
Exposure | 0.00 |
ExposureCompensation | 0 |
ExposureMode | Manual |
ExposureProgram | Manual |
ExposureTime | 1/20 |
FillLight | 0 |
Flash | Off, Did not fire |
FlashFired | False |
FlashFunction | False |
FlashMode | Off |
FlashRedEyeMode | False |
FlashReturn | No return detection |
FNumber | 4.0 |
FocalLength | 55.0 mm |
FocalLength35efl | 55.0 mm (35 mm equivalent: 82.0 mm) |
FocalLengthIn35mmFormat | 82 mm |
Format | image/jpeg |
FOV | 24.8 deg |
GrainAmount | 0 |
GreenHue | 0 |
GreenSaturation | 0 |
HasCrop | False |
HasSettings | True |
HighlightRecovery | 0 |
HueAdjustmentAqua | 0 |
HueAdjustmentBlue | 0 |
HueAdjustmentGreen | 0 |
HueAdjustmentMagenta | 0 |
HueAdjustmentOrange | 0 |
HueAdjustmentPurple | 0 |
HueAdjustmentRed | 0 |
HueAdjustmentYellow | 0 |
HyperfocalDistance | 37.53 m |
ICCProfileName | sRGB IEC61966-2.1 |
ImageDescription | Nordic Philip |
ImageHeight | 4000 |
ImageSize | 6000x4000 |
ImageWidth | 6000 |
ISO | 400 |
Keywords | Drammen, Drammensfjorden, Containerskip, Skip, Maritimt |
LastKeywordIPTC | Drammen, Drammensfjorden, Containerskip, Skip, Maritimt |
LastKeywordXMP | Drammen, Drammensfjorden, Containerskip, Skip, Maritimt |
Lens | DT 55-200mm F4-5.6 |
LensID (1) | 49 |
LensID | Sony DT 55-200mm F4-5.6 (SAL55200) |
LensInfo | 55-200mm f/4-5.6 |
LensManualDistortionAmount | 0 |
LensManufacturer | Sony |
LensModel (1) | 55-200mm |
LensModel | DT 55-200mm F4-5.6 |
LensProfileEnable | 0 |
LensProfileSetup | LensDefaults |
LightSource | Unknown |
LightValue | 6.3 |
LuminanceAdjustmentAqua | 0 |
LuminanceAdjustmentBlue | 0 |
LuminanceAdjustmentGreen | 0 |
LuminanceAdjustmentMagenta | 0 |
LuminanceAdjustmentOrange | 0 |
LuminanceAdjustmentPurple | 0 |
LuminanceAdjustmentRed | 0 |
LuminanceAdjustmentYellow | 0 |
LuminanceNoiseReductionContrast | 0 |
LuminanceNoiseReductionDetail | 50 |
LuminanceSmoothing | 93 |
Make | SONY |
MaxApertureValue | 4.0 |
Megapixels | 24.0 |
MeteringMode | Center-weighted average |
Model | SLT-A77V |
ModifyDate (1) | 2015:11:13 09:06:36+01:00 |
ModifyDate | 2015:11:13 09:06:36 |
Orientation | Horizontal (normal) |
ParametricDarks | 0 |
ParametricHighlights | 0 |
ParametricHighlightSplit | 75 |
ParametricLights | 0 |
ParametricMidtoneSplit | 50 |
ParametricShadows | 0 |
ParametricShadowSplit | 25 |
PerspectiveHorizontal | 0 |
PerspectiveRotate | 0.0 |
PerspectiveScale | 100 |
PerspectiveVertical | 0 |
PostCropVignetteAmount | 0 |
ProcessVersion | 5.7 |
ProfileDescription | sRGB IEC61966-2.1 |
Rating | 5 |
RatingPercent | 99 |
RawFileName | Sony K029 1364 Nordic Philip.ARW |
RecommendedExposureIndex | 400 |
RedHue | 0 |
RedSaturation | 0 |
Saturation (2) | +39 |
Saturation | Normal |
SaturationAdjustmentAqua | 0 |
SaturationAdjustmentBlue | 0 |
SaturationAdjustmentGreen | 0 |
SaturationAdjustmentMagenta | 0 |
SaturationAdjustmentOrange | 0 |
SaturationAdjustmentPurple | 0 |
SaturationAdjustmentRed | 0 |
SaturationAdjustmentYellow | 0 |
ScaleFactor35efl | 1.5 |
SceneCaptureType | Standard |
SceneType | Directly photographed |
SensitivityType (1) | 2 |
SensitivityType | Recommended Exposure Index |
Shadows | 14 |
ShadowTint | 0 |
SharpenDetail | 25 |
SharpenEdgeMasking | 0 |
SharpenRadius | +1.0 |
Sharpness (2) | 25 |
Sharpness | Normal |
ShutterSpeed | 1/20 |
ShutterSpeedValue | 1/20 |
Software | Adobe Photoshop Elements 9.0 Windows |
SplitToningBalance | 0 |
SplitToningHighlightHue | 0 |
SplitToningHighlightSaturation | 0 |
SplitToningShadowHue | 0 |
SplitToningShadowSaturation | 0 |
Subject | Drammen, Drammensfjorden, Containerskip, Skip, Maritimt |
Tint | +8 |
Title | Nordic Philip |
ToneCurve | 0, 0, 32, 22, 64, 56, 128, 128, 192, 196, 255, 255 |
ToneCurveName | Medium Contrast |
URL_List | |
Version | 6.5 |
Vibrance | +33 |
VignetteAmount | 0 |
WhiteBalance (2) | As Shot |
WhiteBalance | Auto |
XPAuthor | Vidar M. Jacobsen |
XPKeywords | Drammen;Drammensfjorden;Containerskip;Skip;Maritimt |
XPTitle | Nordic Philip |