Felt | Verdi |
AlreadyApplied | True |
Aperture | 11.0 |
ApertureValue | 11.0 |
Artist | Jonas M Eriksson |
AuthorsPosition | Fotograf |
AutoLateralCA | 1 |
AutoWhiteVersion | 134348800 |
BitsPerSample | 8 |
Blacks2012 | -43 |
BlueHue | 0 |
BlueSaturation | 0 |
BrightnessValue | 9.94296875 |
By-line | Jonas M Eriksson |
By-lineTitle | Fotograf |
CameraProfile | Adobe Standard |
CircleOfConfusion | 0.011 mm |
Clarity2012 | +9 |
ColorComponents | 3 |
ColorNoiseReduction | 25 |
ColorNoiseReductionDetail | 50 |
ColorNoiseReductionSmoothness | 50 |
ColorSpace | sRGB |
ColorTemperature | 5500 |
ColorTransform | YCbCr |
Contrast | Normal |
Contrast2012 | +24 |
ConvertToGrayscale | True |
Copyright | jmefoto@gmail.com |
CopyrightFlag | True |
CopyrightNotice | jmefoto@gmail.com |
CreateDate | 2015:05:03 12:50:49 |
Creator | Jonas M Eriksson |
CreatorAddress | Elsetåsen 6 |
CreatorCity | Skien |
CreatorCountry | Norway |
CreatorPostalCode | 3731 |
CreatorTool | Adobe Photoshop Lightroom 6.0 (Macintosh) |
CreatorWorkEmail | jmefoto@gmail.com |
CreatorWorkTelephone | +4741303803 |
CreatorWorkURL | www.jmefoto.com |
CropAngle | 0.766499 |
CropBottom | 0.946812 |
CropConstrainToWarp | 0 |
CropLeft | 0.087002 |
CropRight | 0.980478 |
CropTop | 0.029889 |
CustomRendered | Normal |
DateCreated (1) | 2015:05:03 12:50:49 |
DateCreated | 2015:05:03 |
DateTimeOriginal | 2015:05:03 12:50:49 |
DigitalZoomRatio | 1 |
Exposure2012 | 0.00 |
ExposureCompensation | 0 |
ExposureMode | Auto |
ExposureProgram | Aperture-priority AE |
ExposureTime | 1/200 |
Flash | Off, Did not fire |
FNumber | 11.0 |
FocalLength | 9.3 mm |
FocalLength35efl | 9.3 mm (35 mm equivalent: 25.0 mm) |
FocalLengthIn35mmFormat | 25 mm |
Format | image/jpeg |
FOV | 71.5 deg |
GradientBasedCorrActive | true |
GradientBasedCorrAmount | 1.000000 |
GradientBasedCorrBrightness | 0.000000 |
GradientBasedCorrClarity2012 | 0.000000 |
GradientBasedCorrContrast2012 | 0.000000 |
GradientBasedCorrDefringe | 0.000000 |
GradientBasedCorrExposure2012 | -0.069596 |
GradientBasedCorrHighlights2012 | 0.000000 |
GradientBasedCorrHue | 240.000000 |
GradientBasedCorrLuminanceNoise | 0.000000 |
GradientBasedCorrMaskFullX | 0.470222 |
GradientBasedCorrMaskFullY | 0.037972 |
GradientBasedCorrMaskValue | 1.000000 |
GradientBasedCorrMaskWhat | Mask/Gradient |
GradientBasedCorrMaskZeroX | 0.469965 |
GradientBasedCorrMaskZeroY | 0.326750 |
GradientBasedCorrMoire | 0.000000 |
GradientBasedCorrSaturation | 0.000000 |
GradientBasedCorrShadows2012 | 0.000000 |
GradientBasedCorrSharpness | 0.000000 |
GradientBasedCorrTemperature | 0.000000 |
GradientBasedCorrTint | 0.000000 |
GradientBasedCorrWhat | Correction |
GrainAmount | 0 |
GrayMixerAqua | -18 |
GrayMixerBlue | +11 |
GrayMixerGreen | -27 |
GrayMixerMagenta | +4 |
GrayMixerOrange | -19 |
GrayMixerPurple | +16 |
GrayMixerRed | -10 |
GrayMixerYellow | -23 |
GreenHue | 0 |
GreenSaturation | 0 |
HasCrop | True |
HasSettings | True |
HierarchicalSubject | London |
Highlights2012 | -100 |
HyperfocalDistance | 0.71 m |
ImageHeight | 1662 |
ImageSize | 2500x1662 |
ImageWidth | 2500 |
ISO | 200 |
Keywords | London |
Lens | 24-70mm F1.8-2.8 |
LensDistortInfo | 35088/32768 -288696374/1073741824 146769431/1073741824 -37338960/1073741824 |
LensInfo | 8.8-25.7mm f/1.8-2.8 |
LensManualDistortionAmount | 0 |
LensModel | 24-70mm F1.8-2.8 |
LensProfileChromaticAberrationScale | 100 |
LensProfileDistortionScale | 100 |
LensProfileEnable | 1 |
LensProfileFilename | Sony DSC-RX1 - RAW.lcp |
LensProfileName | Adobe (Sony DSC-RX1) |
LensProfileSetup | Custom |
LensProfileVignettingScale | 100 |
LightSource | Unknown |
LightValue | 13.6 |
LuminanceNoiseReductionContrast | 0 |
LuminanceNoiseReductionDetail | 50 |
LuminanceSmoothing | 41 |
Make | SONY |
Marked | True |
MaxApertureValue | 2.0 |
Megapixels | 4.2 |
MeteringMode | Multi-segment |
Model | DSC-RX100M3 |
ModifyDate (1) | 2015:10:10 00:46:54+02:00 |
ModifyDate | 2015:10:10 00:46:54 |
Orientation | Horizontal (normal) |
PaintCorrectionActive | true |
PaintCorrectionAmount | 1.000000 |
PaintCorrectionBrightness | 0.000000 |
PaintCorrectionClarity2012 (1) | 0.655172 |
PaintCorrectionClarity2012 (4) | 0.311282 |
PaintCorrectionClarity2012 | 0.000000 |
PaintCorrectionContrast2012 | 0.000000 |
PaintCorrectionDefringe | 0.000000 |
PaintCorrectionExposure2012 (1) | 0.155055 |
PaintCorrectionExposure2012 (2) | -0.115754 |
PaintCorrectionExposure2012 (3) | -0.100344 |
PaintCorrectionExposure2012 (4) | 0.140123 |
PaintCorrectionExposure2012 (5) | -0.087944 |
PaintCorrectionExposure2012 (6) | -0.139837 |
PaintCorrectionExposure2012 (7) | -0.061353 |
PaintCorrectionExposure2012 (8) | 0.094538 |
PaintCorrectionExposure2012 | -0.027523 |
PaintCorrectionHighlights2012 | 0.000000 |
PaintCorrectionHue | 240.000000 |
PaintCorrectionLuminanceNoise | 0.000000 |
PaintCorrectionMaskCenterWeight (1) | 0.212963 |
PaintCorrectionMaskCenterWeight | 0.052664 |
PaintCorrectionMaskFlow | 0.926612 |
PaintCorrectionMaskRadius (1) | 0.042842 |
PaintCorrectionMaskRadius (10) | 0.065805 |
PaintCorrectionMaskRadius (11) | 0.066011 |
PaintCorrectionMaskRadius (12) | 0.065568 |
PaintCorrectionMaskRadius (13) | 0.067606 |
PaintCorrectionMaskRadius (14) | 0.067531 |
PaintCorrectionMaskRadius (15) | 0.067544 |
PaintCorrectionMaskRadius (16) | 0.068099 |
PaintCorrectionMaskRadius (17) | 0.064280 |
PaintCorrectionMaskRadius (18) | 0.064412 |
PaintCorrectionMaskRadius (19) | 0.063763 |
PaintCorrectionMaskRadius (2) | 0.063326 |
PaintCorrectionMaskRadius (20) | 0.064222 |
PaintCorrectionMaskRadius (21) | 0.064058 |
PaintCorrectionMaskRadius (22) | 0.063753 |
PaintCorrectionMaskRadius (23) | 0.174186 |
PaintCorrectionMaskRadius (24) | 0.173146 |
PaintCorrectionMaskRadius (25) | 0.176814 |
PaintCorrectionMaskRadius (26) | 0.176941 |
PaintCorrectionMaskRadius (27) | 0.168407 |
PaintCorrectionMaskRadius (28) | 0.053712 |
PaintCorrectionMaskRadius (29) | 0.056207 |
PaintCorrectionMaskRadius (3) | 0.063215 |
PaintCorrectionMaskRadius (30) | 0.056914 |
PaintCorrectionMaskRadius (31) | 0.057051 |
PaintCorrectionMaskRadius (32) | 0.057340 |
PaintCorrectionMaskRadius (33) | 0.057191 |
PaintCorrectionMaskRadius (34) | 0.055705 |
PaintCorrectionMaskRadius (35) | 0.055710 |
PaintCorrectionMaskRadius (36) | 0.055590 |
PaintCorrectionMaskRadius (37) | 0.055621 |
PaintCorrectionMaskRadius (38) | 0.058192 |
PaintCorrectionMaskRadius (39) | 0.056848 |
PaintCorrectionMaskRadius (4) | 0.045121 |
PaintCorrectionMaskRadius (40) | 0.057870 |
PaintCorrectionMaskRadius (41) | 0.056816 |
PaintCorrectionMaskRadius (42) | 0.152020 |
PaintCorrectionMaskRadius (43) | 0.152301 |
PaintCorrectionMaskRadius (44) | 0.078124 |
PaintCorrectionMaskRadius (45) | 0.079346 |
PaintCorrectionMaskRadius (46) | 0.078882 |
PaintCorrectionMaskRadius (47) | 0.078979 |
PaintCorrectionMaskRadius (48) | 0.055761 |
PaintCorrectionMaskRadius (49) | 0.055856 |
PaintCorrectionMaskRadius (5) | 0.118233 |
PaintCorrectionMaskRadius (6) | 0.118170 |
PaintCorrectionMaskRadius (7) | 0.113943 |
PaintCorrectionMaskRadius (8) | 0.114142 |
PaintCorrectionMaskRadius (9) | 0.065901 |
PaintCorrectionMaskRadius | 0.056522 |
PaintCorrectionMaskValue | 1.000000 |
PaintCorrectionMaskWhat | Mask/Paint |
PaintCorrectionMoire | 0.000000 |
PaintCorrectionSaturation (1) | 0.753033 |
PaintCorrectionSaturation | 0.000000 |
PaintCorrectionShadows2012 (1) | 0.123438 |
PaintCorrectionShadows2012 | 0.000000 |
PaintCorrectionSharpness (4) | 0.075903 |
PaintCorrectionSharpness | 0.000000 |
PaintCorrectionTemperature | 0.000000 |
PaintCorrectionTint | 0.000000 |
PaintCorrectionWhat | Correction |
ParametricDarks | 0 |
ParametricHighlights | 0 |
ParametricHighlightSplit | 75 |
ParametricLights | 0 |
ParametricMidtoneSplit | 50 |
ParametricShadows | 0 |
ParametricShadowSplit | 25 |
PerspectiveAspect | 0 |
PerspectiveHorizontal | 0 |
PerspectiveRotate | 0.0 |
PerspectiveScale | 100 |
PerspectiveUpright | 4 |
PerspectiveVertical | +7 |
PostCropVignetteAmount | 0 |
ProcessVersion | 6.7 |
ProfileDescription | sRGB IEC61966-2.1 |
Rating | 3 |
RawFileName | Sony_20150503_DSC01266.jpg |
RecommendedExposureIndex | 200 |
RedHue | 0 |
RedSaturation | 0 |
Rights | jmefoto@gmail.com |
Saturation | Normal |
ScaleFactor35efl | 2.7 |
SceneCaptureType | Standard |
SceneType | Directly photographed |
SensitivityType | Recommended Exposure Index |
Shadows2012 | +100 |
ShadowTint | 0 |
SharpenDetail | 25 |
SharpenEdgeMasking | 23 |
SharpenRadius | +1.0 |
Sharpness (1) | 71 |
Sharpness | Normal |
ShutterSpeed | 1/200 |
ShutterSpeedValue | 1/200 |
Software | Adobe Photoshop Lightroom 6.0 (Macintosh) |
SplitToningBalance | 0 |
SplitToningHighlightHue | 0 |
SplitToningHighlightSaturation | 0 |
SplitToningShadowHue | 0 |
SplitToningShadowSaturation | 0 |
Subject | London |
Tint | +12 |
ToneCurve | 0, 0, 255, 255 |
ToneCurveBlue | 0, 0, 255, 255 |
ToneCurveGreen | 0, 0, 255, 255 |
ToneCurveName | Linear |
ToneCurveName2012 | Linear |
ToneCurvePV2012 | 0, 0, 255, 255 |
ToneCurvePV2012Blue | 0, 0, 255, 255 |
ToneCurvePV2012Green | 0, 0, 255, 255 |
ToneCurvePV2012Red | 0, 0, 255, 255 |
ToneCurveRed | 0, 0, 255, 255 |
URL | www.jmefoto.com |
UsageTerms | © Jonas M Eriksson |
Version | 9.0 |
VignetteAmount | 0 |
WebStatement | www.jmefoto.com |
WhiteBalance (1) | As Shot |
WhiteBalance | Auto |
Whites2012 | +58 |