Felt | Verdi |
AlreadyApplied | True |
Aperture | 8.0 |
ApertureValue | 8.0 |
ApproximateFocusDistance | 4294967295 |
Artist | Mikkel Nordbaek |
AutoLateralCA | 1 |
AutoWhiteVersion | 134348800 |
BitsPerSample | 8 |
Blacks2012 | -29 |
BlueHue | 0 |
BlueSaturation | 0 |
By-line | Mikkel Nordbaek |
CameraProfile | Adobe Standard |
CircGradBasedCorrActive | true |
CircGradBasedCorrAmount | 1.000000 |
CircGradBasedCorrBrightness | 0.000000 |
CircGradBasedCorrClarity2012 (1) | 0.294120 |
CircGradBasedCorrClarity2012 | 0.000000 |
CircGradBasedCorrContrast2012 | 0.000000 |
CircGradBasedCorrDefringe | 0.000000 |
CircGradBasedCorrExposure2012 (1) | 0.132250 |
CircGradBasedCorrExposure2012 (2) | -0.176500 |
CircGradBasedCorrExposure2012 (5) | 0.147000 |
CircGradBasedCorrExposure2012 (6) | 0.176500 |
CircGradBasedCorrExposure2012 (7) | 0.161750 |
CircGradBasedCorrExposure2012 (8) | 0.058750 |
CircGradBasedCorrExposure2012 | -0.073500 |
CircGradBasedCorrHighlights2012 | 0.000000 |
CircGradBasedCorrHue (1) | 24.000000 |
CircGradBasedCorrHue (8) | 3.000000 |
CircGradBasedCorrHue | 0.000000 |
CircGradBasedCorrLocalBlacks2012 | 0.000000 |
CircGradBasedCorrLocalDehaze | 0.000000 |
CircGradBasedCorrLocalWhites2012 | 0.000000 |
CircGradBasedCorrLuminanceNoise | 0.000000 |
CircGradBasedCorrMaskAngle (1) | 0.587613 |
CircGradBasedCorrMaskAngle (2) | 31.179800 |
CircGradBasedCorrMaskAngle (3) | 0.000000 |
CircGradBasedCorrMaskAngle (6) | 26.881800 |
CircGradBasedCorrMaskAngle (8) | 41.811500 |
CircGradBasedCorrMaskAngle | 31.360100 |
CircGradBasedCorrMaskBottom (1) | 0.566880 |
CircGradBasedCorrMaskBottom (2) | 1.016180 |
CircGradBasedCorrMaskBottom (3) | 0.722725 |
CircGradBasedCorrMaskBottom (4) | 0.744558 |
CircGradBasedCorrMaskBottom (5) | 0.554670 |
CircGradBasedCorrMaskBottom (6) | 0.626821 |
CircGradBasedCorrMaskBottom (7) | 0.517953 |
CircGradBasedCorrMaskBottom (8) | 0.717692 |
CircGradBasedCorrMaskBottom | 1.027450 |
CircGradBasedCorrMaskFeather | +100 |
CircGradBasedCorrMaskFlipped | true |
CircGradBasedCorrMaskLeft (1) | 0.598688 |
CircGradBasedCorrMaskLeft (2) | 0.967695 |
CircGradBasedCorrMaskLeft (3) | 0.795117 |
CircGradBasedCorrMaskLeft (4) | 0.910752 |
CircGradBasedCorrMaskLeft (5) | 0.667879 |
CircGradBasedCorrMaskLeft (6) | 0.501300 |
CircGradBasedCorrMaskLeft (7) | 0.362961 |
CircGradBasedCorrMaskLeft (8) | 0.635781 |
CircGradBasedCorrMaskLeft | -0.057198 |
CircGradBasedCorrMaskMidpoint | +50 |
CircGradBasedCorrMaskRight (1) | 1.148210 |
CircGradBasedCorrMaskRight (2) | 0.958963 |
CircGradBasedCorrMaskRight (3) | 0.859701 |
CircGradBasedCorrMaskRight (4) | 0.974789 |
CircGradBasedCorrMaskRight (5) | 0.747847 |
CircGradBasedCorrMaskRight (6) | 0.591005 |
CircGradBasedCorrMaskRight (7) | 0.386981 |
CircGradBasedCorrMaskRight (8) | 0.723980 |
CircGradBasedCorrMaskRight | 0.182534 |
CircGradBasedCorrMaskRoundness | 0 |
CircGradBasedCorrMaskTop (1) | 0.300189 |
CircGradBasedCorrMaskTop (2) | 0.628189 |
CircGradBasedCorrMaskTop (3) | 0.673593 |
CircGradBasedCorrMaskTop (4) | 0.695843 |
CircGradBasedCorrMaskTop (5) | 0.505024 |
CircGradBasedCorrMaskTop (6) | 0.505730 |
CircGradBasedCorrMaskTop (7) | 0.491619 |
CircGradBasedCorrMaskTop (8) | 0.534591 |
CircGradBasedCorrMaskTop | 0.620645 |
CircGradBasedCorrMaskValue | 1.000000 |
CircGradBasedCorrMaskVersion | +2 |
CircGradBasedCorrMaskWhat | Mask/CircularGradient |
CircGradBasedCorrMoire | 0.000000 |
CircGradBasedCorrSaturation (1) | 0.705880 |
CircGradBasedCorrSaturation (16) | 0.790000 |
CircGradBasedCorrSaturation (2) | 0.960000 |
CircGradBasedCorrSaturation | 0.000000 |
CircGradBasedCorrShadows2012 | 0.000000 |
CircGradBasedCorrSharpness | 0.000000 |
CircGradBasedCorrTemperature (1) | 0.632350 |
CircGradBasedCorrTemperature (4) | 0.029410 |
CircGradBasedCorrTemperature (6) | 0.205880 |
CircGradBasedCorrTemperature (7) | 0.117650 |
CircGradBasedCorrTemperature (8) | 0.397060 |
CircGradBasedCorrTemperature | 0.000000 |
CircGradBasedCorrTint (1) | 0.176470 |
CircGradBasedCorrTint (8) | 0.588240 |
CircGradBasedCorrTint | 0.000000 |
CircGradBasedCorrWhat | Correction |
CircleOfConfusion | 0.019 mm |
Clarity2012 | +46 |
ColorComponents | 3 |
ColorNoiseReduction | 100 |
ColorNoiseReductionDetail | 50 |
ColorNoiseReductionSmoothness | 50 |
ColorSpace | sRGB |
ColorTemperature | 7368 |
Contrast2012 | +9 |
ConvertToGrayscale | False |
Copyright | Mikkel Nordbaek |
CopyrightNotice | Mikkel Nordbaek |
CreateDate (1) | 2016:10:09 18:12:55.21 |
CreateDate | 2016:10:09 18:12:55 |
Creator | Mikkel Nordbaek |
CreatorTool | Adobe Photoshop Lightroom 6.6.1 (Windows) |
CropAngle | 0 |
CropBottom | 0.858603 |
CropConstrainToWarp | 0 |
CropLeft | 0 |
CropRight | 1 |
CropTop | 0.109029 |
CustomRendered | Normal |
DateCreated (1) | 2016:10:09 18:12:55.21 |
DateCreated | 2016:10:09 |
DateTimeOriginal | 2016:10:09 18:12:55 |
DefringeGreenAmount | 0 |
DefringeGreenHueHi | 60 |
DefringeGreenHueLo | 40 |
DefringePurpleAmount | 0 |
DefringePurpleHueHi | 70 |
DefringePurpleHueLo | 30 |
Dehaze | 0 |
DOF | inf (4.77 m - inf) |
ExifImageHeight | 2591 |
ExifImageWidth | 5184 |
Exposure2012 | +0.07 |
ExposureCompensation | 0 |
ExposureMode | Manual |
ExposureProgram | Manual |
ExposureTime | 0.6 |
Firmware | 1.0.9 |
Flash | Off, Did not fire |
FlashCompensation | 0 |
FNumber | 8.0 |
FocalLength | 27.0 mm |
FocalLength35efl | 27.0 mm (35 mm equivalent: 42.5 mm) |
Format | image/jpeg |
FOV | 45.9 deg |
GradientBasedCorrActive | true |
GradientBasedCorrAmount | 1.000000 |
GradientBasedCorrBrightness | 0.000000 |
GradientBasedCorrClarity2012 (1) | 0.235290 |
GradientBasedCorrClarity2012 | 0.000000 |
GradientBasedCorrContrast2012 (1) | 0.073530 |
GradientBasedCorrContrast2012 | 0.000000 |
GradientBasedCorrDefringe | 0.000000 |
GradientBasedCorrExposure2012 (1) | -0.103000 |
GradientBasedCorrExposure2012 | -0.132250 |
GradientBasedCorrHighlights2012 (1) | -0.161760 |
GradientBasedCorrHighlights2012 | 0.000000 |
GradientBasedCorrHue (1) | 12.000000 |
GradientBasedCorrHue | 0.000000 |
GradientBasedCorrLocalBlacks2012 | 0.000000 |
GradientBasedCorrLocalDehaze | 0.000000 |
GradientBasedCorrLocalWhites2012 | 0.000000 |
GradientBasedCorrLuminanceNoise (1) | 1.000000 |
GradientBasedCorrLuminanceNoise | 0.000000 |
GradientBasedCorrMaskCenterWeight | 0.000000 |
GradientBasedCorrMaskFlow | 1.000000 |
GradientBasedCorrMaskFullX (1) | 0.583985 |
GradientBasedCorrMaskFullX | -0.047819 |
GradientBasedCorrMaskFullY (1) | 0.266449 |
GradientBasedCorrMaskFullY | 0.464798 |
GradientBasedCorrMaskRadius (1) | 0.062270 |
GradientBasedCorrMaskRadius | 0.044422 |
GradientBasedCorrMaskValue (5) | 0.000000 |
GradientBasedCorrMaskValue | 1.000000 |
GradientBasedCorrMaskWhat (8) | Mask/Paint |
GradientBasedCorrMaskWhat | Mask/Gradient |
GradientBasedCorrMaskZeroX (1) | 0.583985 |
GradientBasedCorrMaskZeroX | 0.220558 |
GradientBasedCorrMaskZeroY (1) | 0.503959 |
GradientBasedCorrMaskZeroY | 0.470014 |
GradientBasedCorrMoire | 0.000000 |
GradientBasedCorrSaturation (1) | 0.352940 |
GradientBasedCorrSaturation (2) | 0.820000 |
GradientBasedCorrSaturation | 0.000000 |
GradientBasedCorrShadows2012 (1) | -0.044120 |
GradientBasedCorrShadows2012 | 0.000000 |
GradientBasedCorrSharpness | 0.000000 |
GradientBasedCorrTemperature (1) | 0.161760 |
GradientBasedCorrTemperature | 0.000000 |
GradientBasedCorrTint (1) | 0.205880 |
GradientBasedCorrTint | 0.000000 |
GradientBasedCorrWhat | Correction |
GrainAmount | 0 |
GreenHue | 0 |
GreenSaturation | 0 |
HasCrop | True |
HasSettings | True |
Highlights2012 | -100 |
HueAdjustmentAqua | 0 |
HueAdjustmentBlue | 0 |
HueAdjustmentGreen | 0 |
HueAdjustmentMagenta | 0 |
HueAdjustmentOrange | 0 |
HueAdjustmentPurple | 0 |
HueAdjustmentRed | 0 |
HueAdjustmentYellow | 0 |
HyperfocalDistance | 4.77 m |
ImageHeight | 2591 |
ImageNumber | 0 |
ImageSize | 5184x2591 |
ImageWidth | 5184 |
ISO | 100 |
Lens | EF-S18-55mm f/3.5-5.6 III |
LensID (1) | 53 |
LensID | Canon EF-S 18-55mm f/3.5-5.6 III |
LensInfo | 18-55mm f/? |
LensManualDistortionAmount | 0 |
LensModel | EF-S18-55mm f/3.5-5.6 III |
LensProfileChromaticAberrationScale | 100 |
LensProfileDistortionScale | 100 |
LensProfileEnable | 1 |
LensProfileFilename | Canon EOS 50D (Canon EF-S 18-55mm f3.5-5.6 IS STM) - RAW.lcp |
LensProfileName | Adobe (Canon EF-S 18-55mm f/3.5-5.6 IS STM) |
LensProfileSetup | Custom |
LensProfileVignettingScale | 100 |
LightValue | 6.7 |
LuminanceAdjustmentAqua | -24 |
LuminanceAdjustmentBlue | -25 |
LuminanceAdjustmentGreen | 0 |
LuminanceAdjustmentMagenta | 0 |
LuminanceAdjustmentOrange | 0 |
LuminanceAdjustmentPurple | 0 |
LuminanceAdjustmentRed | 0 |
LuminanceAdjustmentYellow | 0 |
LuminanceNoiseReductionContrast | 0 |
LuminanceNoiseReductionDetail | 50 |
LuminanceSmoothing | 40 |
Make | Canon |
MaxApertureValue | 4.0 |
Megapixels | 13.4 |
MeteringMode | Multi-segment |
Model | Canon EOS 550D |
ModifyDate (1) | 2016:10:11 23:04:02+02:00 |
ModifyDate | 2016:10:11 23:04:02 |
PaintCorrectionActive | true |
PaintCorrectionAmount | 1.000000 |
PaintCorrectionBrightness | 0.000000 |
PaintCorrectionClarity2012 | 0.000000 |
PaintCorrectionContrast2012 | 0.000000 |
PaintCorrectionDefringe | 0.000000 |
PaintCorrectionExposure2012 | 0.235250 |
PaintCorrectionHighlights2012 | 0.000000 |
PaintCorrectionHue | 0.000000 |
PaintCorrectionLocalBlacks2012 | 0.000000 |
PaintCorrectionLocalDehaze | 0.000000 |
PaintCorrectionLocalWhites2012 | 0.000000 |
PaintCorrectionLuminanceNoise | 0.000000 |
PaintCorrectionMaskCenterWeight | 0.000000 |
PaintCorrectionMaskFlow | 0.871000 |
PaintCorrectionMaskRadius | 0.011392 |
PaintCorrectionMaskValue | 1.000000 |
PaintCorrectionMaskWhat | Mask/Paint |
PaintCorrectionMoire | 0.000000 |
PaintCorrectionSaturation | 0.000000 |
PaintCorrectionShadows2012 | 0.000000 |
PaintCorrectionSharpness | 0.000000 |
PaintCorrectionTemperature | 0.000000 |
PaintCorrectionTint | 0.000000 |
PaintCorrectionWhat | Correction |
ParametricDarks | -5 |
ParametricHighlights | +13 |
ParametricHighlightSplit | 75 |
ParametricLights | +10 |
ParametricMidtoneSplit | 50 |
ParametricShadows | +3 |
ParametricShadowSplit | 25 |
PerspectiveAspect | 0 |
PerspectiveHorizontal | 0 |
PerspectiveRotate | 0.0 |
PerspectiveScale | 100 |
PerspectiveUpright | 1 |
PerspectiveVertical | 0 |
PerspectiveX | 0.00 |
PerspectiveY | 0.00 |
PostCropVignetteAmount | 0 |
ProcessVersion | 6.7 |
ProfileDescription | sRGB IEC61966-2.1 |
RedHue | 0 |
RedSaturation | 0 |
Rights | Mikkel Nordbaek |
Saturation | +40 |
SaturationAdjustmentAqua | 0 |
SaturationAdjustmentBlue | +28 |
SaturationAdjustmentGreen | +13 |
SaturationAdjustmentMagenta | 0 |
SaturationAdjustmentOrange | +20 |
SaturationAdjustmentPurple | 0 |
SaturationAdjustmentRed | +28 |
SaturationAdjustmentYellow | +17 |
ScaleFactor35efl | 1.6 |
SceneCaptureType | Standard |
SerialNumber | 2933541025 |
Shadows2012 | +53 |
ShadowTint | 0 |
SharpenDetail | 25 |
SharpenEdgeMasking | 56 |
SharpenRadius | +1.0 |
Sharpness | 74 |
ShutterSpeed | 0.6 |
ShutterSpeedValue | 0.6 |
Software | Adobe Photoshop Lightroom 6.6.1 (Windows) |
SplitToningBalance | +12 |
SplitToningHighlightHue | 48 |
SplitToningHighlightSaturation | 25 |
SplitToningShadowHue | 220 |
SplitToningShadowSaturation | 7 |
Tint | +9 |
ToneCurve | 0, 0, 255, 255 |
ToneCurveBlue | 0, 0, 255, 255 |
ToneCurveGreen | 0, 0, 255, 255 |
ToneCurveName | Linear |
ToneCurveName2012 | Linear |
ToneCurvePV2012 | 0, 0, 255, 255 |
ToneCurvePV2012Blue | 0, 0, 255, 255 |
ToneCurvePV2012Green | 0, 0, 255, 255 |
ToneCurvePV2012Red | 0, 0, 255, 255 |
ToneCurveRed | 0, 0, 255, 255 |
ToneMapStrength | 0 |
Version | 9.6 |
Vibrance | +62 |
VignetteAmount | 0 |
WhiteBalance (1) | Custom |
WhiteBalance | Auto |
Whites2012 | +28 |