Felt | Verdi |
AlreadyApplied | True |
Aperture | 10.0 |
ApertureValue | 10.0 |
ApproximateFocusDistance | 4294967295 |
Artist | Mikkel Nordbaek |
AutoLateralCA | 1 |
AutoWhiteVersion | 134348800 |
BitsPerSample | 8 |
Blacks2012 | -37 |
BlueHue | 0 |
BlueSaturation | 0 |
By-line | Mikkel Nordbaek |
CameraProfile | Adobe Standard |
CircGradBasedCorrActive | true |
CircGradBasedCorrAmount | 1.000000 |
CircGradBasedCorrBrightness | 0.000000 |
CircGradBasedCorrClarity2012 (5) | 0.294120 |
CircGradBasedCorrClarity2012 | 0.000000 |
CircGradBasedCorrContrast2012 (5) | 0.205880 |
CircGradBasedCorrContrast2012 | 0.000000 |
CircGradBasedCorrDefringe | 0.000000 |
CircGradBasedCorrExposure2012 (1) | 0.191250 |
CircGradBasedCorrExposure2012 (2) | 0.220500 |
CircGradBasedCorrExposure2012 (3) | 0.132250 |
CircGradBasedCorrExposure2012 (5) | 0.117750 |
CircGradBasedCorrExposure2012 (6) | 0.147000 |
CircGradBasedCorrExposure2012 (7) | -0.044000 |
CircGradBasedCorrExposure2012 (8) | 0.103000 |
CircGradBasedCorrExposure2012 | -0.029500 |
CircGradBasedCorrHighlights2012 (2) | -0.205880 |
CircGradBasedCorrHighlights2012 (5) | 0.102940 |
CircGradBasedCorrHighlights2012 | 0.000000 |
CircGradBasedCorrHue | 0.000000 |
CircGradBasedCorrLocalBlacks2012 | 0.000000 |
CircGradBasedCorrLocalDehaze | 0.000000 |
CircGradBasedCorrLocalWhites2012 | 0.000000 |
CircGradBasedCorrLuminanceNoise (5) | 0.441180 |
CircGradBasedCorrLuminanceNoise | 0.000000 |
CircGradBasedCorrMaskAngle (3) | 0.672000 |
CircGradBasedCorrMaskAngle (6) | 35.716700 |
CircGradBasedCorrMaskAngle | -21.393100 |
CircGradBasedCorrMaskBottom (1) | 0.720282 |
CircGradBasedCorrMaskBottom (2) | 0.928838 |
CircGradBasedCorrMaskBottom (3) | 0.281012 |
CircGradBasedCorrMaskBottom (4) | 0.653559 |
CircGradBasedCorrMaskBottom (5) | 0.482071 |
CircGradBasedCorrMaskBottom (6) | 0.827630 |
CircGradBasedCorrMaskBottom (7) | 0.230117 |
CircGradBasedCorrMaskBottom (8) | 0.136944 |
CircGradBasedCorrMaskBottom | 0.235978 |
CircGradBasedCorrMaskFeather | +100 |
CircGradBasedCorrMaskFlipped | true |
CircGradBasedCorrMaskLeft (1) | 0.372436 |
CircGradBasedCorrMaskLeft (2) | 0.129090 |
CircGradBasedCorrMaskLeft (3) | 0.222765 |
CircGradBasedCorrMaskLeft (4) | 0.283517 |
CircGradBasedCorrMaskLeft (5) | 0.207323 |
CircGradBasedCorrMaskLeft (6) | 0.107828 |
CircGradBasedCorrMaskLeft (7) | 0.250940 |
CircGradBasedCorrMaskLeft (8) | 0.045469 |
CircGradBasedCorrMaskLeft | 0.071496 |
CircGradBasedCorrMaskMidpoint | +50 |
CircGradBasedCorrMaskRight (1) | 0.432877 |
CircGradBasedCorrMaskRight (2) | 0.206377 |
CircGradBasedCorrMaskRight (3) | 0.251366 |
CircGradBasedCorrMaskRight (4) | 0.320149 |
CircGradBasedCorrMaskRight (5) | 0.917880 |
CircGradBasedCorrMaskRight (6) | 0.081650 |
CircGradBasedCorrMaskRight (7) | 0.274576 |
CircGradBasedCorrMaskRight (8) | 0.116430 |
CircGradBasedCorrMaskRight | 0.129492 |
CircGradBasedCorrMaskRoundness | 0 |
CircGradBasedCorrMaskTop (1) | 0.531108 |
CircGradBasedCorrMaskTop (2) | 0.810214 |
CircGradBasedCorrMaskTop (3) | 0.187675 |
CircGradBasedCorrMaskTop (4) | 0.545423 |
CircGradBasedCorrMaskTop (5) | 0.078689 |
CircGradBasedCorrMaskTop (6) | 0.618136 |
CircGradBasedCorrMaskTop (7) | 0.127095 |
CircGradBasedCorrMaskTop (8) | 0.042861 |
CircGradBasedCorrMaskTop | 0.154614 |
CircGradBasedCorrMaskValue | 1.000000 |
CircGradBasedCorrMaskVersion | +2 |
CircGradBasedCorrMaskWhat | Mask/CircularGradient |
CircGradBasedCorrMoire | 0.000000 |
CircGradBasedCorrSaturation (7) | -0.044120 |
CircGradBasedCorrSaturation (9) | 0.161760 |
CircGradBasedCorrSaturation | 0.000000 |
CircGradBasedCorrShadows2012 (2) | -0.014710 |
CircGradBasedCorrShadows2012 | 0.000000 |
CircGradBasedCorrSharpness (5) | 0.205880 |
CircGradBasedCorrSharpness | 0.000000 |
CircGradBasedCorrTemperature (1) | -0.176470 |
CircGradBasedCorrTemperature (4) | 0.250000 |
CircGradBasedCorrTemperature (5) | -0.161760 |
CircGradBasedCorrTemperature (6) | -0.279410 |
CircGradBasedCorrTemperature (8) | 0.161760 |
CircGradBasedCorrTemperature | 0.000000 |
CircGradBasedCorrTint | 0.000000 |
CircGradBasedCorrWhat | Correction |
CircleOfConfusion | 0.019 mm |
Clarity2012 | +47 |
ColorComponents | 3 |
ColorNoiseReduction | 100 |
ColorNoiseReductionDetail | 50 |
ColorNoiseReductionSmoothness | 50 |
ColorSpace | sRGB |
ColorTemperature | 3250 |
Contrast2012 | +6 |
ConvertToGrayscale | False |
Copyright | Mikkel Nordbaek |
CopyrightNotice | Mikkel Nordbaek |
CreateDate (1) | 2016:10:21 21:31:15.77 |
CreateDate | 2016:10:21 21:31:15 |
Creator | Mikkel Nordbaek |
CreatorTool | Adobe Photoshop Lightroom 6.6.1 (Windows) |
CropAngle | 0.672 |
CropBottom | 1 |
CropConstrainToWarp | 0 |
CropLeft | 0.039286 |
CropRight | 0.987972 |
CropTop | 0 |
CustomRendered | Normal |
DateCreated (1) | 2016:10:21 21:31:15.77 |
DateCreated | 2016:10:21 |
DateTimeOriginal | 2016:10:21 21:31:15 |
DefringeGreenAmount | 0 |
DefringeGreenHueHi | 60 |
DefringeGreenHueLo | 40 |
DefringePurpleAmount | 0 |
DefringePurpleHueHi | 70 |
DefringePurpleHueLo | 30 |
Dehaze | 0 |
DOF | inf (13.09 m - inf) |
ExifImageHeight | 4831 |
ExifImageWidth | 3311 |
Exposure2012 | 0.00 |
ExposureCompensation | 0 |
ExposureMode | Manual |
ExposureProgram | Manual |
ExposureTime | 20 |
Firmware | 1.0.9 |
Flash | Off, Did not fire |
FlashCompensation | 0 |
FNumber | 10.0 |
FocalLength | 50.0 mm |
FocalLength35efl | 50.0 mm (35 mm equivalent: 78.6 mm) |
Format | image/jpeg |
FOV | 25.8 deg |
GrainAmount | 0 |
GreenHue | 0 |
GreenSaturation | 0 |
HasCrop | True |
HasSettings | True |
Highlights2012 | -100 |
HueAdjustmentAqua | 0 |
HueAdjustmentBlue | 0 |
HueAdjustmentGreen | 0 |
HueAdjustmentMagenta | 0 |
HueAdjustmentOrange | 0 |
HueAdjustmentPurple | 0 |
HueAdjustmentRed | -41 |
HueAdjustmentYellow | +23 |
HyperfocalDistance | 13.09 m |
ImageHeight | 4831 |
ImageNumber | 0 |
ImageSize | 3311x4831 |
ImageWidth | 3311 |
ISO | 100 |
Lens | EF-S18-55mm f/3.5-5.6 III |
LensID (1) | 53 |
LensID | Canon EF-S 18-55mm f/3.5-5.6 III |
LensInfo | 18-55mm f/? |
LensManualDistortionAmount | 0 |
LensModel | EF-S18-55mm f/3.5-5.6 III |
LensProfileChromaticAberrationScale | 100 |
LensProfileDistortionScale | 100 |
LensProfileEnable | 0 |
LensProfileFilename | Canon EOS 50D (Canon EF-S 18-55mm f3.5-5.6 IS STM) - RAW.lcp |
LensProfileName | Adobe (Canon EF-S 18-55mm f/3.5-5.6 IS STM) |
LensProfileSetup | Custom |
LensProfileVignettingScale | 100 |
LightValue | 2.3 |
LuminanceAdjustmentAqua | 0 |
LuminanceAdjustmentBlue | +51 |
LuminanceAdjustmentGreen | 0 |
LuminanceAdjustmentMagenta | 0 |
LuminanceAdjustmentOrange | 0 |
LuminanceAdjustmentPurple | +29 |
LuminanceAdjustmentRed | 0 |
LuminanceAdjustmentYellow | 0 |
LuminanceNoiseReductionContrast | 0 |
LuminanceNoiseReductionDetail | 50 |
LuminanceSmoothing | 44 |
Make | Canon |
MaxApertureValue | 5.7 |
Megapixels | 16.0 |
MeteringMode | Multi-segment |
Model | Canon EOS 550D |
ModifyDate (1) | 2016:10:22 00:27:44+02:00 |
ModifyDate | 2016:10:22 00:27:44 |
PaintCorrectionActive | true |
PaintCorrectionAmount | 1.000000 |
PaintCorrectionBrightness | 0.000000 |
PaintCorrectionClarity2012 (1) | 0.352940 |
PaintCorrectionClarity2012 | 0.000000 |
PaintCorrectionContrast2012 (1) | 0.014710 |
PaintCorrectionContrast2012 | 0.117650 |
PaintCorrectionDefringe | 0.000000 |
PaintCorrectionExposure2012 (1) | 0.426500 |
PaintCorrectionExposure2012 | 0.235250 |
PaintCorrectionHighlights2012 (1) | 0.573530 |
PaintCorrectionHighlights2012 | 0.088240 |
PaintCorrectionHue (1) | 178.000000 |
PaintCorrectionHue | 0.000000 |
PaintCorrectionLocalBlacks2012 | 0.000000 |
PaintCorrectionLocalDehaze | 0.000000 |
PaintCorrectionLocalWhites2012 | 0.000000 |
PaintCorrectionLuminanceNoise | 0.000000 |
PaintCorrectionMaskCenterWeight | 0.000000 |
PaintCorrectionMaskFlow (2) | 0.462000 |
PaintCorrectionMaskFlow | 1.000000 |
PaintCorrectionMaskRadius (1) | 0.088995 |
PaintCorrectionMaskRadius | 0.058461 |
PaintCorrectionMaskValue | 1.000000 |
PaintCorrectionMaskWhat | Mask/Paint |
PaintCorrectionMoire | 0.000000 |
PaintCorrectionSaturation (2) | 0.540000 |
PaintCorrectionSaturation (3) | -0.044120 |
PaintCorrectionSaturation | 0.000000 |
PaintCorrectionShadows2012 (1) | 0.000000 |
PaintCorrectionShadows2012 | -0.102940 |
PaintCorrectionSharpness | 0.000000 |
PaintCorrectionTemperature (1) | -0.720590 |
PaintCorrectionTemperature | -0.382350 |
PaintCorrectionTint | 0.000000 |
PaintCorrectionWhat | Correction |
ParametricDarks | +9 |
ParametricHighlights | +11 |
ParametricHighlightSplit | 75 |
ParametricLights | +6 |
ParametricMidtoneSplit | 50 |
ParametricShadows | +11 |
ParametricShadowSplit | 25 |
PerspectiveAspect | 0 |
PerspectiveHorizontal | 0 |
PerspectiveRotate | 0.0 |
PerspectiveScale | 100 |
PerspectiveUpright | 0 |
PerspectiveVertical | 0 |
PerspectiveX | 0.00 |
PerspectiveY | 0.00 |
PostCropVignetteAmount | 0 |
ProcessVersion | 6.7 |
ProfileDescription | sRGB IEC61966-2.1 |
RedHue | 0 |
RedSaturation | 0 |
Rights | Mikkel Nordbaek |
Saturation | +16 |
SaturationAdjustmentAqua | +28 |
SaturationAdjustmentBlue | +71 |
SaturationAdjustmentGreen | 0 |
SaturationAdjustmentMagenta | 0 |
SaturationAdjustmentOrange | 0 |
SaturationAdjustmentPurple | +2 |
SaturationAdjustmentRed | +72 |
SaturationAdjustmentYellow | -41 |
ScaleFactor35efl | 1.6 |
SceneCaptureType | Standard |
SerialNumber | 2933541025 |
Shadows2012 | +100 |
ShadowTint | 0 |
SharpenDetail | 25 |
SharpenEdgeMasking | 54 |
SharpenRadius | +1.0 |
Sharpness | 82 |
ShutterSpeed | 20 |
ShutterSpeedValue | 20 |
Software | Adobe Photoshop Lightroom 6.6.1 (Windows) |
SplitToningBalance | 0 |
SplitToningHighlightHue | 64 |
SplitToningHighlightSaturation | 24 |
SplitToningShadowHue | 225 |
SplitToningShadowSaturation | 20 |
Tint | -4 |
ToneCurve | 0, 0, 255, 255 |
ToneCurveBlue | 0, 0, 255, 255 |
ToneCurveGreen | 0, 0, 255, 255 |
ToneCurveName | Linear |
ToneCurveName2012 | Linear |
ToneCurvePV2012 | 0, 0, 255, 255 |
ToneCurvePV2012Blue | 0, 0, 255, 255 |
ToneCurvePV2012Green | 0, 0, 255, 255 |
ToneCurvePV2012Red | 0, 0, 255, 255 |
ToneCurveRed | 0, 0, 255, 255 |
ToneMapStrength | 0 |
Version | 9.6 |
Vibrance | +19 |
VignetteAmount | 0 |
WhiteBalance (1) | Custom |
WhiteBalance | Auto |
Whites2012 | +66 |