Felt | Verdi |
AlreadyApplied | True |
Aperture | 6.3 |
ApertureValue | 6.3 |
ApproximateFocusDistance | 3.99 |
Artist | Odd Kristensen |
AutoLateralCA | 0 |
AutoWhiteVersion | 134348800 |
BitsPerSample (1) | 8 8 8 |
BitsPerSample | 8 |
Blacks2012 | +7 |
BlueHue | 0 |
BlueSaturation | 0 |
By-line | Odd Kristensen |
CameraProfile | Adobe Standard |
CircleOfConfusion | 0.030 mm |
Clarity2012 | 0 |
ColorComponents | 3 |
ColorMode | RGB |
ColorNoiseReduction | 25 |
ColorNoiseReductionDetail | 50 |
ColorNoiseReductionSmoothness | 50 |
ColorSpace | sRGB |
ColorTemperature | 5200 |
ColorTransform | YCbCr |
Contrast2012 | 0 |
ConvertToGrayscale | False |
Copyright | Odd Kristensen |
CopyrightNotice | Odd Kristensen |
CreateDate (1) | 2017:06:25 10:51:02+02:00 |
CreateDate | 2017:06:25 10:51:02 |
Creator | Odd Kristensen |
CreatorTool | Adobe Photoshop Elements 13.0 (Windows) |
CustomRendered | Normal |
DateCreated (1) | 2017:06:25 |
DateCreated | 2017:06:25 10:51:02 |
DateTimeOriginal | 2017:06:25 10:51:02 |
DefringeGreenAmount | 0 |
DefringeGreenHueHi | 60 |
DefringeGreenHueLo | 40 |
DefringePurpleAmount | 0 |
DefringePurpleHueHi | 70 |
DefringePurpleHueLo | 30 |
DOF | 0.014 m (3.983 - 3.997 m) |
ExifImageHeight | 3840 |
ExifImageWidth | 5760 |
Exposure2012 | +0.15 |
ExposureCompensation | 0 |
ExposureMode | Auto |
ExposureProgram | Shutter speed priority AE |
ExposureTime | 1/3200 |
Firmware | 1.3.3 |
Flash | Off, Did not fire |
FlashCompensation | 0 |
FNumber | 6.3 |
FocalLength | 600.0 mm |
FocalLength35efl | 600.0 mm (35 mm equivalent: 600.0 mm) |
Format | image/jpeg |
FOV | 3.4 deg |
GrainAmount | 0 |
GreenHue | 0 |
GreenSaturation | 0 |
HasCrop | False |
HasSettings | True |
Highlights2012 | -100 |
HueAdjustmentAqua | 0 |
HueAdjustmentBlue | 0 |
HueAdjustmentGreen | 0 |
HueAdjustmentMagenta | 0 |
HueAdjustmentOrange | 0 |
HueAdjustmentPurple | 0 |
HueAdjustmentRed | 0 |
HueAdjustmentYellow | 0 |
HyperfocalDistance | 1901.83 m |
ICCProfileName | sRGB IEC61966-2.1 |
ImageHeight | 3840 |
ImageNumber | 0 |
ImageSize | 5760x3840 |
ImageWidth | 5760 |
ISO | 2500 |
Lens | 150-600mm |
LensID (1) | 183 |
LensID | Sigma 150-600mm f/5-6.3 DG OS HSM | C or Sigma 150-600mm f/5-6.3 DG OS HSM | S |
LensInfo | 150-600mm f/? |
LensManualDistortionAmount | 0 |
LensModel | 150-600mm |
LensProfileEnable | 0 |
LensProfileSetup | LensDefaults |
LensSerialNumber | 0000000000 |
LightValue | 12.3 |
LuminanceAdjustmentAqua | 0 |
LuminanceAdjustmentBlue | 0 |
LuminanceAdjustmentGreen | 0 |
LuminanceAdjustmentMagenta | 0 |
LuminanceAdjustmentOrange | 0 |
LuminanceAdjustmentPurple | 0 |
LuminanceAdjustmentRed | 0 |
LuminanceAdjustmentYellow | 0 |
LuminanceNoiseReductionContrast | 0 |
LuminanceNoiseReductionDetail | 50 |
LuminanceSmoothing | 41 |
Make | Canon |
MaxApertureValue | 6.2 |
Megapixels | 22.1 |
MeteringMode | Multi-segment |
Model | Canon EOS 5D Mark III |
ModifyDate (1) | 2017:06:30 11:29:40+02:00 |
ModifyDate | 2017:06:30 11:29:40 |
Orientation | Horizontal (normal) |
ParametricDarks | 0 |
ParametricHighlights | 0 |
ParametricHighlightSplit | 75 |
ParametricLights | 0 |
ParametricMidtoneSplit | 50 |
ParametricShadows | 0 |
ParametricShadowSplit | 25 |
PerspectiveAspect | 0 |
PerspectiveHorizontal | 0 |
PerspectiveRotate | 0.0 |
PerspectiveScale | 100 |
PerspectiveUpright | 0 |
PerspectiveVertical | 0 |
PhotometricInterpretation | RGB |
PostCropVignetteAmount | 0 |
ProcessVersion | 6.7 |
ProfileDescription | sRGB IEC61966-2.1 |
Rating | 0 |
RawFileName | 6R8A2278.CR2 |
RecommendedExposureIndex | 2500 |
RedHue | 0 |
RedSaturation | 0 |
Rights | Odd Kristensen |
SamplesPerPixel | 3 |
Saturation | 0 |
SaturationAdjustmentAqua | 0 |
SaturationAdjustmentBlue | 0 |
SaturationAdjustmentGreen | 0 |
SaturationAdjustmentMagenta | 0 |
SaturationAdjustmentOrange | 0 |
SaturationAdjustmentPurple | 0 |
SaturationAdjustmentRed | 0 |
SaturationAdjustmentYellow | 0 |
ScaleFactor35efl | 1.0 |
SceneCaptureType | Standard |
SensitivityType | Recommended Exposure Index |
SerialNumber | 413023002438 |
Shadows2012 | 0 |
ShadowTint | 0 |
SharpenDetail | 25 |
SharpenEdgeMasking | 0 |
SharpenRadius | +1.0 |
Sharpness | 106 |
ShutterSpeed | 1/3200 |
ShutterSpeedValue | 1/3200 |
Software | Adobe Photoshop Elements 13.0 (Windows) |
SplitToningBalance | 0 |
SplitToningHighlightHue | 0 |
SplitToningHighlightSaturation | 0 |
SplitToningShadowHue | 0 |
SplitToningShadowSaturation | 0 |
Tint | +5 |
ToneCurve | 0, 0, 32, 22, 64, 56, 128, 128, 192, 196, 255, 255 |
ToneCurveBlue | 0, 0, 255, 255 |
ToneCurveGreen | 0, 0, 255, 255 |
ToneCurveName | Medium Contrast |
ToneCurveName2012 | Linear |
ToneCurvePV2012 | 0, 0, 255, 255 |
ToneCurvePV2012Blue | 0, 0, 255, 255 |
ToneCurvePV2012Green | 0, 0, 255, 255 |
ToneCurvePV2012Red | 0, 0, 255, 255 |
ToneCurveRed | 0, 0, 255, 255 |
URL_List | |
Version | 9.0 |
Vibrance | 0 |
VignetteAmount | 0 |
WhiteBalance (1) | As Shot |
WhiteBalance | Manual |
Whites2012 | -56 |