Felt | Verdi |
AlreadyApplied | True |
Aperture | 10.0 |
ApertureValue | 10.0 |
ApproximateFocusDistance | 14.5 |
Artist | John Christian Fjellestad |
AutoLateralCA | 0 |
BitsPerSample | 8 |
Blacks2012 | -24 |
BlueHue | 0 |
BlueSaturation | 0 |
By-line | John Christian Fjellestad |
CameraProfile | Adobe Standard |
CircleOfConfusion | 0.019 mm |
Clarity2012 | +100 |
ColorComponents | 3 |
ColorNoiseReduction | 25 |
ColorNoiseReductionDetail | 50 |
ColorNoiseReductionSmoothness | 50 |
ColorSpace | sRGB |
ColorTemperature | 5622 |
ColorTransform | YCbCr |
Contrast2012 | +39 |
ConvertToGrayscale | False |
CreateDate (1) | 2017:06:12 17:03:40.32 |
CreateDate | 2017:06:12 17:03:40 |
Creator | John Christian Fjellestad |
CreatorTool | Adobe Photoshop Lightroom Classic 7.0 (Macintosh) |
CropAngle | 0 |
CropBottom | 0.848268 |
CropConstrainToWarp | 0 |
CropLeft | 0.068922 |
CropRight | 0.871873 |
CropTop | 0 |
CustomRendered | Normal |
DateCreated (1) | 2017:06:12 |
DateCreated | 2017:06:12 17:03:40.32 |
DateTimeOriginal | 2017:06:12 17:03:40 |
DefringeGreenAmount | 0 |
DefringeGreenHueHi | 60 |
DefringeGreenHueLo | 40 |
DefringePurpleAmount | 0 |
DefringePurpleHueHi | 70 |
DefringePurpleHueLo | 30 |
Dehaze | 0 |
DOF | 5.26 m (12.33 - 17.59 m) |
Exposure2012 | +0.35 |
ExposureCompensation | 0 |
ExposureMode | Manual |
ExposureProgram | Manual |
ExposureTime | 1/160 |
Firmware | 1.0.2 |
Flash | Off, Did not fire |
FlashCompensation | 0 |
FNumber | 10.0 |
FocalLength | 125.0 mm |
FocalLength35efl | 125.0 mm (35 mm equivalent: 196.6 mm) |
Format | image/jpeg |
FOV | 10.5 deg |
GrainAmount | 15 |
GrainFrequency | 40 |
GrainSize | 25 |
GreenHue | 0 |
GreenSaturation | 0 |
HasCrop | True |
HasSettings | True |
Highlights2012 | -72 |
HueAdjustmentAqua | +5 |
HueAdjustmentBlue | -45 |
HueAdjustmentGreen | +5 |
HueAdjustmentMagenta | -2 |
HueAdjustmentOrange | +22 |
HueAdjustmentPurple | -52 |
HueAdjustmentRed | +34 |
HueAdjustmentYellow | -9 |
HyperfocalDistance | 81.79 m |
ImageHeight | 4162 |
ImageNumber | 0 |
ImageSize | 2931x4162 |
ImageWidth | 2931 |
ISO | 400 |
Keywords | Rock of Cashel, britain, castle, church, explore, fortress, hill, hore abbey, ireland, medieval, moody, nostalgic, old, portrait, ruins, stones, travel |
Lens | EF70-200mm f/2.8L IS USM |
LensID (1) | 224 |
LensID | Canon EF 70-200mm f/2.8L IS USM |
LensInfo | 70-200mm f/? |
LensManualDistortionAmount | 0 |
LensModel | EF70-200mm f/2.8L IS USM |
LensProfileEnable | 0 |
LensProfileSetup | LensDefaults |
LensSerialNumber | 0000000000 |
LightValue | 12.0 |
LuminanceAdjustmentAqua | 0 |
LuminanceAdjustmentBlue | 0 |
LuminanceAdjustmentGreen | -49 |
LuminanceAdjustmentMagenta | 0 |
LuminanceAdjustmentOrange | 0 |
LuminanceAdjustmentPurple | 0 |
LuminanceAdjustmentRed | 0 |
LuminanceAdjustmentYellow | -60 |
LuminanceSmoothing | 0 |
Make | Canon |
MaxApertureValue | 2.8 |
Megapixels | 12.2 |
MeteringMode | Multi-segment |
Model | Canon EOS 600D |
ModifyDate (1) | 2017:11:07 14:18:06+01:00 |
ModifyDate | 2017:11:07 14:18:06 |
ObjectName | Exloring old church |
PaintCorrectionActive | true |
PaintCorrectionAmount | 1.000000 |
PaintCorrectionBrightness | 0.000000 |
PaintCorrectionClarity2012 | 0.218750 |
PaintCorrectionContrast2012 | 0.031250 |
PaintCorrectionCorrectionRangeMaskColorAmount | 0.500000 |
PaintCorrectionCorrectionRangeMaskLumFeather | 0.500000 |
PaintCorrectionCorrectionRangeMaskLumMax | 1.000000 |
PaintCorrectionCorrectionRangeMaskLumMin | 0.000000 |
PaintCorrectionCorrectionRangeMaskType | 0 |
PaintCorrectionDefringe | 0.000000 |
PaintCorrectionExposure2012 | -0.093750 |
PaintCorrectionHighlights2012 | -0.309570 |
PaintCorrectionHue | 0.000000 |
PaintCorrectionLocalBlacks2012 | -0.046875 |
PaintCorrectionLocalDehaze | 0.000000 |
PaintCorrectionLocalWhites2012 | -0.226868 |
PaintCorrectionLuminanceNoise | 0.000000 |
PaintCorrectionMaskCenterWeight | 0.043001 |
PaintCorrectionMaskFlow | 1.000000 |
PaintCorrectionMaskRadius | 0.120074 |
PaintCorrectionMaskValue | 1.000000 |
PaintCorrectionMaskWhat | Mask/Paint |
PaintCorrectionMoire | 0.000000 |
PaintCorrectionSaturation (1) | -0.207275 |
PaintCorrectionSaturation | 0.000000 |
PaintCorrectionShadows2012 | 0.000000 |
PaintCorrectionSharpness | 0.000000 |
PaintCorrectionTemperature | 0.421875 |
PaintCorrectionTint | -0.540039 |
PaintCorrectionWhat | Correction |
ParametricDarks | 0 |
ParametricHighlights | 0 |
ParametricHighlightSplit | 75 |
ParametricLights | 0 |
ParametricMidtoneSplit | 50 |
ParametricShadows | -10 |
ParametricShadowSplit | 25 |
PerspectiveAspect | 0 |
PerspectiveHorizontal | 0 |
PerspectiveRotate | 0.0 |
PerspectiveScale | 100 |
PerspectiveUpright | 0 |
PerspectiveVertical | 0 |
PerspectiveX | 0.00 |
PerspectiveY | 0.00 |
PostCropVignetteAmount | -12 |
PostCropVignetteFeather | 50 |
PostCropVignetteHighlightContrast | 0 |
PostCropVignetteMidpoint | 50 |
PostCropVignetteRoundness | 0 |
PostCropVignetteStyle | 1 |
ProcessVersion | 6.7 |
ProfileDescription | sRGB IEC61966-2.1 |
Rating | 5 |
RecommendedExposureIndex | 400 |
RedHue | 0 |
RedSaturation | 0 |
Saturation | -17 |
SaturationAdjustmentAqua | 0 |
SaturationAdjustmentBlue | 0 |
SaturationAdjustmentGreen | -39 |
SaturationAdjustmentMagenta | 0 |
SaturationAdjustmentOrange | 0 |
SaturationAdjustmentPurple | 0 |
SaturationAdjustmentRed | 0 |
SaturationAdjustmentYellow | -15 |
ScaleFactor35efl | 1.6 |
SceneCaptureType | Standard |
SensitivityType | Recommended Exposure Index |
SerialNumber | 073063032587 |
Shadows2012 | +26 |
ShadowTint | 0 |
SharpenDetail | 25 |
SharpenEdgeMasking | 0 |
SharpenRadius | +1.0 |
Sharpness | 25 |
ShutterSpeed | 1/160 |
ShutterSpeedValue | 1/160 |
Software | Adobe Photoshop Lightroom Classic 7.0 (Macintosh) |
SplitToningBalance | 0 |
SplitToningHighlightHue | 42 |
SplitToningHighlightSaturation | 28 |
SplitToningShadowHue | 212 |
SplitToningShadowSaturation | 31 |
Subject | Rock of Cashel, britain, castle, church, explore, fortress, hill, hore abbey, ireland, medieval, moody, nostalgic, old, portrait, ruins, stones, travel |
Tint | +19 |
Title | Exloring old church |
ToneCurve | 0, 0, 255, 255 |
ToneCurveBlue | 0, 0, 255, 255 |
ToneCurveGreen | 0, 0, 255, 255 |
ToneCurveName | Linear |
ToneCurveName2012 | Custom |
ToneCurvePV2012 | 0, 30, 255, 237 |
ToneCurvePV2012Blue | 0, 29, 255, 235 |
ToneCurvePV2012Green | 0, 0, 255, 255 |
ToneCurvePV2012Red | 0, 0, 255, 255 |
ToneCurveRed | 0, 0, 255, 255 |
Version | 10.0 |
Vibrance | +49 |
VignetteAmount | 0 |
WhiteBalance (1) | Custom |
WhiteBalance | Auto |
Whites2012 | -5 |