Felt | Verdi |
AlreadyApplied | True |
Aperture | 11.0 |
ApertureValue | 11.0 |
ApproximateFocusDistance | 4294967295 |
Artist | Henning Ottesen |
AutoLateralCA | 1 |
AutoWhiteVersion | 134348800 |
BitsPerSample | 8 |
Blacks2012 | 0 |
BlueHue | 0 |
BlueSaturation | 0 |
By-line | Henning Ottesen |
CameraProfile | Adobe Standard |
CFAPattern | [Red,Green][Green,Blue] |
CircGradBasedCorrActive | true |
CircGradBasedCorrAmount | 1.000000 |
CircGradBasedCorrBrightness | 0.000000 |
CircGradBasedCorrClarity2012 | 1.000000 |
CircGradBasedCorrContrast2012 | -0.516480 |
CircGradBasedCorrDefringe | 0.000000 |
CircGradBasedCorrExposure2012 | 0.033000 |
CircGradBasedCorrHighlights2012 | -1.000000 |
CircGradBasedCorrHue | 0.000000 |
CircGradBasedCorrLuminanceNoise | 0.000000 |
CircGradBasedCorrMaskAngle | 0.353547 |
CircGradBasedCorrMaskBottom | 0.878710 |
CircGradBasedCorrMaskFeather | +50 |
CircGradBasedCorrMaskFlipped | true |
CircGradBasedCorrMaskLeft | 0.073752 |
CircGradBasedCorrMaskMidpoint | +50 |
CircGradBasedCorrMaskRight | 0.899990 |
CircGradBasedCorrMaskRoundness | 0 |
CircGradBasedCorrMaskTop | 0.427434 |
CircGradBasedCorrMaskValue | 1.000000 |
CircGradBasedCorrMaskVersion | +2 |
CircGradBasedCorrMaskWhat | Mask/CircularGradient |
CircGradBasedCorrMoire | 0.000000 |
CircGradBasedCorrSaturation | 0.000000 |
CircGradBasedCorrShadows2012 | -1.000000 |
CircGradBasedCorrSharpness | 1.000000 |
CircGradBasedCorrTemperature | 0.000000 |
CircGradBasedCorrTint | 0.000000 |
CircGradBasedCorrWhat | Correction |
CircleOfConfusion | 0.020 mm |
Clarity2012 | +56 |
ColorComponents | 3 |
ColorNoiseReduction | 25 |
ColorNoiseReductionDetail | 50 |
ColorNoiseReductionSmoothness | 50 |
ColorTemperature | 5400 |
ColorTransform | YCbCr |
Contrast | Normal |
Contrast2012 | 0 |
ConvertToGrayscale | False |
Copyright | Henning Ottesen |
CopyrightNotice | Henning Ottesen |
CreateDate (1) | 2018:07:14 16:53:33.20 |
CreateDate | 2018:07:14 16:53:33 |
Creator | Henning Ottesen |
CreatorTool | Adobe Photoshop Lightroom 6.0 (Windows) |
CropAngle | -0.169577 |
CropBottom | 0.954861 |
CropConstrainToWarp | 0 |
CropLeft | 0.052517 |
CropRight | 0.905457 |
CropTop | 0.028777 |
CustomRendered | Normal |
DateCreated (1) | 2018:07:14 16:53:33.20 |
DateCreated | 2018:07:14 |
DateTimeOriginal | 2018:07:14 16:53:33 |
DefringeGreenAmount | 0 |
DefringeGreenHueHi | 60 |
DefringeGreenHueLo | 40 |
DefringePurpleAmount | 0 |
DefringePurpleHueHi | 70 |
DefringePurpleHueLo | 30 |
DigitalZoomRatio | 1 |
DOF | inf (5.51 m - inf) |
Exposure2012 | 0.00 |
ExposureCompensation | 0 |
ExposureMode | Manual |
ExposureProgram | Manual |
ExposureTime | 1/200 |
Flash | Off, Did not fire |
FNumber | 11.0 |
FocalLength | 35.0 mm |
FocalLength35efl | 35.0 mm (35 mm equivalent: 52.0 mm) |
FocalLengthIn35mmFormat | 52 mm |
Format | image/jpeg |
FOV | 38.2 deg |
GainControl | None |
GradientBasedCorrActive | true |
GradientBasedCorrAmount | 1.000000 |
GradientBasedCorrBrightness | 0.000000 |
GradientBasedCorrClarity2012 (1) | 0.098900 |
GradientBasedCorrClarity2012 (2) | -1.000000 |
GradientBasedCorrClarity2012 (4) | -0.604400 |
GradientBasedCorrClarity2012 | 0.034480 |
GradientBasedCorrContrast2012 (1) | 0.494510 |
GradientBasedCorrContrast2012 (4) | 0.714290 |
GradientBasedCorrContrast2012 | 0.000000 |
GradientBasedCorrDefringe | 0.000000 |
GradientBasedCorrExposure2012 (3) | -0.340750 |
GradientBasedCorrExposure2012 | -0.055000 |
GradientBasedCorrHighlights2012 (3) | -1.000000 |
GradientBasedCorrHighlights2012 (4) | -0.978020 |
GradientBasedCorrHighlights2012 | 0.406590 |
GradientBasedCorrHue | 0.000000 |
GradientBasedCorrLuminanceNoise (1) | 0.406590 |
GradientBasedCorrLuminanceNoise | 0.000000 |
GradientBasedCorrMaskFullX (1) | 0.459203 |
GradientBasedCorrMaskFullX (2) | 0.486465 |
GradientBasedCorrMaskFullX (3) | 0.897851 |
GradientBasedCorrMaskFullX (4) | 0.051127 |
GradientBasedCorrMaskFullX | 0.594097 |
GradientBasedCorrMaskFullY (1) | 0.023886 |
GradientBasedCorrMaskFullY (2) | 0.958721 |
GradientBasedCorrMaskFullY (3) | 0.040921 |
GradientBasedCorrMaskFullY (4) | -0.010543 |
GradientBasedCorrMaskFullY | 0.072893 |
GradientBasedCorrMaskValue | 1.000000 |
GradientBasedCorrMaskWhat | Mask/Gradient |
GradientBasedCorrMaskZeroX (1) | 0.484715 |
GradientBasedCorrMaskZeroX (2) | 0.487024 |
GradientBasedCorrMaskZeroX (3) | 0.579016 |
GradientBasedCorrMaskZeroX (4) | 0.274410 |
GradientBasedCorrMaskZeroX | 0.503610 |
GradientBasedCorrMaskZeroY (1) | 0.767185 |
GradientBasedCorrMaskZeroY (2) | 0.809189 |
GradientBasedCorrMaskZeroY (3) | 0.243517 |
GradientBasedCorrMaskZeroY (4) | 0.371828 |
GradientBasedCorrMaskZeroY | 0.171088 |
GradientBasedCorrMoire | 0.000000 |
GradientBasedCorrSaturation (7) | -1.000000 |
GradientBasedCorrSaturation | 0.000000 |
GradientBasedCorrShadows2012 (1) | 0.604400 |
GradientBasedCorrShadows2012 (2) | -1.000000 |
GradientBasedCorrShadows2012 | 1.000000 |
GradientBasedCorrSharpness (2) | -1.000000 |
GradientBasedCorrSharpness | 1.000000 |
GradientBasedCorrTemperature (1) | 0.318680 |
GradientBasedCorrTemperature (4) | -1.000000 |
GradientBasedCorrTemperature | 0.000000 |
GradientBasedCorrTint (1) | -1.000000 |
GradientBasedCorrTint | 0.000000 |
GradientBasedCorrWhat | Correction |
GrainAmount | 0 |
GreenHue | 0 |
GreenSaturation | 0 |
HasCrop | True |
HasSettings | True |
Highlights2012 | -100 |
HueAdjustmentAqua | 0 |
HueAdjustmentBlue | 0 |
HueAdjustmentGreen | 0 |
HueAdjustmentMagenta | 0 |
HueAdjustmentOrange | 0 |
HueAdjustmentPurple | 0 |
HueAdjustmentRed | 0 |
HueAdjustmentYellow | -78 |
HyperfocalDistance | 5.51 m |
ImageHeight | 3035 |
ImageNumber | 24998 |
ImageSize | 4194x3035 |
ImageWidth | 4194 |
ISO | 100 |
Lens | 35.0 mm f/1.8 |
LensID (1) | 159 |
LensID | AF-S DX Nikkor 35mm f/1.8G |
LensInfo | 35mm f/1.8 |
LensManualDistortionAmount | 0 |
LensModel | 35.0 mm f/1.8 |
LensProfileChromaticAberrationScale | 100 |
LensProfileDistortionScale | 100 |
LensProfileEnable | 1 |
LensProfileFilename | NIKON D90 (Nikon AF-S DX NIKKOR 35mm f1.8G) - RAW.lcp |
LensProfileName | Adobe (Nikon AF-S DX NIKKOR 35mm f/1.8G) |
LensProfileSetup | LensDefaults |
LensProfileVignettingScale | 100 |
LightSource | Unknown |
LightValue | 14.6 |
LuminanceAdjustmentAqua | +38 |
LuminanceAdjustmentBlue | -100 |
LuminanceAdjustmentGreen | -100 |
LuminanceAdjustmentMagenta | -100 |
LuminanceAdjustmentOrange | +1 |
LuminanceAdjustmentPurple | 0 |
LuminanceAdjustmentRed | +76 |
LuminanceAdjustmentYellow | -100 |
LuminanceNoiseReductionContrast | 0 |
LuminanceNoiseReductionDetail | 50 |
LuminanceSmoothing | 32 |
Make | NIKON CORPORATION |
MaxApertureValue | 1.7 |
Megapixels | 12.7 |
MeteringMode | Spot |
Model | NIKON D7000 |
ModifyDate (1) | 2018:08:28 22:50:25+02:00 |
ModifyDate | 2018:08:28 22:50:25 |
Orientation | Horizontal (normal) |
ParametricDarks | 0 |
ParametricHighlights | 0 |
ParametricHighlightSplit | 75 |
ParametricLights | 0 |
ParametricMidtoneSplit | 50 |
ParametricShadows | 0 |
ParametricShadowSplit | 25 |
PerspectiveAspect | 0 |
PerspectiveHorizontal | 0 |
PerspectiveRotate | 0.0 |
PerspectiveScale | 100 |
PerspectiveUpright | 0 |
PerspectiveVertical | 0 |
PostCropVignetteAmount | 0 |
ProcessVersion | 6.7 |
ProfileDescription | Adobe RGB (1998) |
RawFileName | Sliten, men stolt.jpg |
RedHue | 0 |
RedSaturation | 0 |
Rights | Henning Ottesen |
Saturation (1) | 0 |
Saturation | Normal |
SaturationAdjustmentAqua | -100 |
SaturationAdjustmentBlue | -100 |
SaturationAdjustmentGreen | -100 |
SaturationAdjustmentMagenta | -100 |
SaturationAdjustmentOrange | -31 |
SaturationAdjustmentPurple | -100 |
SaturationAdjustmentRed | +100 |
SaturationAdjustmentYellow | +14 |
ScaleFactor35efl | 1.5 |
SceneCaptureType | Landscape |
SceneType | Directly photographed |
SensingMethod | One-chip color area |
SensitivityType | Recommended Exposure Index |
SerialNumber | 6375259 |
Shadows2012 | +68 |
ShadowTint | 0 |
SharpenDetail | 25 |
SharpenEdgeMasking | 16 |
SharpenRadius | +1.0 |
Sharpness (1) | 124 |
Sharpness | Normal |
ShutterSpeed | 1/200 |
ShutterSpeedValue | 1/200 |
Software | Adobe Photoshop Lightroom 6.0 (Windows) |
SplitToningBalance | 0 |
SplitToningHighlightHue | 0 |
SplitToningHighlightSaturation | 0 |
SplitToningShadowHue | 0 |
SplitToningShadowSaturation | 0 |
SubjectDistanceRange | Unknown |
Tint | +4 |
ToneCurve | 0, 0, 255, 255 |
ToneCurveBlue | 0, 0, 255, 255 |
ToneCurveGreen | 0, 0, 255, 255 |
ToneCurveName | Linear |
ToneCurveName2012 | Linear |
ToneCurvePV2012 | 0, 0, 255, 255 |
ToneCurvePV2012Blue | 0, 0, 255, 255 |
ToneCurvePV2012Green | 0, 0, 255, 255 |
ToneCurvePV2012Red | 0, 0, 255, 255 |
ToneCurveRed | 0, 0, 255, 255 |
Version | 9.0 |
Vibrance | +24 |
VignetteAmount | 0 |
WhiteBalance (1) | As Shot |
WhiteBalance | Auto |
Whites2012 | 0 |