Felt | Verdi |
AlreadyApplied | True |
Artist | Igor Kostin |
AutoLateralCA | 0 |
BitsPerSample | 8 |
Blacks2012 | -12 |
BlueHue | 0 |
BlueSaturation | +60 |
By-line | Igor Kostin |
CameraProfile | Adobe Standard |
CircleOfConfusion | 0.007 mm |
Clarity2012 | +45 |
ColorComponents | 3 |
ColorNoiseReduction | 25 |
ColorNoiseReductionDetail | 50 |
ColorNoiseReductionSmoothness | 50 |
ColorSpace | sRGB |
ColorTemperature | 4750 |
ColorTransform | YCbCr |
Contrast2012 | +67 |
ConvertToGrayscale | False |
Copyright | All rights reserved |
CopyrightFlag | True |
CopyrightNotice | All rights reserved |
CreateDate (1) | 2018:09:01 14:22:13.30 |
CreateDate | 2018:09:01 14:22:13 |
Creator | Igor Kostin |
CreatorTool | Adobe Photoshop Lightroom Classic 7.5 (Macintosh) |
CropAngle | 0 |
CropBottom | 0.648006 |
CropConstrainToWarp | 0 |
CropLeft | 0.16618 |
CropRight | 0.593386 |
CropTop | 0.055434 |
CustomRendered | Normal |
DateCreated (1) | 2018:09:01 |
DateCreated | 2018:09:01 14:22:13.30 |
DateTimeOriginal | 2018:09:01 14:22:13 |
DefringeGreenAmount | 0 |
DefringeGreenHueHi | 60 |
DefringeGreenHueLo | 40 |
DefringePurpleAmount | 0 |
DefringePurpleHueHi | 70 |
DefringePurpleHueLo | 30 |
Dehaze | +42 |
Exposure2012 | 0.00 |
ExposureCompensation | 0 |
ExposureMode | Manual |
ExposureProgram | Manual |
ExposureTime | 1/1600 |
Firmware | 1.0.2 |
Flash | Off, Did not fire |
FlashCompensation | 0 |
Format | image/jpeg |
GrainAmount | 0 |
GreenHue | 0 |
GreenSaturation | -10 |
HasCrop | True |
HasSettings | True |
Highlights2012 | -81 |
HueAdjustmentAqua | -23 |
HueAdjustmentBlue | -14 |
HueAdjustmentGreen | -19 |
HueAdjustmentMagenta | 0 |
HueAdjustmentOrange | -18 |
HueAdjustmentPurple | -13 |
HueAdjustmentRed | -14 |
HueAdjustmentYellow | 0 |
ImageHeight | 1200 |
ImageNumber | 0 |
ImageSize | 1110x1200 |
ImageWidth | 1110 |
ISO | 320 |
Keywords | 2018, Bodø, Denmark, IgorKostin, Norway, Nude, Workshop |
LensManualDistortionAmount | 0 |
LensProfileEnable | 0 |
LensProfileSetup | LensDefaults |
LensSerialNumber | 0000000000 |
LookName | |
LuminanceAdjustmentAqua | +23 |
LuminanceAdjustmentBlue | 0 |
LuminanceAdjustmentGreen | +29 |
LuminanceAdjustmentMagenta | 0 |
LuminanceAdjustmentOrange | +14 |
LuminanceAdjustmentPurple | 0 |
LuminanceAdjustmentRed | +3 |
LuminanceAdjustmentYellow | +29 |
LuminanceSmoothing | 0 |
Make | Canon |
Marked | True |
Megapixels | 1.3 |
MeteringMode | Multi-segment |
Model | Canon EOS 6D Mark II |
ModifyDate (1) | 2018:09:15 16:44:45+02:00 |
ModifyDate | 2018:09:15 16:44:45 |
OverrideLookVignette | False |
PaintCorrectionActive | true |
PaintCorrectionAmount | 1.000000 |
PaintCorrectionBrightness | 0.000000 |
PaintCorrectionClarity2012 (1) | 0.000000 |
PaintCorrectionClarity2012 | 0.501746 |
PaintCorrectionContrast2012 | 0.000000 |
PaintCorrectionCorrectionRangeMaskColorAmount | 0.500000 |
PaintCorrectionCorrectionRangeMaskLumFeather | 0.500000 |
PaintCorrectionCorrectionRangeMaskLumMax | 1.000000 |
PaintCorrectionCorrectionRangeMaskLumMin | 0.000000 |
PaintCorrectionCorrectionRangeMaskType | 0 |
PaintCorrectionCorrectionRangeMaskVersion | +2 |
PaintCorrectionDefringe | 0.000000 |
PaintCorrectionExposure2012 | 0.000000 |
PaintCorrectionHighlights2012 | 0.000000 |
PaintCorrectionHue | 0.000000 |
PaintCorrectionLocalBlacks2012 | 0.000000 |
PaintCorrectionLocalDehaze | 0.000000 |
PaintCorrectionLocalWhites2012 (1) | 0.000000 |
PaintCorrectionLocalWhites2012 | -0.395772 |
PaintCorrectionLuminanceNoise | 0.000000 |
PaintCorrectionMaskCenterWeight | 0.084861 |
PaintCorrectionMaskFlow (1) | 0.175281 |
PaintCorrectionMaskFlow (10) | 0.790829 |
PaintCorrectionMaskFlow (11) | 0.599790 |
PaintCorrectionMaskFlow (12) | 0.722146 |
PaintCorrectionMaskFlow (13) | 0.724253 |
PaintCorrectionMaskFlow (14) | 0.588995 |
PaintCorrectionMaskFlow (15) | 0.616876 |
PaintCorrectionMaskFlow (16) | 0.115842 |
PaintCorrectionMaskFlow (17) | 0.719482 |
PaintCorrectionMaskFlow (18) | 0.737449 |
PaintCorrectionMaskFlow (19) | 0.720552 |
PaintCorrectionMaskFlow (2) | 0.548572 |
PaintCorrectionMaskFlow (20) | 0.594445 |
PaintCorrectionMaskFlow (21) | 0.385747 |
PaintCorrectionMaskFlow (22) | 0.542166 |
PaintCorrectionMaskFlow (23) | 0.462747 |
PaintCorrectionMaskFlow (3) | 0.280136 |
PaintCorrectionMaskFlow (4) | 0.308135 |
PaintCorrectionMaskFlow (5) | 0.693901 |
PaintCorrectionMaskFlow (6) | 0.482883 |
PaintCorrectionMaskFlow (7) | 0.611864 |
PaintCorrectionMaskFlow (8) | 0.655940 |
PaintCorrectionMaskFlow (9) | 0.802324 |
PaintCorrectionMaskFlow | 0.522092 |
PaintCorrectionMaskRadius | 0.020120 |
PaintCorrectionMaskValue | 1.000000 |
PaintCorrectionMaskWhat | Mask/Paint |
PaintCorrectionMoire | 0.000000 |
PaintCorrectionSaturation (3) | 0.585846 |
PaintCorrectionSaturation | 0.000000 |
PaintCorrectionShadows2012 (1) | -0.127298 |
PaintCorrectionShadows2012 | 0.000000 |
PaintCorrectionSharpness | 0.000000 |
PaintCorrectionTemperature | 0.000000 |
PaintCorrectionTint | 0.000000 |
PaintCorrectionWhat | Correction |
ParametricDarks | +10 |
ParametricHighlights | -11 |
ParametricHighlightSplit | 75 |
ParametricLights | -6 |
ParametricMidtoneSplit | 50 |
ParametricShadows | +31 |
ParametricShadowSplit | 25 |
PerspectiveAspect | 0 |
PerspectiveHorizontal | 0 |
PerspectiveRotate | 0.0 |
PerspectiveScale | 100 |
PerspectiveUpright | 0 |
PerspectiveVertical | 0 |
PerspectiveX | 0.00 |
PerspectiveY | 0.00 |
PostCropVignetteAmount | -30 |
PostCropVignetteFeather | 100 |
PostCropVignetteHighlightContrast | 20 |
PostCropVignetteMidpoint | 20 |
PostCropVignetteRoundness | -40 |
PostCropVignetteStyle | 1 |
ProcessVersion | 10.0 |
ProfileDescription | sRGB IEC61966-2.1 |
Rating | 5 |
RawFileName | 20180902_Modell-2500-2.CR2 |
RecommendedExposureIndex | 320 |
RedHue | +3 |
RedSaturation | -12 |
Rights | All rights reserved |
Saturation | 0 |
SaturationAdjustmentAqua | -65 |
SaturationAdjustmentBlue | -80 |
SaturationAdjustmentGreen | -61 |
SaturationAdjustmentMagenta | -55 |
SaturationAdjustmentOrange | -39 |
SaturationAdjustmentPurple | -66 |
SaturationAdjustmentRed | -16 |
SaturationAdjustmentYellow | -50 |
ScaleFactor35efl | 4.6 |
SceneCaptureType | Standard |
SensitivityType | Recommended Exposure Index |
SerialNumber | 063051006686 |
Shadows2012 | +44 |
ShadowTint | 0 |
SharpenDetail | 25 |
SharpenEdgeMasking | 0 |
SharpenRadius | +1.0 |
Sharpness | 40 |
ShutterSpeed | 1/1600 |
ShutterSpeedValue | 1/1600 |
Software | Adobe Photoshop Lightroom Classic 7.5 (Macintosh) |
SplitToningBalance | +21 |
SplitToningHighlightHue | 50 |
SplitToningHighlightSaturation | 21 |
SplitToningShadowHue | 222 |
SplitToningShadowSaturation | 27 |
Subject | 2018, Bodø, Denmark, IgorKostin, Norway, Nude, Workshop |
Tint | +9 |
ToneCurve | 0, 0, 255, 255 |
ToneCurveBlue | 0, 0, 255, 255 |
ToneCurveGreen | 0, 0, 255, 255 |
ToneCurveName | Linear |
ToneCurveName2012 | Custom |
ToneCurvePV2012 | 0, 36, 31, 47, 71, 74, 132, 140, 208, 213, 255, 245 |
ToneCurvePV2012Blue | 42, 53, 160, 154, 255, 246 |
ToneCurvePV2012Green | 0, 0, 255, 255 |
ToneCurvePV2012Red | 0, 0, 255, 255 |
ToneCurveRed | 0, 0, 255, 255 |
ToneMapStrength | 0 |
UsageTerms | Please contact |
Version | 10.5 |
Vibrance | -11 |
VignetteAmount | 0 |
WhiteBalance (1) | As Shot |
WhiteBalance | Manual |
Whites2012 | -100 |