Felt | Verdi |
AlreadyApplied | True |
Aperture | 11.0 |
ApertureValue | 11.0 |
ApproximateFocusDistance | 37.6 |
Artist | Chris-David Kristiansen |
AutoLateralCA | 1 |
BitsPerSample (1) | 8 8 8 |
BitsPerSample | 8 |
Blacks2012 | -10 |
BlueHue | 0 |
BlueSaturation | 0 |
By-line | Chris-David Kristiansen |
CameraProfile | Adobe Standard |
CFAPattern | [Red,Green][Green,Blue] |
CircleOfConfusion | 0.030 mm |
Clarity2012 | +20 |
ColorComponents | 3 |
ColorMode | RGB |
ColorNoiseReduction | 25 |
ColorNoiseReductionDetail | 50 |
ColorNoiseReductionSmoothness | 50 |
ColorSpace | Uncalibrated |
ColorTemperature | 3050 |
ColorTransform | YCbCr |
Contrast | Normal |
Contrast2012 | +10 |
ConvertToGrayscale | False |
Copyright | All rights reserved. Chrisd.kristiansen@gmail.com |
CopyrightNotice | All rights reserved. Chrisd.kristiansen@gmail.com |
CreateDate | 2019:02:23 19:44:54 |
Creator | Chris-David Kristiansen |
CreatorTool | Adobe Photoshop CC 2019 (Windows) |
CropAngle | 1.948164 |
CropBottom | 0.9972 |
CropConstrainToWarp | 1 |
CropHeight | 7 |
CropLeft | 0.027763 |
CropRight | 0.771084 |
CropTop | 0.143012 |
CropUnit | Unknown (3) |
CropWidth | 5 |
CustomRendered | Custom |
DateCreated (1) | 2019:02:23 |
DateCreated | 2019:02:23 19:44:54.003 |
DateTimeOriginal | 2019:02:23 19:44:54 |
DefringeGreenAmount | 0 |
DefringeGreenHueHi | 60 |
DefringeGreenHueLo | 40 |
DefringePurpleAmount | 0 |
DefringePurpleHueHi | 70 |
DefringePurpleHueLo | 30 |
Dehaze | +20 |
DigitalZoomRatio | 1 |
DistortionCorrectionAlreadyApplied | True |
DOF | inf (8.46 m - inf) |
ExifImageHeight | 1714 |
ExifImageWidth | 2400 |
Exposure2012 | 0.00 |
ExposureCompensation | 0 |
ExposureMode | Manual |
ExposureProgram | Manual |
ExposureTime | 15 |
Flash | Off, Did not fire |
FNumber | 11.0 |
FocalLength | 60.0 mm |
FocalLength35efl | 60.0 mm (35 mm equivalent: 60.0 mm) |
FocalLengthIn35mmFormat | 60 mm |
Format | image/jpeg |
FOV | 33.4 deg |
GainControl | None |
GrainAmount | 0 |
GreenHue | 0 |
GreenSaturation | 0 |
HasCrop | True |
HasSettings | True |
Highlights2012 | -15 |
HueAdjustmentAqua | 0 |
HueAdjustmentBlue | 0 |
HueAdjustmentGreen | 0 |
HueAdjustmentMagenta | 0 |
HueAdjustmentOrange | -10 |
HueAdjustmentPurple | 0 |
HueAdjustmentRed | +2 |
HueAdjustmentYellow | -9 |
HyperfocalDistance | 10.89 m |
ICCProfileName | Adobe RGB (1998) |
ImageHeight (1) | 4007 |
ImageHeight | 1714 |
ImageNumber | 79227 |
ImageSize | 2400x1714 |
ImageWidth (1) | 5610 |
ImageWidth | 2400 |
ISO | 100 |
LateralChromaticAberrationCorrectionAlreadyApplied | True |
Lens | TAMRON SP AF 28-75mm F2.8 XR Di LD Aspherical IF Macro A09NII |
LensID (1) | 250 |
LensID | Tamron SP AF 28-75mm f/2.8 XR Di LD Aspherical (IF) Macro (A09NII) |
LensInfo | 28-75mm f/2.8 |
LensManualDistortionAmount | 0 |
LensModel | TAMRON SP AF 28-75mm F2.8 XR Di LD Aspherical IF Macro A09NII |
LensProfileChromaticAberrationScale | 100 |
LensProfileDistortionScale | 100 |
LensProfileEnable | 1 |
LensProfileFilename | NIKON CORPORATION (TAMRON SP 28-75mm F2.8 Di A09N) - RAW.lcp |
LensProfileName | Adobe (TAMRON SP 28-75mm F2.8 Di A09N, NIKON CORPORATION) |
LensProfileSetup | LensDefaults |
LensProfileVignettingScale | 100 |
LightSource | Unknown |
LightValue | 3.0 |
LookAmount | 1.000000 |
LookCopyright | © 2018 Adobe Systems, Inc. |
LookGroup | Profiles |
LookName | Adobe Color |
LookParametersCameraProfile | Adobe Standard |
LookParametersConvertToGrayscale | False |
LookParametersLookTable | E1095149FDB39D7A057BAB208837E2E1 |
LookParametersProcessVersion | 11.0 |
LookParametersToneCurvePV2012 | 0, 0, 22, 16, 40, 35, 127, 127, 224, 230, 240, 246, 255, 255 |
LookParametersToneCurvePV2012Blue | 0, 0, 255, 255 |
LookParametersToneCurvePV2012Green | 0, 0, 255, 255 |
LookParametersToneCurvePV2012Red | 0, 0, 255, 255 |
LookParametersVersion | 11.2 |
LookSupportsAmount | false |
LookSupportsMonochrome | false |
LookSupportsOutputReferred | false |
LuminanceAdjustmentAqua | 0 |
LuminanceAdjustmentBlue | 0 |
LuminanceAdjustmentGreen | 0 |
LuminanceAdjustmentMagenta | 0 |
LuminanceAdjustmentOrange | +8 |
LuminanceAdjustmentPurple | 0 |
LuminanceAdjustmentRed | +8 |
LuminanceAdjustmentYellow | 0 |
LuminanceSmoothing | 0 |
Make | NIKON CORPORATION |
MaxApertureValue | 2.8 |
Megapixels | 4.1 |
MeteringMode | Multi-segment |
Model | NIKON D800 |
ModifyDate (1) | 2019:10:12 21:30:37+02:00 |
ModifyDate | 2019:10:12 21:30:37 |
Orientation | Horizontal (normal) |
OverrideLookVignette | False |
ParametricDarks | -4 |
ParametricHighlights | +13 |
ParametricHighlightSplit | 75 |
ParametricLights | +3 |
ParametricMidtoneSplit | 50 |
ParametricShadows | +50 |
ParametricShadowSplit | 25 |
PerspectiveAspect | 0 |
PerspectiveHorizontal | 0 |
PerspectiveRotate | 0.0 |
PerspectiveScale | 100 |
PerspectiveUpright | 0 |
PerspectiveVertical | 0 |
PerspectiveX | 0.00 |
PerspectiveY | 0.00 |
PhotometricInterpretation | RGB |
PostCropVignetteAmount | 0 |
ProcessVersion | 11.0 |
ProfileDescription | Adobe RGB (1998) |
Rating | 0 |
RawFileName | _DSC8339.NEF |
RedHue | 0 |
RedSaturation | 0 |
Rights | All rights reserved. Chrisd.kristiansen@gmail.com |
SamplesPerPixel | 3 |
Saturation (1) | 0 |
Saturation | Normal |
SaturationAdjustmentAqua | 0 |
SaturationAdjustmentBlue | 0 |
SaturationAdjustmentGreen | 0 |
SaturationAdjustmentMagenta | 0 |
SaturationAdjustmentOrange | 0 |
SaturationAdjustmentPurple | 0 |
SaturationAdjustmentRed | 0 |
SaturationAdjustmentYellow | 0 |
ScaleFactor35efl | 1.0 |
SceneCaptureType | Standard |
SceneType | Directly photographed |
SensingMethod | One-chip color area |
SensitivityType | Recommended Exposure Index |
SerialNumber | 6055016 |
Shadows2012 | -8 |
ShadowTint | 0 |
SharpenDetail | 25 |
SharpenEdgeMasking | 0 |
SharpenRadius | +1.0 |
Sharpness (1) | 40 |
Sharpness | Normal |
ShutterSpeed | 15 |
ShutterSpeedValue | 15 |
Software | Adobe Photoshop CC 2019 (Windows) |
SplitToningBalance | 0 |
SplitToningHighlightHue | 0 |
SplitToningHighlightSaturation | 0 |
SplitToningShadowHue | 0 |
SplitToningShadowSaturation | 0 |
SubjectDistanceRange | Unknown |
Tint | 0 |
ToneCurve | 0, 0, 32, 22, 64, 56, 128, 128, 192, 196, 255, 255 |
ToneCurveBlue | 0, 0, 255, 255 |
ToneCurveGreen | 0, 0, 255, 255 |
ToneCurveName | Medium Contrast |
ToneCurveName2012 | Linear |
ToneCurvePV2012 | 0, 0, 255, 255 |
ToneCurvePV2012Blue | 0, 0, 255, 255 |
ToneCurvePV2012Green | 0, 0, 255, 255 |
ToneCurvePV2012Red | 0, 0, 255, 255 |
ToneCurveRed | 0, 0, 255, 255 |
ToneMapStrength | 0 |
URL_List | |
Version | 11.2 |
Vibrance | -20 |
VignetteAmount | 0 |
VignetteCorrectionAlreadyApplied | True |
WhiteBalance (1) | Custom |
WhiteBalance | Auto |
Whites2012 | -38 |