Felt | Verdi |
AlreadyApplied | True |
Aperture | 1.8 |
ApertureValue | 1.8 |
AutoLateralCA | 0 |
BitsPerSample | 8 |
Blacks2012 | -53 |
BlueHue | 0 |
BlueSaturation | 0 |
BrightnessValue | 3.233671789 |
CameraProfile | Embedded |
CircleOfConfusion | 0.005 mm |
Clarity2012 | +18 |
ColorComponents | 3 |
ColorNoiseReduction | 0 |
ColorSpace | sRGB |
ColorTransform | YCbCr |
Contrast2012 | +6 |
ConvertToGrayscale | False |
Copyright | © Tor Arvid Arntzen |
CopyrightNotice | © Tor Arvid Arntzen |
CreateDate (1) | 2019:08:11 22:06:42.578 |
CreateDate | 2019:08:11 22:06:42 |
CreatorTool | Adobe Photoshop Lightroom Classic 9.1 (Macintosh) |
CropAngle | -0.464565 |
CropBottom | 0.989304 |
CropConstrainToWarp | 0 |
CropLeft | 0.00234 |
CropRight | 0.99766 |
CropTop | 0.010696 |
CustomRendered | HDR (original saved) |
DateCreated (1) | 2019:08:11 |
DateCreated | 2019:08:11 22:06:42 |
DateTimeOriginal | 2019:08:11 22:06:42 |
DefringeGreenAmount | 0 |
DefringeGreenHueHi | 60 |
DefringeGreenHueLo | 40 |
DefringePurpleAmount | 0 |
DefringePurpleHueHi | 70 |
DefringePurpleHueLo | 30 |
Dehaze | +27 |
Exposure2012 | +0.27 |
ExposureCompensation | 0 |
ExposureMode | Auto |
ExposureProgram | Program AE |
ExposureTime | 1/60 |
Flash | Auto, Did not fire |
FNumber | 1.8 |
FocalLength | 4.2 mm |
FocalLength35efl | 4.2 mm (35 mm equivalent: 26.0 mm) |
FocalLengthIn35mmFormat | 26 mm |
Format | image/jpeg |
FOV | 69.4 deg |
GPSAltitude | 219 m |
GPSDateStamp | 2019:08:11 |
GPSDateTime | 2019:08:11 19:06:41.56Z |
GPSDestBearing | 232.886856 |
GPSDestBearingRef | Magnetic North |
GPSHPositioningError | 10 m |
GPSImgDirection | 232.886856 |
GPSImgDirectionRef | Magnetic North |
GPSLatitude (1) | 67 deg 36' 54.16" |
GPSLatitude | 67 deg 36' 54.16" N |
GPSLatitudeRef | North |
GPSLongitude (1) | 25 deg 23' 41.82" |
GPSLongitude | 25 deg 23' 41.82" E |
GPSLongitudeRef | East |
GPSPosition | 67 deg 36' 54.16" N, 25 deg 23' 41.82" E |
GPSSpeed | 0 |
GPSSpeedRef | km/h |
GPSTimeStamp | 19:06:41.56 |
GPSVersionID | 2.2.0.0 |
GradientBasedCorrActive | true |
GradientBasedCorrAmount | 1.000000 |
GradientBasedCorrBrightness | 0.000000 |
GradientBasedCorrClarity | 0.000000 |
GradientBasedCorrClarity2012 | 0.000000 |
GradientBasedCorrContrast | 0.000000 |
GradientBasedCorrContrast2012 | 0.000000 |
GradientBasedCorrCorrectionRangeMaskColorAmount | 0.500000 |
GradientBasedCorrCorrectionRangeMaskDepthFeather | 0.500000 |
GradientBasedCorrCorrectionRangeMaskDepthMax | 1.000000 |
GradientBasedCorrCorrectionRangeMaskDepthMin | 0.000000 |
GradientBasedCorrCorrectionRangeMaskLumFeather | 0.500000 |
GradientBasedCorrCorrectionRangeMaskLumMax | 1.000000 |
GradientBasedCorrCorrectionRangeMaskLumMin | 0.000000 |
GradientBasedCorrCorrectionRangeMaskType | 0 |
GradientBasedCorrCorrectionRangeMaskVersion | +2 |
GradientBasedCorrDefringe | 0.000000 |
GradientBasedCorrExposure | 0.000000 |
GradientBasedCorrExposure2012 | -0.337300 |
GradientBasedCorrHighlights2012 | 0.000000 |
GradientBasedCorrHue | 0.000000 |
GradientBasedCorrLocalBlacks2012 | 0.000000 |
GradientBasedCorrLocalDehaze | 0.000000 |
GradientBasedCorrLocalTexture | 0.000000 |
GradientBasedCorrLocalWhites2012 | 0.000000 |
GradientBasedCorrLuminanceNoise | 0.000000 |
GradientBasedCorrMaskFullX | 0.531550 |
GradientBasedCorrMaskFullY | 0.074490 |
GradientBasedCorrMaskValue | 1.000000 |
GradientBasedCorrMaskWhat | Mask/Gradient |
GradientBasedCorrMaskZeroX | 0.531489 |
GradientBasedCorrMaskZeroY | 0.397878 |
GradientBasedCorrMoire | 0.000000 |
GradientBasedCorrSaturation | 0.000000 |
GradientBasedCorrShadows2012 | 0.000000 |
GradientBasedCorrSharpness | 0.000000 |
GradientBasedCorrTemperature | -0.050872 |
GradientBasedCorrTint | 0.000000 |
GradientBasedCorrWhat | Correction |
GrainAmount | 0 |
GreenHue | 0 |
GreenSaturation | 0 |
HasCrop | True |
HasSettings | True |
Highlights2012 | +22 |
HueAdjustmentAqua | 0 |
HueAdjustmentBlue | 0 |
HueAdjustmentGreen | 0 |
HueAdjustmentMagenta | 0 |
HueAdjustmentOrange | 0 |
HueAdjustmentPurple | 0 |
HueAdjustmentRed | 0 |
HueAdjustmentYellow | 0 |
HyperfocalDistance | 2.04 m |
ImageHeight | 2992 |
ImageSize | 3989x2992 |
ImageWidth | 3989 |
IncrementalTemperature | 0 |
IncrementalTint | 0 |
ISO | 100 |
Lens | iPhone XS Max back dual camera 4.25mm f/1.8 |
LensInfo | 4.25-6mm f/1.8-2.4 |
LensMake | Apple |
LensManualDistortionAmount | 0 |
LensModel | iPhone XS Max back dual camera 4.25mm f/1.8 |
LensProfileChromaticAberrationScale | 100 |
LensProfileDistortionScale | 100 |
LensProfileEnable | 1 |
LensProfileFilename | Apple iPhone (Apple iPhone XS Max back camera 4.25mm f1.8).lcp |
LensProfileName | Adobe (Apple iPhone XS Max back camera 4.25mm f/1.8) |
LensProfileSetup | LensDefaults |
LensProfileVignettingScale | 100 |
LightValue | 7.6 |
LookName | |
LuminanceAdjustmentAqua | 0 |
LuminanceAdjustmentBlue | 0 |
LuminanceAdjustmentGreen | 0 |
LuminanceAdjustmentMagenta | 0 |
LuminanceAdjustmentOrange | 0 |
LuminanceAdjustmentPurple | 0 |
LuminanceAdjustmentRed | 0 |
LuminanceAdjustmentYellow | 0 |
LuminanceSmoothing | 0 |
Make | Apple |
Megapixels | 11.9 |
MeteringMode | Multi-segment |
Model | iPhone XS Max |
ModifyDate (1) | 2019:12:27 21:50:24+01:00 |
ModifyDate | 2019:12:27 21:50:24 |
OverrideLookVignette | False |
PaintCorrectionActive | true |
PaintCorrectionAmount | 1.000000 |
PaintCorrectionBrightness | 0.000000 |
PaintCorrectionClarity | 0.000000 |
PaintCorrectionClarity2012 (1) | 0.629542 |
PaintCorrectionClarity2012 (2) | 0.638445 |
PaintCorrectionClarity2012 | 0.000000 |
PaintCorrectionContrast | 0.000000 |
PaintCorrectionContrast2012 (1) | -0.050690 |
PaintCorrectionContrast2012 (2) | -0.042333 |
PaintCorrectionContrast2012 | 0.000000 |
PaintCorrectionCorrectionRangeMaskColorAmount | 0.500000 |
PaintCorrectionCorrectionRangeMaskDepthFeather | 0.500000 |
PaintCorrectionCorrectionRangeMaskDepthMax | 1.000000 |
PaintCorrectionCorrectionRangeMaskDepthMin | 0.000000 |
PaintCorrectionCorrectionRangeMaskLumFeather | 0.500000 |
PaintCorrectionCorrectionRangeMaskLumMax | 1.000000 |
PaintCorrectionCorrectionRangeMaskLumMin | 0.000000 |
PaintCorrectionCorrectionRangeMaskType | 0 |
PaintCorrectionCorrectionRangeMaskVersion | +2 |
PaintCorrectionDefringe | 0.000000 |
PaintCorrectionExposure | 0.000000 |
PaintCorrectionExposure2012 (1) | -0.142624 |
PaintCorrectionExposure2012 (2) | -0.106831 |
PaintCorrectionExposure2012 (3) | -0.265980 |
PaintCorrectionExposure2012 | 0.000000 |
PaintCorrectionHighlights2012 | 0.000000 |
PaintCorrectionHue | 0.000000 |
PaintCorrectionLocalBlacks2012 | 0.000000 |
PaintCorrectionLocalDehaze (1) | 0.089117 |
PaintCorrectionLocalDehaze (2) | 0.000000 |
PaintCorrectionLocalDehaze (3) | 0.509357 |
PaintCorrectionLocalDehaze | 0.089026 |
PaintCorrectionLocalTexture | 0.000000 |
PaintCorrectionLocalWhites2012 (3) | 0.000000 |
PaintCorrectionLocalWhites2012 | 0.442224 |
PaintCorrectionLuminanceNoise | 0.000000 |
PaintCorrectionMaskCenterWeight | 0.000000 |
PaintCorrectionMaskFlow | 1.000000 |
PaintCorrectionMaskRadius (10) | 0.028451 |
PaintCorrectionMaskRadius (11) | 0.028434 |
PaintCorrectionMaskRadius (12) | 0.028438 |
PaintCorrectionMaskRadius (13) | 0.028436 |
PaintCorrectionMaskRadius (14) | 0.006731 |
PaintCorrectionMaskRadius (15) | 0.028431 |
PaintCorrectionMaskRadius (16) | 0.028446 |
PaintCorrectionMaskRadius (17) | 0.160432 |
PaintCorrectionMaskRadius (18) | 0.485908 |
PaintCorrectionMaskRadius (19) | 0.485988 |
PaintCorrectionMaskRadius (20) | 0.442030 |
PaintCorrectionMaskRadius (21) | 0.291170 |
PaintCorrectionMaskRadius (22) | 0.291190 |
PaintCorrectionMaskRadius (23) | 0.179605 |
PaintCorrectionMaskRadius (24) | 0.179624 |
PaintCorrectionMaskRadius (25) | 0.179640 |
PaintCorrectionMaskRadius (26) | 0.124892 |
PaintCorrectionMaskRadius (4) | 0.003014 |
PaintCorrectionMaskRadius (5) | 0.009320 |
PaintCorrectionMaskRadius (7) | 0.009321 |
PaintCorrectionMaskRadius (8) | 0.028426 |
PaintCorrectionMaskRadius (9) | 0.028430 |
PaintCorrectionMaskRadius | 0.036807 |
PaintCorrectionMaskValue (25) | 0.000000 |
PaintCorrectionMaskValue | 1.000000 |
PaintCorrectionMaskWhat | Mask/Paint |
PaintCorrectionMoire | 0.000000 |
PaintCorrectionSaturation (7) | 0.306323 |
PaintCorrectionSaturation | 0.000000 |
PaintCorrectionShadows2012 | 0.000000 |
PaintCorrectionSharpness | 0.000000 |
PaintCorrectionTemperature (2) | 0.000000 |
PaintCorrectionTemperature | -0.050872 |
PaintCorrectionTint | 0.000000 |
PaintCorrectionWhat | Correction |
ParametricDarks | -7 |
ParametricHighlights | -22 |
ParametricHighlightSplit | 75 |
ParametricLights | -17 |
ParametricMidtoneSplit | 50 |
ParametricShadows | 0 |
ParametricShadowSplit | 25 |
PerspectiveAspect | 0 |
PerspectiveHorizontal | 0 |
PerspectiveRotate | 0.0 |
PerspectiveScale | 100 |
PerspectiveUpright | 0 |
PerspectiveVertical | 0 |
PerspectiveX | 0.00 |
PerspectiveY | 0.00 |
PostCropVignetteAmount | 0 |
PreservedFileName | IMG_2626.HEIC |
ProcessVersion | 11.0 |
ProfileDescription | sRGB IEC61966-2.1 |
RedHue | 0 |
RedSaturation | 0 |
Rights | © Tor Arvid Arntzen |
Saturation | +3 |
SaturationAdjustmentAqua | 0 |
SaturationAdjustmentBlue | 0 |
SaturationAdjustmentGreen | 0 |
SaturationAdjustmentMagenta | 0 |
SaturationAdjustmentOrange | 0 |
SaturationAdjustmentPurple | 0 |
SaturationAdjustmentRed | 0 |
SaturationAdjustmentYellow | 0 |
ScaleFactor35efl | 6.1 |
SceneCaptureType | Standard |
SceneType | Directly photographed |
SensingMethod | One-chip color area |
Shadows2012 | +35 |
ShadowTint | 0 |
SharpenDetail | 25 |
SharpenEdgeMasking | 0 |
SharpenRadius | +1.0 |
Sharpness | 0 |
ShutterSpeed | 1/60 |
ShutterSpeedValue | 1/60 |
Software | Adobe Photoshop Lightroom Classic 9.1 (Macintosh) |
SplitToningBalance | 0 |
SplitToningHighlightHue | 0 |
SplitToningHighlightSaturation | 0 |
SplitToningShadowHue | 0 |
SplitToningShadowSaturation | 0 |
SubjectArea | 2013 1511 2217 1330 |
Texture | -26 |
ToneCurve | 0, 0, 255, 255 |
ToneCurveBlue | 0, 0, 255, 255 |
ToneCurveGreen | 0, 0, 255, 255 |
ToneCurveName | Linear |
ToneCurveName2012 | Linear |
ToneCurvePV2012 | 0, 0, 255, 255 |
ToneCurvePV2012Blue | 0, 0, 255, 255 |
ToneCurvePV2012Green | 0, 0, 255, 255 |
ToneCurvePV2012Red | 0, 0, 255, 255 |
ToneCurveRed | 0, 0, 255, 255 |
ToneMapStrength | 0 |
Version | 12.1 |
Vibrance | +33 |
VignetteAmount | 0 |
WhiteBalance (1) | As Shot |
WhiteBalance | Auto |
Whites2012 | -5 |