Felt | Verdi |
AlreadyApplied | True |
Aperture | 11.0 |
ApertureValue | 11.0 |
ApproximateFocusDistance | 4.29497e+09/1 |
AutoLateralCA | 1 |
BitsPerSample | 8 |
Blacks2012 | +6 |
BlueHue | 0 |
BlueSaturation | 0 |
CameraProfile | Adobe Standard |
CircGradBasedCorrActive | true |
CircGradBasedCorrAmount | 1.000000 |
CircGradBasedCorrBrightness | 0.000000 |
CircGradBasedCorrClarity | 0.000000 |
CircGradBasedCorrClarity2012 | 0.000000 |
CircGradBasedCorrContrast | 0.000000 |
CircGradBasedCorrContrast2012 | 0.000000 |
CircGradBasedCorrCorrectionRangeMaskDepthMax | 1.000000 |
CircGradBasedCorrCorrectionRangeMaskDepthMin | 0.000000 |
CircGradBasedCorrCorrectionRangeMaskLumMax | 1.000000 |
CircGradBasedCorrCorrectionRangeMaskLumMin | 0.000000 |
CircGradBasedCorrCorrectionRangeMaskType | 0 |
CircGradBasedCorrCorrectionRangeMaskVersion | +2 |
CircGradBasedCorrDefringe | 0.000000 |
CircGradBasedCorrExposure | 0.000000 |
CircGradBasedCorrExposure2012 | 0.000000 |
CircGradBasedCorrHighlights2012 | -0.631455 |
CircGradBasedCorrHue | 0.000000 |
CircGradBasedCorrLocalBlacks2012 | 0.000000 |
CircGradBasedCorrLocalDehaze | 0.000000 |
CircGradBasedCorrLocalTexture | 0.000000 |
CircGradBasedCorrLocalWhites2012 | -0.426994 |
CircGradBasedCorrLuminanceNoise | 0.000000 |
CircGradBasedCorrMaskAngle | -1.280000 |
CircGradBasedCorrMaskBottom | 0.839006 |
CircGradBasedCorrMaskFeather | +50 |
CircGradBasedCorrMaskFlipped | true |
CircGradBasedCorrMaskLeft | 0.608881 |
CircGradBasedCorrMaskMidpoint | +50 |
CircGradBasedCorrMaskRight | 0.588628 |
CircGradBasedCorrMaskRoundness | 0 |
CircGradBasedCorrMaskTop | 0.807742 |
CircGradBasedCorrMaskValue | 1.000000 |
CircGradBasedCorrMaskVersion | +2 |
CircGradBasedCorrMaskWhat | Mask/CircularGradient |
CircGradBasedCorrMoire | 0.000000 |
CircGradBasedCorrSaturation (1) | -0.591760 |
CircGradBasedCorrSaturation | 0.000000 |
CircGradBasedCorrShadows2012 | 0.000000 |
CircGradBasedCorrSharpness | 0.000000 |
CircGradBasedCorrTemperature | 0.588015 |
CircGradBasedCorrTint | 0.000000 |
CircGradBasedCorrWhat | Correction |
CircleOfConfusion | 0.016 mm |
Clarity2012 | +3 |
ColorComponents | 3 |
ColorNoiseReduction | 25 |
ColorNoiseReductionDetail | 50 |
ColorNoiseReductionSmoothness | 50 |
ColorSpace | sRGB |
ColorTemperature | 5650 |
ColorTransform | YCbCr |
Contrast2012 | -5 |
ConvertToGrayscale | False |
CreateDate (1) | 2020:05:20 20:15:45.19 |
CreateDate | 2020:05:20 20:15:45 |
CreatorTool | Adobe Lightroom 5.2.5 (iOS) |
CropAngle | -1.28 |
CropBottom | 0.972829 |
CropConstrainToWarp | 0 |
CropLeft | 0.047592 |
CropRight | 0.872774 |
CropTop | 0.027171 |
CustomRendered | Normal |
DateCreated (1) | 2020:05:20 20:15:45.19 |
DateCreated | 2020:05:20 |
DateTimeOriginal | 2020:05:20 20:15:45 |
DefringeGreenAmount | 0 |
DefringeGreenHueHi | 60 |
DefringeGreenHueLo | 40 |
DefringePurpleAmount | 0 |
DefringePurpleHueHi | 70 |
DefringePurpleHueLo | 30 |
Dehaze | 0 |
DistortionCorrectionAlreadyApplied | True |
DOF | inf (1.62 m - inf) |
Exposure2012 | +0.05 |
ExposureCompensation | 0 |
ExposureMode | Manual |
ExposureProgram | Manual |
ExposureTime | 1/160 |
Firmware | 1.0.2 |
Flash | Off, Did not fire |
FlashCompensation | 0 |
FNumber | 11.0 |
FocalLength | 17.0 mm |
FocalLength35efl | 17.0 mm (35 mm equivalent: 31.6 mm) |
Format | image/jpeg |
FOV | 59.4 deg |
GradientBasedCorrActive | true |
GradientBasedCorrAmount | 1.000000 |
GradientBasedCorrBrightness | 0.000000 |
GradientBasedCorrClarity | 0.000000 |
GradientBasedCorrClarity2012 (5) | 0.058053 |
GradientBasedCorrClarity2012 | 0.000000 |
GradientBasedCorrContrast | 0.000000 |
GradientBasedCorrContrast2012 | 0.000000 |
GradientBasedCorrCorrectionRangeMaskDepthMax | 1.000000 |
GradientBasedCorrCorrectionRangeMaskDepthMin | 0.000000 |
GradientBasedCorrCorrectionRangeMaskLumMax | 1.000000 |
GradientBasedCorrCorrectionRangeMaskLumMin | 0.000000 |
GradientBasedCorrCorrectionRangeMaskType | 0 |
GradientBasedCorrCorrectionRangeMaskVersion | +2 |
GradientBasedCorrDefringe | 0.000000 |
GradientBasedCorrExposure | 0.000000 |
GradientBasedCorrExposure2012 | 0.000000 |
GradientBasedCorrHighlights2012 (1) | -0.358971 |
GradientBasedCorrHighlights2012 | 0.000000 |
GradientBasedCorrHue | 0.000000 |
GradientBasedCorrLocalBlacks2012 (2) | 0.034927 |
GradientBasedCorrLocalBlacks2012 | 0.000000 |
GradientBasedCorrLocalDehaze (2) | 0.000000 |
GradientBasedCorrLocalDehaze | 0.147940 |
GradientBasedCorrLocalTexture | 0.000000 |
GradientBasedCorrLocalWhites2012 | 0.000000 |
GradientBasedCorrLuminanceNoise | 0.000000 |
GradientBasedCorrMaskFullX (1) | 0.829617 |
GradientBasedCorrMaskFullX (2) | 0.083614 |
GradientBasedCorrMaskFullX (3) | 0.724903 |
GradientBasedCorrMaskFullX (4) | 0.163882 |
GradientBasedCorrMaskFullX (5) | 0.800584 |
GradientBasedCorrMaskFullX (6) | 0.918411 |
GradientBasedCorrMaskFullX | 0.089127 |
GradientBasedCorrMaskFullY (1) | 0.391282 |
GradientBasedCorrMaskFullY (2) | 0.466839 |
GradientBasedCorrMaskFullY (3) | 0.634408 |
GradientBasedCorrMaskFullY (4) | 0.506014 |
GradientBasedCorrMaskFullY (5) | 0.626064 |
GradientBasedCorrMaskFullY (6) | 0.653605 |
GradientBasedCorrMaskFullY | 0.471286 |
GradientBasedCorrMaskValue | 1.000000 |
GradientBasedCorrMaskWhat | Mask/Gradient |
GradientBasedCorrMaskZeroX (1) | 0.540572 |
GradientBasedCorrMaskZeroX (2) | 0.563286 |
GradientBasedCorrMaskZeroX (3) | 0.332848 |
GradientBasedCorrMaskZeroX (4) | 0.468250 |
GradientBasedCorrMaskZeroX (5) | 0.451827 |
GradientBasedCorrMaskZeroX (6) | -0.231876 |
GradientBasedCorrMaskZeroX | 0.530140 |
GradientBasedCorrMaskZeroY (1) | 0.450802 |
GradientBasedCorrMaskZeroY (2) | 0.370152 |
GradientBasedCorrMaskZeroY (3) | 0.681398 |
GradientBasedCorrMaskZeroY (4) | 0.474856 |
GradientBasedCorrMaskZeroY (5) | 0.687152 |
GradientBasedCorrMaskZeroY (6) | 0.699181 |
GradientBasedCorrMaskZeroY | 0.397522 |
GradientBasedCorrMoire | 0.000000 |
GradientBasedCorrSaturation (13) | 0.026217 |
GradientBasedCorrSaturation (7) | -0.041199 |
GradientBasedCorrSaturation | 0.000000 |
GradientBasedCorrShadows2012 (2) | 0.284166 |
GradientBasedCorrShadows2012 (3) | 0.272636 |
GradientBasedCorrShadows2012 | 0.000000 |
GradientBasedCorrSharpness | 0.000000 |
GradientBasedCorrTemperature (4) | 0.003745 |
GradientBasedCorrTemperature (6) | 0.033708 |
GradientBasedCorrTemperature | 0.000000 |
GradientBasedCorrTint | 0.000000 |
GradientBasedCorrWhat | Correction |
GrainAmount | 0 |
GreenHue | 0 |
GreenSaturation | 0 |
HasCrop | True |
HasExtendedXMP | 20422A3DD9E7A0C8D60F0757138AB779 |
HasSettings | True |
Highlights2012 | +21 |
HueAdjustmentAqua | 0 |
HueAdjustmentBlue | 0 |
HueAdjustmentGreen | 0 |
HueAdjustmentMagenta | 0 |
HueAdjustmentOrange | 0 |
HueAdjustmentPurple | 0 |
HueAdjustmentRed | 0 |
HueAdjustmentYellow | 0 |
HyperfocalDistance | 1.62 m |
ImageHeight | 4437 |
ImageNumber | 0 |
ImageSize | 3550x4437 |
ImageWidth | 3550 |
ISO | 100 |
Lens | 17-70mm |
LensID (1) | 137 |
LensID | Sigma 17-70mm f/2.8-4 DC Macro OS HSM | C |
LensInfo | 17-70mm f/? |
LensManualDistortionAmount | 0 |
LensModel | 17-70mm |
LensProfileChromaticAberrationScale | 100 |
LensProfileDistortionScale | 100 |
LensProfileEnable | 1 |
LensProfileSetup | LensDefaults |
LensProfileVignettingScale | 100 |
LensSerialNumber | 0000000000 |
LightValue | 14.2 |
LookAmount | 1.000000 |
LookCopyright | © 2018 Adobe Systems, Inc. |
LookGroup | Profiles |
LookName | Adobe Color |
LookParametersCameraProfile | Adobe Standard |
LookParametersConvertToGrayscale | False |
LookParametersLookTable | E1095149FDB39D7A057BAB208837E2E1 |
LookParametersProcessVersion | 11.0 |
LookParametersToneCurvePV2012 | 0, 0, 22, 16, 40, 35, 127, 127, 224, 230, 240, 246, 255, 255 |
LookParametersToneCurvePV2012Blue | 0, 0, 255, 255 |
LookParametersToneCurvePV2012Green | 0, 0, 255, 255 |
LookParametersToneCurvePV2012Red | 0, 0, 255, 255 |
LookParametersVersion | 12.2.1 |
LookSupportsAmount | false |
LookSupportsMonochrome | false |
LookSupportsOutputReferred | false |
LuminanceAdjustmentAqua | 0 |
LuminanceAdjustmentBlue | +38 |
LuminanceAdjustmentGreen | 0 |
LuminanceAdjustmentMagenta | 0 |
LuminanceAdjustmentOrange | +17 |
LuminanceAdjustmentPurple | 0 |
LuminanceAdjustmentRed | 0 |
LuminanceAdjustmentYellow | +7 |
LuminanceSmoothing | 0 |
Make | Canon |
MaxApertureValue | 2.8 |
Megapixels | 15.8 |
MeteringMode | Center-weighted average |
Model | Canon EOS 7D Mark II |
ModifyDate (1) | 2020:05:21 05:59:51+02:00 |
ModifyDate | 2020:05:21 05:59:51 |
OverrideLookVignette | False |
PaintCorrectionActive | true |
PaintCorrectionAmount | 1.000000 |
PaintCorrectionBrightness | 0.000000 |
PaintCorrectionClarity | 0.000000 |
PaintCorrectionClarity2012 | 0.000000 |
PaintCorrectionContrast | 0.000000 |
PaintCorrectionContrast2012 (1) | 0.039022 |
PaintCorrectionContrast2012 (6) | 0.059704 |
PaintCorrectionContrast2012 | 0.000000 |
PaintCorrectionCorrectionRangeMaskColorAmount | 0.500000 |
PaintCorrectionCorrectionRangeMaskDepthMax | 1.000000 |
PaintCorrectionCorrectionRangeMaskDepthMin | 0.000000 |
PaintCorrectionCorrectionRangeMaskLumFeather | 0.500000 |
PaintCorrectionCorrectionRangeMaskLumMax | 1.000000 |
PaintCorrectionCorrectionRangeMaskLumMin | 0.000000 |
PaintCorrectionCorrectionRangeMaskType | 0 |
PaintCorrectionCorrectionRangeMaskVersion | +2 |
PaintCorrectionDefringe | 0.000000 |
PaintCorrectionExposure | 0.000000 |
PaintCorrectionExposure2012 (15) | 0.001325 |
PaintCorrectionExposure2012 (2) | 0.036290 |
PaintCorrectionExposure2012 (8) | -0.014654 |
PaintCorrectionExposure2012 | 0.000000 |
PaintCorrectionHighlights2012 (10) | 0.000000 |
PaintCorrectionHighlights2012 (15) | -0.357224 |
PaintCorrectionHighlights2012 (5) | -0.280862 |
PaintCorrectionHighlights2012 (8) | -0.213291 |
PaintCorrectionHighlights2012 | -0.654815 |
PaintCorrectionHue | 0.000000 |
PaintCorrectionLocalBlacks2012 (13) | 0.036290 |
PaintCorrectionLocalBlacks2012 (14) | -0.066676 |
PaintCorrectionLocalBlacks2012 (8) | 0.113695 |
PaintCorrectionLocalBlacks2012 (9) | 0.224317 |
PaintCorrectionLocalBlacks2012 | 0.000000 |
PaintCorrectionLocalDehaze (14) | 0.168539 |
PaintCorrectionLocalDehaze (4) | 0.069288 |
PaintCorrectionLocalDehaze | 0.000000 |
PaintCorrectionLocalTexture | 0.000000 |
PaintCorrectionLocalWhites2012 (11) | 0.000000 |
PaintCorrectionLocalWhites2012 (14) | -0.294128 |
PaintCorrectionLocalWhites2012 (6) | -0.738344 |
PaintCorrectionLocalWhites2012 (7) | -0.218005 |
PaintCorrectionLocalWhites2012 | 0.165552 |
PaintCorrectionLuminanceNoise | 0.000000 |
PaintCorrectionMaskCenterWeight | 0.281157 |
PaintCorrectionMaskFlow | 0.500368 |
PaintCorrectionMaskRadius (1) | 0.017625 |
PaintCorrectionMaskRadius (10) | 0.018905 |
PaintCorrectionMaskRadius (11) | 0.007696 |
PaintCorrectionMaskRadius (12) | 0.007236 |
PaintCorrectionMaskRadius (13) | 0.007983 |
PaintCorrectionMaskRadius (14) | 0.007850 |
PaintCorrectionMaskRadius (15) | 0.005590 |
PaintCorrectionMaskRadius (16) | 0.003501 |
PaintCorrectionMaskRadius (17) | 0.002529 |
PaintCorrectionMaskRadius (18) | 0.013673 |
PaintCorrectionMaskRadius (2) | 0.009542 |
PaintCorrectionMaskRadius (3) | 0.008018 |
PaintCorrectionMaskRadius (7) | 0.036684 |
PaintCorrectionMaskRadius (8) | 0.006347 |
PaintCorrectionMaskRadius | 0.007948 |
PaintCorrectionMaskValue | 1.000000 |
PaintCorrectionMaskWhat | Mask/Paint |
PaintCorrectionMoire | 0.000000 |
PaintCorrectionSaturation (3) | -0.250936 |
PaintCorrectionSaturation | 0.000000 |
PaintCorrectionShadows2012 (10) | 0.289138 |
PaintCorrectionShadows2012 (11) | 0.612605 |
PaintCorrectionShadows2012 (12) | 0.464153 |
PaintCorrectionShadows2012 (13) | 0.317662 |
PaintCorrectionShadows2012 (14) | 0.261204 |
PaintCorrectionShadows2012 (15) | -0.039022 |
PaintCorrectionShadows2012 (3) | 0.233841 |
PaintCorrectionShadows2012 | 0.000000 |
PaintCorrectionSharpness | 0.000000 |
PaintCorrectionTemperature (1) | 0.088015 |
PaintCorrectionTemperature (3) | 0.095506 |
PaintCorrectionTemperature (4) | 0.050562 |
PaintCorrectionTemperature | 0.000000 |
PaintCorrectionTint | 0.000000 |
PaintCorrectionWhat | Correction |
ParametricDarks | 0 |
ParametricHighlights | 0 |
ParametricHighlightSplit | 75 |
ParametricLights | 0 |
ParametricMidtoneSplit | 50 |
ParametricShadows | 0 |
ParametricShadowSplit | 25 |
PerspectiveAspect | 0 |
PerspectiveHorizontal | 0 |
PerspectiveRotate | 0.0 |
PerspectiveScale | 100 |
PerspectiveUpright | 0 |
PerspectiveVertical | 0 |
PerspectiveX | 0.00 |
PerspectiveY | 0.00 |
PostCropVignetteAmount | 0 |
ProcessVersion | 11.0 |
ProfileDescription | sRGB IEC61966-2.1 |
RecommendedExposureIndex | 100 |
RedHue | 0 |
RedSaturation | 0 |
Saturation | 0 |
SaturationAdjustmentAqua | 0 |
SaturationAdjustmentBlue | -42 |
SaturationAdjustmentGreen | 0 |
SaturationAdjustmentMagenta | 0 |
SaturationAdjustmentOrange | +3 |
SaturationAdjustmentPurple | 0 |
SaturationAdjustmentRed | 0 |
SaturationAdjustmentYellow | +5 |
ScaleFactor35efl | 1.9 |
SceneCaptureType | Standard |
SensitivityType | Recommended Exposure Index |
SerialNumber | 063021007969 |
Shadows2012 | +61 |
ShadowTint | 0 |
SharpenDetail | 25 |
SharpenEdgeMasking | 0 |
SharpenRadius | +1.0 |
Sharpness | 40 |
ShutterSpeed | 1/160 |
ShutterSpeedValue | 1/160 |
Software | Adobe Lightroom 5.2.5 (iOS) |
SplitToningBalance | 0 |
SplitToningHighlightHue | 0 |
SplitToningHighlightSaturation | 0 |
SplitToningShadowHue | 0 |
SplitToningShadowSaturation | 0 |
Texture | +8 |
Tint | +13 |
ToneCurve | 0, 0, 32, 22, 64, 56, 128, 128, 192, 196, 255, 255 |
ToneCurveBlue | 0, 0, 255, 255 |
ToneCurveGreen | 0, 0, 255, 255 |
ToneCurveName | Medium Contrast |
ToneCurveName2012 | Linear |
ToneCurvePV2012 | 0, 0, 255, 255 |
ToneCurvePV2012Blue | 0, 0, 255, 255 |
ToneCurvePV2012Green | 0, 0, 255, 255 |
ToneCurvePV2012Red | 0, 0, 255, 255 |
ToneCurveRed | 0, 0, 255, 255 |
ToneMapStrength | 0 |
Version | 12.2.1 |
Vibrance | +3 |
VignetteAmount | 0 |
VignetteCorrectionAlreadyApplied | True |
WhiteBalance (1) | As Shot |
WhiteBalance | Auto |
Whites2012 | 0 |