Felt | Verdi |
AlreadyApplied | True |
Aperture | 5.6 |
ApertureValue | 5.6 |
AutoLateralCA | 0 |
BitsPerSample (1) | 8 8 8 |
BitsPerSample | 8 |
Blacks2012 | -2 |
BlueHue | 0 |
BlueSaturation | 0 |
BrightnessValue | -0.30703125 |
CameraProfile | Embedded |
CircGradBasedCorrActive | true |
CircGradBasedCorrAmount | 1.000000 |
CircGradBasedCorrBrightness | 0.000000 |
CircGradBasedCorrClarity2012 (1) | 0.374826 |
CircGradBasedCorrClarity2012 (2) | 0.370660 |
CircGradBasedCorrClarity2012 (3) | 0.274881 |
CircGradBasedCorrClarity2012 | 0.447917 |
CircGradBasedCorrContrast2012 | 0.000000 |
CircGradBasedCorrCorrectionRangeMaskColorAmount | 0.500000 |
CircGradBasedCorrCorrectionRangeMaskLumFeather | 0.500000 |
CircGradBasedCorrCorrectionRangeMaskLumMax | 1.000000 |
CircGradBasedCorrCorrectionRangeMaskLumMin | 0.000000 |
CircGradBasedCorrCorrectionRangeMaskType | 0 |
CircGradBasedCorrCorrectionRangeMaskVersion | +2 |
CircGradBasedCorrDefringe | 0.000000 |
CircGradBasedCorrExposure2012 (1) | 0.075087 |
CircGradBasedCorrExposure2012 (2) | 0.182118 |
CircGradBasedCorrExposure2012 (3) | 0.439497 |
CircGradBasedCorrExposure2012 | 0.106510 |
CircGradBasedCorrHighlights2012 | 0.010851 |
CircGradBasedCorrHue | 210.302994 |
CircGradBasedCorrLocalBlacks2012 | 0.000000 |
CircGradBasedCorrLocalDehaze | 0.000000 |
CircGradBasedCorrLocalWhites2012 | 0.000000 |
CircGradBasedCorrLuminanceNoise | 0.000000 |
CircGradBasedCorrMaskAngle (1) | 40.739200 |
CircGradBasedCorrMaskAngle (2) | 0.000000 |
CircGradBasedCorrMaskAngle (3) | -17.392500 |
CircGradBasedCorrMaskAngle | 43.658000 |
CircGradBasedCorrMaskBottom (1) | 0.721582 |
CircGradBasedCorrMaskBottom (2) | 0.451255 |
CircGradBasedCorrMaskBottom (3) | 0.764897 |
CircGradBasedCorrMaskBottom | 0.255117 |
CircGradBasedCorrMaskFeather | +50 |
CircGradBasedCorrMaskFlipped | true |
CircGradBasedCorrMaskLeft (1) | 0.360233 |
CircGradBasedCorrMaskLeft (2) | 0.762756 |
CircGradBasedCorrMaskLeft (3) | 0.746749 |
CircGradBasedCorrMaskLeft | 0.576966 |
CircGradBasedCorrMaskMidpoint | +50 |
CircGradBasedCorrMaskRight (1) | 0.421770 |
CircGradBasedCorrMaskRight (2) | 0.888260 |
CircGradBasedCorrMaskRight (3) | 0.907785 |
CircGradBasedCorrMaskRight | 0.530647 |
CircGradBasedCorrMaskRoundness | 0 |
CircGradBasedCorrMaskTop (1) | 0.398771 |
CircGradBasedCorrMaskTop (2) | 0.290827 |
CircGradBasedCorrMaskTop (3) | 0.617479 |
CircGradBasedCorrMaskTop | -0.169838 |
CircGradBasedCorrMaskValue | 1.000000 |
CircGradBasedCorrMaskVersion | +2 |
CircGradBasedCorrMaskWhat | Mask/CircularGradient |
CircGradBasedCorrMoire | 0.000000 |
CircGradBasedCorrSaturation (1) | 0.184375 |
CircGradBasedCorrSaturation (3) | 0.150087 |
CircGradBasedCorrSaturation (7) | 0.238108 |
CircGradBasedCorrSaturation | 0.000000 |
CircGradBasedCorrShadows2012 | 0.000000 |
CircGradBasedCorrSharpness | 0.000000 |
CircGradBasedCorrTemperature | 0.000000 |
CircGradBasedCorrTint | 0.000000 |
CircGradBasedCorrWhat | Correction |
CircleOfConfusion | 0.030 mm |
Clarity2012 | 0 |
ColorComponents | 3 |
ColorMode | RGB |
ColorNoiseReduction | 0 |
ColorSpace | Uncalibrated |
ColorTransform | YCbCr |
Contrast | Normal |
Contrast2012 | -25 |
ConvertToGrayscale | False |
Copyright | @rofafoto |
CopyrightFlag | True |
CopyrightNotice | @rofafoto |
CreateDate | 2021:01:11 13:32:16 |
CreatorTool | Adobe Photoshop Lightroom Classic 7.3.1 (Macintosh) |
CropAngle | 0 |
CropBottom | 0.948395 |
CropConstrainToWarp | 0 |
CropLeft | 0.032353 |
CropRight | 1 |
CropTop | 0 |
CustomRendered | Normal |
DateCreated (1) | 2021:01:11 |
DateCreated | 2021:01:11 13:32:16 |
DateTimeOriginal | 2021:01:11 13:32:16 |
DefringeGreenAmount | 0 |
DefringeGreenHueHi | 60 |
DefringeGreenHueLo | 40 |
DefringePurpleAmount | 0 |
DefringePurpleHueHi | 70 |
DefringePurpleHueLo | 30 |
Dehaze | 0 |
DigitalZoomRatio | 1 |
DistortionCorrectionAlreadyApplied | True |
ExifImageHeight | 3553 |
ExifImageWidth | 4961 |
Exposure2012 | +0.39 |
ExposureCompensation | 0 |
ExposureMode | Manual |
ExposureProgram | Manual |
ExposureTime | 1/4 |
Flash | Off, Did not fire |
FNumber | 5.6 |
FocalLength | 35.0 mm |
FocalLength35efl | 35.0 mm (35 mm equivalent: 35.0 mm) |
FocalLengthIn35mmFormat | 35 mm |
Format | image/jpeg |
FOV | 54.4 deg |
GradientBasedCorrActive | true |
GradientBasedCorrAmount | 1.000000 |
GradientBasedCorrBrightness | 0.000000 |
GradientBasedCorrClarity2012 | -0.013889 |
GradientBasedCorrContrast2012 | 0.000000 |
GradientBasedCorrCorrectionRangeMaskColorAmount | 0.500000 |
GradientBasedCorrCorrectionRangeMaskLumFeather | 0.500000 |
GradientBasedCorrCorrectionRangeMaskLumMax | 1.000000 |
GradientBasedCorrCorrectionRangeMaskLumMin | 0.000000 |
GradientBasedCorrCorrectionRangeMaskType | 0 |
GradientBasedCorrCorrectionRangeMaskVersion | +2 |
GradientBasedCorrDefringe | 0.000000 |
GradientBasedCorrExposure2012 | -0.300087 |
GradientBasedCorrHighlights2012 | 0.010851 |
GradientBasedCorrHue | 210.302994 |
GradientBasedCorrLocalBlacks2012 | 0.000000 |
GradientBasedCorrLocalDehaze | 0.000000 |
GradientBasedCorrLocalWhites2012 | 0.000000 |
GradientBasedCorrLuminanceNoise | 0.000000 |
GradientBasedCorrMaskFullX (1) | 0.402728 |
GradientBasedCorrMaskFullX (2) | 0.001262 |
GradientBasedCorrMaskFullX (3) | 0.996315 |
GradientBasedCorrMaskFullX | 0.999242 |
GradientBasedCorrMaskFullY (1) | 0.999527 |
GradientBasedCorrMaskFullY (2) | 0.003136 |
GradientBasedCorrMaskFullY (3) | 0.003040 |
GradientBasedCorrMaskFullY | 0.446986 |
GradientBasedCorrMaskValue | 1.000000 |
GradientBasedCorrMaskWhat | Mask/Gradient |
GradientBasedCorrMaskZeroX (1) | 0.402728 |
GradientBasedCorrMaskZeroX (2) | 0.265571 |
GradientBasedCorrMaskZeroX (3) | 0.985400 |
GradientBasedCorrMaskZeroX | 0.939333 |
GradientBasedCorrMaskZeroY (1) | 0.815949 |
GradientBasedCorrMaskZeroY (2) | 0.276924 |
GradientBasedCorrMaskZeroY (3) | 0.014100 |
GradientBasedCorrMaskZeroY | 0.451527 |
GradientBasedCorrMoire | 0.000000 |
GradientBasedCorrSaturation | 0.000000 |
GradientBasedCorrShadows2012 | 0.000000 |
GradientBasedCorrSharpness | 0.000000 |
GradientBasedCorrTemperature | 0.000000 |
GradientBasedCorrTint | 0.000000 |
GradientBasedCorrWhat | Correction |
GrainAmount | 0 |
GreenHue | 0 |
GreenSaturation | 0 |
HasCrop | True |
HasSettings | True |
Highlights2012 | -53 |
HueAdjustmentAqua | 0 |
HueAdjustmentBlue | 0 |
HueAdjustmentGreen | 0 |
HueAdjustmentMagenta | 0 |
HueAdjustmentOrange | 0 |
HueAdjustmentPurple | 0 |
HueAdjustmentRed | 0 |
HueAdjustmentYellow | 0 |
HyperfocalDistance | 7.28 m |
ICCProfileName | Adobe RGB (1998) |
ImageHeight (1) | 3508 |
ImageHeight | 3553 |
ImageSize | 4961x3553 |
ImageWidth (1) | 4898 |
ImageWidth | 4961 |
IncrementalTemperature | 0 |
IncrementalTint | 0 |
ISO | 100 |
LateralChromaticAberrationCorrectionAlreadyApplied | True |
Lens | FE 35mm F2.8 ZA |
LensDistortInfo | 1063187867/1073741824 29986268/1073741824 -20062191/1073741824 -1889593/1073741824 |
LensInfo | 35mm f/2.8 |
LensManualDistortionAmount | 0 |
LensModel | FE 35mm F2.8 ZA |
LensProfileChromaticAberrationScale | 100 |
LensProfileDistortionScale | 100 |
LensProfileEnable | 1 |
LensProfileFilename | DSLR-A700 (Sony DT 18-200mm f3.5-6.3).lcp |
LensProfileName | Adobe (Sony DT 18-200mm f/3.5-6.3) |
LensProfileSetup | Custom |
LensProfileVignettingScale | 100 |
LightSource | Unknown |
LightValue | 7.0 |
LuminanceAdjustmentAqua | 0 |
LuminanceAdjustmentBlue | 0 |
LuminanceAdjustmentGreen | 0 |
LuminanceAdjustmentMagenta | 0 |
LuminanceAdjustmentOrange | 0 |
LuminanceAdjustmentPurple | 0 |
LuminanceAdjustmentRed | 0 |
LuminanceAdjustmentYellow | 0 |
LuminanceNoiseReductionContrast | 0 |
LuminanceNoiseReductionDetail | 50 |
LuminanceSmoothing | 2 |
Make | SONY |
Marked | True |
MaxApertureValue | 2.8 |
Megapixels | 17.6 |
MeteringMode | Center-weighted average |
Model | ILCE-7M2 |
ModifyDate (1) | 2021:01:11 13:05:36+01:00 |
ModifyDate | 2021:01:11 13:05:36 |
Orientation | Horizontal (normal) |
OverrideLookVignette | False |
ParametricDarks | 0 |
ParametricHighlights | 0 |
ParametricHighlightSplit | 75 |
ParametricLights | 0 |
ParametricMidtoneSplit | 50 |
ParametricShadows | 0 |
ParametricShadowSplit | 25 |
PerspectiveAspect | 0 |
PerspectiveHorizontal | 0 |
PerspectiveRotate | 0.0 |
PerspectiveScale | 100 |
PerspectiveUpright | 0 |
PerspectiveVertical | 0 |
PerspectiveX | 0.00 |
PerspectiveY | 0.00 |
PhotometricInterpretation | RGB |
PostCropVignetteAmount | -10 |
PostCropVignetteFeather | 50 |
PostCropVignetteHighlightContrast | 0 |
PostCropVignetteMidpoint | 50 |
PostCropVignetteRoundness | 0 |
PostCropVignetteStyle | 1 |
ProcessVersion | 10.0 |
ProfileDescription | Adobe RGB (1998) |
RawFileName | |
RecommendedExposureIndex | 100 |
RedHue | 0 |
RedSaturation | 0 |
Rights | @rofafoto |
SamplesPerPixel | 3 |
Saturation (1) | +2 |
Saturation | Normal |
SaturationAdjustmentAqua | 0 |
SaturationAdjustmentBlue | 0 |
SaturationAdjustmentGreen | 0 |
SaturationAdjustmentMagenta | 0 |
SaturationAdjustmentOrange | 0 |
SaturationAdjustmentPurple | 0 |
SaturationAdjustmentRed | 0 |
SaturationAdjustmentYellow | 0 |
ScaleFactor35efl | 1.0 |
SceneCaptureType | Standard |
SceneType | Directly photographed |
SensitivityType | Recommended Exposure Index |
Shadows2012 | +43 |
ShadowTint | 0 |
SharpenDetail | 25 |
SharpenEdgeMasking | 79 |
SharpenRadius | +1.0 |
Sharpness (1) | 150 |
Sharpness | Normal |
ShutterSpeed | 1/4 |
ShutterSpeedValue | 1/4 |
Software | Adobe Photoshop CC 2018 (Macintosh) |
SplitToningBalance | 0 |
SplitToningHighlightHue | 0 |
SplitToningHighlightSaturation | 0 |
SplitToningShadowHue | 0 |
SplitToningShadowSaturation | 0 |
ToneCurve | 0, 0, 255, 255 |
ToneCurveBlue | 0, 0, 255, 255 |
ToneCurveGreen | 0, 0, 255, 255 |
ToneCurveName | Linear |
ToneCurveName2012 | Linear |
ToneCurvePV2012 | 0, 0, 255, 255 |
ToneCurvePV2012Blue | 0, 0, 255, 255 |
ToneCurvePV2012Green | 0, 0, 255, 255 |
ToneCurvePV2012Red | 0, 0, 255, 255 |
ToneCurveRed | 0, 0, 255, 255 |
ToneMapStrength | 0 |
URL_List | |
Version | 10.3 |
Vibrance | +17 |
VignetteAmount | 0 |
VignetteCorrectionAlreadyApplied | True |
WhiteBalance (1) | As Shot |
WhiteBalance | Auto |
Whites2012 | +35 |