Felt | Verdi |
AlreadyApplied | True |
Aperture | 2.8 |
ApertureValue | 2.8 |
AutoLateralCA | 1 |
BitsPerSample | 8 |
Blacks2012 | +27 |
BlueHue | 0 |
BlueSaturation | 0 |
BrightnessValue | 3.21 |
CameraProfile | Adobe Standard |
CircleOfConfusion | 0.020 mm |
Clarity2012 | 0 |
ColorComponents | 3 |
ColorGradeBlending | 50 |
ColorGradeGlobalHue | 221 |
ColorGradeGlobalLum | 0 |
ColorGradeGlobalSat | 18 |
ColorGradeHighlightLum | 0 |
ColorGradeMidtoneHue | 44 |
ColorGradeMidtoneLum | 0 |
ColorGradeMidtoneSat | 39 |
ColorGradeShadowLum | 0 |
ColorNoiseReduction | 25 |
ColorNoiseReductionDetail | 50 |
ColorNoiseReductionSmoothness | 50 |
ColorSpace | sRGB |
ColorTemperature | 5300 |
ColorTransform | YCbCr |
Contrast2012 | +6 |
CreateDate | 2021:09:25 18:19:11 |
CreatorTool | Digital Camera X-T4 Ver1.22 |
CropAngle | 0 |
CropBottom | 1 |
CropConstrainToWarp | 0 |
CropLeft | 0 |
CropRight | 1 |
CropTop | 0 |
CustomRendered | Normal |
DateCreated (1) | 2021:09:25 18:19:11 |
DateCreated | 2021:09:25 |
DateTimeOriginal | 2021:09:25 18:19:11 |
DefringeGreenAmount | 0 |
DefringeGreenHueHi | 60 |
DefringeGreenHueLo | 40 |
DefringePurpleAmount | 0 |
DefringePurpleHueHi | 70 |
DefringePurpleHueLo | 30 |
Dehaze | 0 |
Exposure2012 | +0.19 |
ExposureCompensation | 0 |
ExposureMode | Auto |
ExposureProgram | Aperture-priority AE |
ExposureTime | 1/80 |
Flash | No Flash |
FNumber | 2.8 |
FocalLength | 55.0 mm |
FocalLength35efl | 55.0 mm (35 mm equivalent: 83.0 mm) |
FocalLengthIn35mmFormat | 83 mm |
Format | image/jpeg |
FOV | 24.5 deg |
FujiRatingAlreadyApplied | True |
GrainAmount | 0 |
GreenHue | 0 |
GreenSaturation | 0 |
HasCrop | False |
HasSettings | True |
Highlights2012 | -79 |
HueAdjustmentAqua | +31 |
HueAdjustmentBlue | -13 |
HueAdjustmentGreen | -27 |
HueAdjustmentMagenta | +25 |
HueAdjustmentOrange | +7 |
HueAdjustmentPurple | +10 |
HueAdjustmentRed | +47 |
HueAdjustmentYellow | -43 |
HyperfocalDistance | 54.26 m |
ImageHeight | 3328 |
ImageSize | 4992x3328 |
ImageWidth | 4992 |
ISO | 640 |
LateralChromaticAberrationCorrectionAlreadyApplied | True |
Lens | XF16-55mmF2.8 R LM WR |
LensInfo | 16-55mm f/2.8 |
LensMake | FUJIFILM |
LensManualDistortionAmount | 0 |
LensModel | XF16-55mmF2.8 R LM WR |
LensProfileEnable | 0 |
LensSerialNumber | 15C00588 |
LightSource | Unknown |
LightValue | 6.6 |
LookAmount | 1.000000 |
LookCopyright | © 2018 Adobe Systems, Inc. |
LookGroup | Profiles |
LookName | Adobe Color |
LookParametersCameraProfile | Adobe Standard |
LookParametersConvertToGrayscale | False |
LookParametersLookTable | E1095149FDB39D7A057BAB208837E2E1 |
LookParametersProcessVersion | 11.0 |
LookParametersToneCurvePV2012 | 0, 0, 22, 16, 40, 35, 127, 127, 224, 230, 240, 246, 255, 255 |
LookParametersToneCurvePV2012Blue | 0, 0, 255, 255 |
LookParametersToneCurvePV2012Green | 0, 0, 255, 255 |
LookParametersToneCurvePV2012Red | 0, 0, 255, 255 |
LookParametersVersion | 13.3 |
LookSupportsAmount | false |
LookSupportsMonochrome | false |
LookSupportsOutputReferred | false |
LuminanceAdjustmentAqua | -6 |
LuminanceAdjustmentBlue | -27 |
LuminanceAdjustmentGreen | +43 |
LuminanceAdjustmentMagenta | 0 |
LuminanceAdjustmentOrange | +3 |
LuminanceAdjustmentPurple | 0 |
LuminanceAdjustmentRed | -20 |
LuminanceAdjustmentYellow | -26 |
LuminanceSmoothing | 0 |
Make | FUJIFILM |
MaxApertureValue | 2.8 |
Megapixels | 16.6 |
MeteringMode | Multi-segment |
Model | X-T4 |
ModifyDate (1) | 2021:09:26 12:29:45+02:00 |
ModifyDate | 2021:09:26 12:29:45 |
OverrideLookVignette | False |
ParametricDarks | 0 |
ParametricHighlights | 0 |
ParametricHighlightSplit | 75 |
ParametricLights | 0 |
ParametricMidtoneSplit | 50 |
ParametricShadows | 0 |
ParametricShadowSplit | 25 |
PerspectiveAspect | 0 |
PerspectiveHorizontal | 0 |
PerspectiveRotate | 0.0 |
PerspectiveScale | 100 |
PerspectiveUpright | 0 |
PerspectiveVertical | 0 |
PerspectiveX | 0.00 |
PerspectiveY | 0.00 |
PostCropVignetteAmount | 0 |
ProcessVersion | 11.0 |
ProfileDescription | sRGB IEC61966-2.1 |
RedHue | 0 |
RedSaturation | 0 |
Saturation | 0 |
SaturationAdjustmentAqua | -93 |
SaturationAdjustmentBlue | -81 |
SaturationAdjustmentGreen | -80 |
SaturationAdjustmentMagenta | -20 |
SaturationAdjustmentOrange | -45 |
SaturationAdjustmentPurple | -10 |
SaturationAdjustmentRed | -47 |
SaturationAdjustmentYellow | -67 |
ScaleFactor35efl | 1.5 |
SceneCaptureType | Standard |
SceneType | Directly photographed |
SensingMethod | One-chip color area |
SensitivityType | Standard Output Sensitivity |
SerialNumber | 1BQ05127 |
Shadows2012 | +53 |
ShadowTint | 0 |
SharpenDetail | 25 |
SharpenEdgeMasking | 0 |
SharpenRadius | +1.0 |
Sharpness (1) | 40 |
Sharpness | Normal |
ShutterSpeed | 1/80 |
ShutterSpeedValue | 1/80 |
Software | Digital Camera X-T4 Ver1.22 |
SplitToningBalance | 0 |
SplitToningHighlightHue | 59 |
SplitToningHighlightSaturation | 24 |
SplitToningShadowHue | 14 |
SplitToningShadowSaturation | 26 |
SubjectDistanceRange | Unknown |
Texture | 0 |
Tint | +45 |
ToneCurveName2012 | Custom |
ToneCurvePV2012 | 0, 37, 46, 47, 98, 90, 157, 150, 255, 223 |
ToneCurvePV2012Blue | 0, 0, 38, 18, 79, 64, 115, 122, 179, 200, 255, 255 |
ToneCurvePV2012Green | 0, 0, 46, 20, 86, 72, 115, 124, 179, 200, 255, 255 |
ToneCurvePV2012Red | 0, 0, 47, 19, 82, 61, 114, 122, 177, 196, 255, 255 |
Version | 13.3 |
Vibrance | -20 |
VignetteAmount | 0 |
WhiteBalance (1) | As Shot |
WhiteBalance | Auto |
Whites2012 | -40 |