Felt | Verdi |
AlreadyApplied | True |
Aperture | 2.0 |
ApertureValue | 2.0 |
AutoLateralCA | 1 |
BitsPerSample | 8 |
Blacks2012 | -15 |
BlueHue | 0 |
BlueSaturation | 0 |
BrightnessValue | 1.3 |
CameraProfile | Camera ACROS+G Filter v2 |
CircleOfConfusion | 0.014 mm |
Clarity2012 | +5 |
ColorComponents | 3 |
ColorGradeBlending | 50 |
ColorGradeGlobalHue | 0 |
ColorGradeGlobalLum | 0 |
ColorGradeGlobalSat | 0 |
ColorGradeHighlightLum | 0 |
ColorGradeMidtoneHue | 0 |
ColorGradeMidtoneLum | 0 |
ColorGradeMidtoneSat | 0 |
ColorGradeShadowLum | 0 |
ColorNoiseReduction | 25 |
ColorNoiseReductionDetail | 50 |
ColorNoiseReductionSmoothness | 50 |
ColorSpace | sRGB |
ColorTemperature | 5500 |
ColorTransform | YCbCr |
CompatibleVersion | 234881024 |
Contrast2012 | +23 |
ConvertToGrayscale | True |
CreateDate (1) | 2020:11:03 15:23:00.000+01:00 |
CreateDate | 2020:11:03 15:23:00 |
CreatorTool | Adobe Lightroom 5.2 (Windows) |
CropAngle | 0 |
CropBottom | 0.885653 |
CropConstrainToWarp | 0 |
CropLeft | 0.139614 |
CropRight | 0.839594 |
CropTop | 0.185737 |
CustomRendered | Normal |
DateCreated (1) | 2020:11:03 |
DateCreated | 2020:11:03 15:23:00.000+01:00 |
DateTimeOriginal | 2020:11:03 15:23:00 |
Dehaze | +12 |
Exposure2012 | +0.79 |
ExposureCompensation | 0 |
ExposureMode | Manual |
ExposureProgram | Manual |
ExposureTime | 1/160 |
Flash | No Flash |
FNumber | 2.0 |
FocalLength | 23.0 mm |
FocalLength35efl | 23.0 mm (35 mm equivalent: 50.3 mm) |
Format | image/jpeg |
FOV | 39.4 deg |
FujiRatingAlreadyApplied | True |
GrainAmount | 35 |
GrainFrequency | 60 |
GrainSize | 25 |
GrayMixerAqua | -17 |
GrayMixerBlue | +13 |
GrayMixerGreen | -28 |
GrayMixerMagenta | +4 |
GrayMixerOrange | -20 |
GrayMixerPurple | +18 |
GrayMixerRed | -11 |
GrayMixerYellow | -24 |
GreenHue | 0 |
GreenSaturation | 0 |
HasCrop | True |
HasSettings | True |
Highlights2012 | +3 |
HyperfocalDistance | 19.27 m |
ImageHeight | 2912 |
ImageSize | 4368x2912 |
ImageWidth | 4368 |
ISO | 800 |
LateralChromaticAberrationCorrectionAlreadyApplied | True |
LensManualDistortionAmount | 0 |
LensProfileEnable | 0 |
LightSource | Unknown |
LightValue | 6.3 |
LuminanceSmoothing | 0 |
Make | FUJIFILM |
MaxApertureValue | 2.0 |
Megapixels | 12.7 |
MeteringMode | Spot |
Model | X100V |
ModifyDate (1) | 2022:03:28 12:20:31+02:00 |
ModifyDate | 2022:03:28 12:20:31 |
OverrideLookVignette | False |
ParametricDarks | 0 |
ParametricHighlights | 0 |
ParametricHighlightSplit | 75 |
ParametricLights | 0 |
ParametricMidtoneSplit | 50 |
ParametricShadows | 0 |
ParametricShadowSplit | 25 |
PerspectiveAspect | 0 |
PerspectiveHorizontal | 0 |
PerspectiveRotate | 0.0 |
PerspectiveScale | 100 |
PerspectiveUpright | 0 |
PerspectiveVertical | 0 |
PerspectiveX | 0.00 |
PerspectiveY | 0.00 |
PostCropVignetteAmount | -21 |
PostCropVignetteFeather | 50 |
PostCropVignetteHighlightContrast | 0 |
PostCropVignetteMidpoint | 50 |
PostCropVignetteRoundness | 0 |
PostCropVignetteStyle | 1 |
ProcessVersion | 11.0 |
ProfileDescription | sRGB IEC61966-2.1 |
Rating | 5 |
RawFileName | DSCF9892.RAF |
RedHue | 0 |
RedSaturation | 0 |
ScaleFactor35efl | 2.2 |
SceneCaptureType | Standard |
SceneType | Directly photographed |
SensingMethod | One-chip color area |
SensitivityType | Standard Output Sensitivity |
SerialNumber | 03M50966 |
Shadows2012 | -35 |
ShadowTint | 0 |
SharpenDetail | 60 |
SharpenEdgeMasking | 71 |
SharpenRadius | +1.0 |
Sharpness (1) | 25 |
Sharpness | Normal |
ShutterSpeed | 1/160 |
ShutterSpeedValue | 1/160 |
Software | Adobe Lightroom 5.2 (Windows) |
SplitToningBalance | 0 |
SplitToningHighlightHue | 0 |
SplitToningHighlightSaturation | 0 |
SplitToningShadowHue | 0 |
SplitToningShadowSaturation | 0 |
SubjectDistanceRange | Unknown |
Texture | +9 |
Tint | +36 |
ToneCurveName2012 | Custom |
ToneCurvePV2012 | 0, 9, 75, 52, 130, 128, 182, 178, 255, 255 |
ToneCurvePV2012Blue | 0, 0, 255, 255 |
ToneCurvePV2012Green | 0, 0, 255, 255 |
ToneCurvePV2012Red | 0, 0, 255, 255 |
Version | 14.2 |
VignetteAmount | 0 |
VignetteCorrectionAlreadyApplied | True |
WhiteBalance (1) | As Shot |
WhiteBalance | Auto |
Whites2012 | +9 |