Felt | Verdi |
AlreadyApplied | True |
Aperture | 8.0 |
ApertureValue | 8.0 |
AutoLateralCA | 0 |
BitsPerSample | 8 |
Blacks2012 | 0 |
BlueHue | 0 |
BlueSaturation | 0 |
CameraProfile | Adobe Standard |
CFAPattern | [Red,Green][Green,Blue] |
CircleOfConfusion | 0.015 mm |
Clarity2012 | +10 |
ColorComponents | 3 |
ColorGradeBlending | 50 |
ColorGradeGlobalHue | 0 |
ColorGradeGlobalLum | 0 |
ColorGradeGlobalSat | 0 |
ColorGradeHighlightLum | 0 |
ColorGradeMidtoneHue | 0 |
ColorGradeMidtoneLum | 0 |
ColorGradeMidtoneSat | 0 |
ColorGradeShadowLum | 0 |
ColorNoiseReduction | 25 |
ColorNoiseReductionDetail | 50 |
ColorNoiseReductionSmoothness | 50 |
ColorSpace | sRGB |
ColorTemperature | 5250 |
ColorTransform | YCbCr |
Contrast | Normal |
Contrast2012 | 0 |
CreateDate | 2022:04:14 16:48:37 |
CreatorTool | Adobe Photoshop Lightroom Classic 11.3 (Windows) |
CropAngle | -1.26295 |
CropBottom | 0.971445 |
CropConstrainToWarp | 0 |
CropLeft | 0.006247 |
CropRight | 0.993753 |
CropTop | 0.028555 |
CustomRendered | Normal |
DateCreated (1) | 2022:04:14 |
DateCreated | 2022:04:14 16:48:37 |
DateTimeOriginal | 2022:04:14 16:48:37 |
Dehaze | 0 |
DigitalZoomRatio | 1 |
DistortionCorrectionAlreadyApplied | True |
Exposure2012 | +0.10 |
ExposureCompensation | 0 |
ExposureMode | Auto |
ExposureProgram | Aperture-priority AE |
ExposureTime | 1/2500 |
Flash | On, Did not fire |
FlashCompensation | 0 |
FNumber | 8.0 |
FocalLength | 85.0 mm |
FocalLength35efl | 85.0 mm (35 mm equivalent: 170.0 mm) |
FocalLengthIn35mmFormat | 170 mm |
Format | image/jpeg |
FOV | 12.1 deg |
GainControl | Low gain up |
GrainAmount | 0 |
GrayMixerAqua | 0 |
GrayMixerBlue | -20 |
GrayMixerGreen | +20 |
GrayMixerMagenta | 0 |
GrayMixerOrange | 0 |
GrayMixerPurple | -11 |
GrayMixerRed | 0 |
GrayMixerYellow | +10 |
GreenHue | 0 |
GreenSaturation | 0 |
HasCrop | True |
HasSettings | True |
Highlights2012 | 0 |
HyperfocalDistance | 60.12 m |
ImageHeight | 3778 |
ImageSize | 5037x3778 |
ImageWidth | 5037 |
ISO | 400 |
Keywords | Påskeleir 2022 |
LateralChromaticAberrationCorrectionAlreadyApplied | True |
Lens | OM 40-150mm F4.0 |
LensInfo | 40-150mm f/4 |
LensManualDistortionAmount | 0 |
LensModel | OM 40-150mm F4.0 |
LensProfileEnable | 0 |
LensSerialNumber | A0BA02344 |
LightSource | Unknown |
LightValue | 15.3 |
LookAmount | 0.8 |
LookCluster | Adobe |
LookGroup | B&W |
LookName | B&W 04 |
LookParametersClarity2012 | +8 |
LookParametersContrast2012 | +8 |
LookParametersConvertToGrayscale | True |
LookParametersLookTable | AC0E24EFC658D3BD29B430044AE2FB7C |
LookParametersProcessVersion | 11.0 |
LookParametersToneCurvePV2012 | 0, 0, 17, 10, 34, 24, 51, 41, 68, 63, 85, 89, 102, 116, 119, 143, 136, 169, 153, 193, 170, 212, 187, 228, 204, 239, 221, 246, 238, 251, 255, 255 |
LookParametersToneCurvePV2012Blue | 0, 0, 255, 255 |
LookParametersToneCurvePV2012Green | 0, 0, 255, 255 |
LookParametersToneCurvePV2012Red | 0, 0, 255, 255 |
LookParametersVersion | 14.3 |
LookSortName | B&W 04 |
LookSupportsMonochrome | false |
LuminanceNoiseReductionContrast | 0 |
LuminanceNoiseReductionDetail | 50 |
LuminanceSmoothing | 15 |
Make | OLYMPUS CORPORATION |
MaxApertureValue | 4.0 |
Megapixels | 19.0 |
MeteringMode | Multi-segment |
Model | E-M10MarkIV |
ModifyDate (1) | 2022:04:21 20:26:23+02:00 |
ModifyDate | 2022:04:21 20:26:23 |
OverrideLookVignette | False |
ParametricDarks | 0 |
ParametricHighlights | 0 |
ParametricHighlightSplit | 75 |
ParametricLights | 0 |
ParametricMidtoneSplit | 50 |
ParametricShadows | 0 |
ParametricShadowSplit | 25 |
PerspectiveAspect | 0 |
PerspectiveHorizontal | 0 |
PerspectiveRotate | 0.0 |
PerspectiveScale | 100 |
PerspectiveUpright | 0 |
PerspectiveVertical | 0 |
PerspectiveX | 0.00 |
PerspectiveY | 0.00 |
PostCropVignetteAmount | 0 |
PreservedFileName | _4141522.ORF |
ProcessVersion | 11.0 |
ProfileDescription | sRGB IEC61966-2.1 |
RawFileName | _4141522.ORF |
RedHue | 0 |
RedSaturation | 0 |
Saturation | Normal |
ScaleFactor35efl | 2.0 |
SceneCaptureType | Standard |
SensitivityType | Standard Output Sensitivity |
SerialNumber | BJGA06426 |
Shadows2012 | 0 |
ShadowTint | 0 |
SharpenDetail | 25 |
SharpenEdgeMasking | 15 |
SharpenRadius | +1.0 |
Sharpness (1) | 60 |
Sharpness | Normal |
ShutterSpeed | 1/2500 |
ShutterSpeedValue | 1/2500 |
Software | Adobe Photoshop Lightroom Classic 11.3 (Windows) |
SplitToningBalance | 0 |
SplitToningHighlightHue | 0 |
SplitToningHighlightSaturation | 0 |
SplitToningShadowHue | 0 |
SplitToningShadowSaturation | 0 |
Subject | Påskeleir 2022 |
Texture | 0 |
Tint | +16 |
ToneCurveName2012 | Linear |
ToneCurvePV2012 | 0, 0, 255, 255 |
ToneCurvePV2012Blue | 0, 0, 255, 255 |
ToneCurvePV2012Green | 0, 0, 255, 255 |
ToneCurvePV2012Red | 0, 0, 255, 255 |
Version | 14.3 |
VignetteAmount | 0 |
WeightedFlatSubject | Påskeleir 2022 |
WhiteBalance (1) | As Shot |
WhiteBalance | Auto |
Whites2012 | 0 |