Felt | Verdi |
2022-09-17T08:16:23+02:00 File 2022_Sitting.psd saved
2022-09-17T08:41:36+02:00 File 2022_Sitting.psd opened
2022-09-17T09:31:25+02:00 File 2022_Sitting-4599.psd saved
2022-09-17T09:37:06+02:00 File 2022_Sitting-4599.psd opened
2022-09-17T09:50:08+02:00 File 2022_Sitting-4599-4600.psd saved
AlreadyApplied | True |
AutoLateralCA | 0 |
BitsPerSample | 8 |
Blacks2012 | -53 |
BlueHue | 0 |
BlueSaturation | 0 |
CameraProfile | Embedded |
Clarity2012 | 0 |
ColorComponents | 3 |
ColorGradeBlending | 100 |
ColorGradeGlobalHue | 0 |
ColorGradeGlobalLum | 0 |
ColorGradeGlobalSat | 0 |
ColorGradeHighlightLum | 0 |
ColorGradeMidtoneHue | 217 |
ColorGradeMidtoneLum | 0 |
ColorGradeMidtoneSat | 15 |
ColorGradeShadowLum | 0 |
ColorNoiseReduction | 0 |
ColorSpace | Uncalibrated |
ColorTransform | YCbCr |
Contrast2012 | 0 |
ConvertToGrayscale | False |
CreateDate (1) | 2022:09:17 08:10:55+02:00 |
CreateDate | 2022:09:17 08:10:55 |
CreatorTool | Adobe Photoshop Lightroom Classic 11.5 (Macintosh) |
CropAngle | 0 |
CropBottom | 1 |
CropConstrainToWarp | 0 |
CropLeft | 0 |
CropRight | 1 |
CropTop | 0 |
DefringeGreenAmount | 0 |
DefringeGreenHueHi | 60 |
DefringeGreenHueLo | 40 |
DefringePurpleAmount | 0 |
DefringePurpleHueHi | 70 |
DefringePurpleHueLo | 30 |
Dehaze | +14 |
Exposure2012 | 0.00 |
Format | image/jpeg |
GrainAmount | 22 |
GrainFrequency | 50 |
GrainSize | 17 |
GreenHue | 0 |
GreenSaturation | 0 |
HasCrop | False |
HasSettings | True |
Highlights2012 | 0 |
HueAdjustmentAqua | +21 |
HueAdjustmentBlue | +15 |
HueAdjustmentGreen | +37 |
HueAdjustmentMagenta | +25 |
HueAdjustmentOrange | -5 |
HueAdjustmentPurple | +27 |
HueAdjustmentRed | +13 |
HueAdjustmentYellow | +16 |
ImageHeight | 2048 |
ImageSize | 1593x2048 |
ImageWidth | 1593 |
IncrementalTemperature | 0 |
IncrementalTint | 0 |
LensManualDistortionAmount | 0 |
LensProfileEnable | 0 |
LuminanceAdjustmentAqua | 0 |
LuminanceAdjustmentBlue | -12 |
LuminanceAdjustmentGreen | 0 |
LuminanceAdjustmentMagenta | 0 |
LuminanceAdjustmentOrange | -10 |
LuminanceAdjustmentPurple | 0 |
LuminanceAdjustmentRed | -25 |
LuminanceAdjustmentYellow | 0 |
LuminanceSmoothing | 0 |
Megapixels | 3.3 |
ModifyDate (1) | 2022:09:17 09:51:59+02:00 |
ModifyDate | 2022:09:17 09:51:59 |
OverrideLookVignette | False |
ParametricDarks | 0 |
ParametricHighlights | 0 |
ParametricHighlightSplit | 75 |
ParametricLights | 0 |
ParametricMidtoneSplit | 50 |
ParametricShadows | 0 |
ParametricShadowSplit | 25 |
PerspectiveAspect | 0 |
PerspectiveHorizontal | 0 |
PerspectiveRotate | 0.0 |
PerspectiveScale | 100 |
PerspectiveUpright | 0 |
PerspectiveVertical | 0 |
PerspectiveX | 0.00 |
PerspectiveY | 0.00 |
PostCropVignetteAmount | 0 |
PreservedFileName | 2022_Sitting.psd |
ProcessVersion | 11.0 |
ProfileDescription | Display P3 |
Rating | 5 |
RawFileName | 2022_Sitting-4599-4600.psd |
RedHue | 0 |
RedSaturation | 0 |
Saturation | -7 |
SaturationAdjustmentAqua | -7 |
SaturationAdjustmentBlue | -9 |
SaturationAdjustmentGreen | -48 |
SaturationAdjustmentMagenta | -20 |
SaturationAdjustmentOrange | -1 |
SaturationAdjustmentPurple | -3 |
SaturationAdjustmentRed | -6 |
SaturationAdjustmentYellow | -23 |
Shadows2012 | 0 |
ShadowTint | 0 |
Sharpness | 0 |
Software | Adobe Photoshop Lightroom Classic 11.5 (Macintosh) |
SplitToningBalance | +76 |
SplitToningHighlightHue | 229 |
SplitToningHighlightSaturation | 0 |
SplitToningShadowHue | 2 |
SplitToningShadowSaturation | 16 |
Texture | -15 |
ToneCurveName2012 | Custom |
ToneCurvePV2012 | 0, 9, 39, 55, 103, 115, 173, 177, 255, 248 |
ToneCurvePV2012Blue | 0, 0, 255, 255 |
ToneCurvePV2012Green | 0, 0, 28, 33, 71, 71, 101, 104, 165, 167, 255, 255 |
ToneCurvePV2012Red | 0, 0, 255, 255 |
UserComment | Screenshot |
Version | 14.5 |
Vibrance | 0 |
VignetteAmount | 0 |
WhiteBalance | As Shot |
Whites2012 | -50 |