Felt | Verdi |
AlreadyApplied | True |
Aperture | 11.0 |
ApertureValue | 11.0 |
BitsPerSample | 8 |
BlueHue | 0 |
BlueSaturation | 0 |
Brightness | +50 |
By-line | Bjarte Hoff |
CameraProfile | ACR 4.4 |
ChromaticAberrationB | +74 |
ChromaticAberrationR | +62 |
CircleOfConfusion | 0.019 mm |
Clarity | +12 |
ColorComponents | 3 |
ColorNoiseReduction | 25 |
ColorTemperature | 3905 |
Contrast | +25 |
ConvertToGrayscale | False |
Copyright | Copyright (c) 2008 Bjarte Hoff |
CopyrightNotice | Copyright (c) 2008 Bjarte Hoff |
CreateDate (1) | 2008:09:07 16:48:12.01+02:00 |
CreateDate | 2008:09:07 16:48:12 |
Creator | Bjarte Hoff |
CreatorCountry | Norway |
CreatorTool | Adobe Photoshop Lightroom |
CustomRendered | Normal |
DateTimeDigitized | 2008:09:07 16:48:12.01+02:00 |
DateTimeOriginal (1) | 2008:09:07 16:48:12.01+02:00 |
DateTimeOriginal | 2008:09:07 16:48:12 |
Defringe | 2 |
ExifImageHeight | 533 |
ExifImageWidth | 800 |
Exposure | 0.00 |
ExposureCompensation | 0 |
ExposureMode | Manual |
ExposureProgram | Manual |
ExposureTime | 1/50 |
FillLight | 0 |
Firmware | 1.0.3 |
Flash | Off, Did not fire |
FlashCompensation | 0 |
FlashFired | False |
FlashFunction | False |
FlashMode | Off |
FlashRedEyeMode | False |
FlashReturn | No return detection |
FNumber | 11.0 |
FocalLength | 85.0 mm |
FocalLength35efl | 85.0 mm (35 mm equivalent: 137.6 mm) |
FOV | 14.9 deg |
GreenHue | 0 |
GreenSaturation | 0 |
HasCrop | False |
HasSettings | True |
HighlightRecovery | 0 |
HueAdjustmentAqua | 0 |
HueAdjustmentBlue | 0 |
HueAdjustmentGreen | 0 |
HueAdjustmentMagenta | 0 |
HueAdjustmentOrange | 0 |
HueAdjustmentPurple | 0 |
HueAdjustmentRed | 0 |
HueAdjustmentYellow | 0 |
HyperfocalDistance | 35.39 m |
ImageHeight | 533 |
ImageNumber | 0 |
ImageSize | 800x533 |
ImageWidth | 800 |
ISO | 200 |
Keywords | Blomar, Makro |
Lens | EF-S17-85mm f/4-5.6 IS USM |
LensInfo | 17-85mm f/? |
LightValue | 11.6 |
LuminanceAdjustmentAqua | 0 |
LuminanceAdjustmentBlue | 0 |
LuminanceAdjustmentGreen | 0 |
LuminanceAdjustmentMagenta | 0 |
LuminanceAdjustmentOrange | 0 |
LuminanceAdjustmentPurple | 0 |
LuminanceAdjustmentRed | 0 |
LuminanceAdjustmentYellow | 0 |
LuminanceSmoothing | 51 |
Make | Canon |
Marked | True |
MaxApertureValue | 5.7 |
Megapixels | 0.426 |
MeteringMode | Multi-segment |
Model | Canon EOS 40D |
ModifyDate (1) | 2008:09:18 21:00:13+02:00 |
ModifyDate | 2008:09:18 21:00:13 |
PaintCorrectionActive | true |
PaintCorrectionAmount | 1.000000 |
PaintCorrectionBrightness (1) | 0.525000 |
PaintCorrectionBrightness (2) | 0.500000 |
PaintCorrectionBrightness | 0.000000 |
PaintCorrectionClarity | 0.000000 |
PaintCorrectionContrast (3) | 0.000000 |
PaintCorrectionContrast | 1.000000 |
PaintCorrectionExposure (1) | 0.750000 |
PaintCorrectionExposure (2) | 0.950000 |
PaintCorrectionExposure (3) | 0.125000 |
PaintCorrectionExposure | 0.000000 |
PaintCorrectionHue | 240.000000 |
PaintCorrectionMaskCenterWeight | 0.000000 |
PaintCorrectionMaskFlow (1) | 0.307000 |
PaintCorrectionMaskFlow (22) | 0.295000 |
PaintCorrectionMaskFlow (25) | 0.220000 |
PaintCorrectionMaskFlow (33) | 1.000000 |
PaintCorrectionMaskFlow | 0.319000 |
PaintCorrectionMaskRadius (1) | 0.004081 |
PaintCorrectionMaskRadius (10) | 0.001818 |
PaintCorrectionMaskRadius (16) | 0.031374 |
PaintCorrectionMaskRadius (19) | 0.010498 |
PaintCorrectionMaskRadius (23) | 0.005453 |
PaintCorrectionMaskRadius (26) | 0.061242 |
PaintCorrectionMaskRadius (29) | 0.027389 |
PaintCorrectionMaskRadius (32) | 0.006343 |
PaintCorrectionMaskRadius (33) | 0.019287 |
PaintCorrectionMaskRadius (6) | 0.002368 |
PaintCorrectionMaskRadius | 0.004392 |
PaintCorrectionMaskValue (5) | 0.000000 |
PaintCorrectionMaskValue | 1.000000 |
PaintCorrectionMaskWhat | Mask/Paint |
PaintCorrectionSaturation (7) | -1.000000 |
PaintCorrectionSaturation | 0.000000 |
PaintCorrectionSharpness | 0.000000 |
PaintCorrectionWhat | Correction |
ParametricDarks | 0 |
ParametricHighlights | +17 |
ParametricHighlightSplit | 75 |
ParametricLights | +10 |
ParametricMidtoneSplit | 50 |
ParametricShadows | 0 |
ParametricShadowSplit | 25 |
PostCropVignetteAmount | 0 |
ProfileDescription | sRGB IEC61966-2.1 |
Rating | 5 |
RedHue | 0 |
RedSaturation | 0 |
Rights | Copyright (c) 2008 Bjarte Hoff |
Saturation | 0 |
SaturationAdjustmentAqua | 0 |
SaturationAdjustmentBlue | 0 |
SaturationAdjustmentGreen | 0 |
SaturationAdjustmentMagenta | 0 |
SaturationAdjustmentOrange | 0 |
SaturationAdjustmentPurple | 0 |
SaturationAdjustmentRed | 0 |
SaturationAdjustmentYellow | 0 |
ScaleFactor35efl | 1.6 |
SceneCaptureType | Standard |
SerialNumber | 530226136 |
Shadows | 5 |
ShadowTint | 0 |
SharpenDetail | 25 |
SharpenEdgeMasking | 0 |
SharpenRadius | +1.0 |
Sharpness | 25 |
ShutterSpeed | 1/50 |
ShutterSpeedValue | 1/50 |
SplitToningBalance | 0 |
SplitToningHighlightHue | 0 |
SplitToningHighlightSaturation | 0 |
SplitToningShadowHue | 0 |
SplitToningShadowSaturation | 0 |
Subject | Blomar, Makro |
Tint | +14 |
ToneCurve | 0, 0, 32, 16, 64, 50, 128, 128, 192, 202, 255, 255 |
ToneCurveName | Strong Contrast |
UsageTerms | All rights reserved. |
Version | 4.5 |
Vibrance | +31 |
VignetteAmount | 0 |
WebStatement | http;//www.bjarte.org |
WhiteBalance (2) | Custom |
WhiteBalance | Auto |