Felt | Verdi |
AlreadyApplied | True |
Aperture | 4.0 |
ApertureValue | 4.0 |
BitsPerSample | 8 |
BlueHue | 0 |
BlueSaturation | 0 |
Brightness | +50 |
CameraProfile | ACR 4.4 |
ChromaticAberrationB | 0 |
ChromaticAberrationR | 0 |
CircleOfConfusion | 0.019 mm |
Clarity | 0 |
ColorComponents | 3 |
ColorNoiseReduction | 25 |
ColorTemperature | 5350 |
Contrast | +25 |
ConvertToGrayscale | False |
CreateDate | 2008:10:01 20:29:31 |
CustomRendered | Normal |
DateTimeDigitized | 2008:10:01 20:29:31+02:00 |
DateTimeOriginal (1) | 2008:10:01 20:29:31+02:00 |
DateTimeOriginal | 2008:10:01 20:29:31 |
Defringe | 0 |
Exposure | 0.00 |
ExposureCompensation | 0 |
ExposureMode | Manual |
ExposureProgram | Manual |
ExposureTime | 30 |
FillLight | 0 |
Firmware | 1.1.1 |
Flash | Off, Did not fire |
FlashCompensation | 0 |
FlashFired | False |
FlashFunction | False |
FlashMode | Off |
FlashRedEyeMode | False |
FlashReturn | No return detection |
FNumber | 4.0 |
FocalLength | 10.0 mm |
FocalLength35efl | 10.0 mm (35 mm equivalent: 16.2 mm) |
FOV | 96.1 deg |
GreenHue | 0 |
GreenSaturation | 0 |
HasCrop | False |
HasSettings | True |
HighlightRecovery | 0 |
HueAdjustmentAqua | 0 |
HueAdjustmentBlue | 0 |
HueAdjustmentGreen | 0 |
HueAdjustmentMagenta | 0 |
HueAdjustmentOrange | -39 |
HueAdjustmentPurple | 0 |
HueAdjustmentRed | 0 |
HueAdjustmentYellow | 0 |
HyperfocalDistance | 1.35 m |
ImageHeight | 3888 |
ImageNumber | 192 |
ImageSize | 2592x3888 |
ImageWidth | 2592 |
ISO | 400 |
Lens | 10.0-20.0 mm |
LensInfo | 10-20mm f/? |
LightValue | -2.9 |
LuminanceAdjustmentAqua | +49 |
LuminanceAdjustmentBlue | +33 |
LuminanceAdjustmentGreen | +57 |
LuminanceAdjustmentMagenta | 0 |
LuminanceAdjustmentOrange | +17 |
LuminanceAdjustmentPurple | -2 |
LuminanceAdjustmentRed | 0 |
LuminanceAdjustmentYellow | 0 |
LuminanceSmoothing | 73 |
Make | Canon |
MaxApertureValue | 4.0 |
Megapixels | 10.1 |
MeteringMode | Multi-segment |
Model | Canon EOS DIGITAL REBEL XTi |
ModifyDate (1) | 2008:10:02 09:44:54+02:00 |
ModifyDate | 2008:10:02 09:44:54 |
ParametricDarks | 0 |
ParametricHighlights | 0 |
ParametricHighlightSplit | 75 |
ParametricLights | 0 |
ParametricMidtoneSplit | 50 |
ParametricShadows | 0 |
ParametricShadowSplit | 25 |
ProfileDescription | Adobe RGB (1998) |
RawFileName | IMG_8188.CR2 |
RedHue | 0 |
RedSaturation | 0 |
Saturation | 0 |
SaturationAdjustmentAqua | +32 |
SaturationAdjustmentBlue | 0 |
SaturationAdjustmentGreen | +25 |
SaturationAdjustmentMagenta | 0 |
SaturationAdjustmentOrange | 0 |
SaturationAdjustmentPurple | 0 |
SaturationAdjustmentRed | 0 |
SaturationAdjustmentYellow | 0 |
ScaleFactor35efl | 1.6 |
SceneCaptureType | Standard |
SerialNumber | 1521042815 |
Shadows | 5 |
ShadowTint | 0 |
SharpenDetail | 83 |
SharpenEdgeMasking | 85 |
SharpenRadius | +1.0 |
Sharpness | 61 |
ShutterSpeed | 30 |
ShutterSpeedValue | 30 |
SplitToningBalance | 0 |
SplitToningHighlightHue | 0 |
SplitToningHighlightSaturation | 0 |
SplitToningShadowHue | 0 |
SplitToningShadowSaturation | 0 |
Tint | +50 |
ToneCurve | 0, 0, 32, 22, 64, 56, 128, 128, 192, 196, 255, 255 |
ToneCurveName | Medium Contrast |
Version | 4.4.1 |
Vibrance | 0 |
VignetteAmount | 0 |
WhiteBalance (2) | As Shot |
WhiteBalance | Auto |