Felt | Verdi |
AlreadyApplied | True |
Aperture | 10.0 |
ApertureValue | 10.0 |
BitsPerSample | 8 |
BlueHue | 0 |
BlueSaturation | 0 |
Brightness | +50 |
By-line | Magne Skaarn |
CameraProfile | ACR 3.3 |
CFAPattern | [Green,Red][Blue,Green] |
ChromaticAberrationB | 0 |
ChromaticAberrationR | 0 |
CircleOfConfusion | 0.020 mm |
Clarity | +50 |
ColorComponents | 3 |
ColorNoiseReduction | 25 |
ColorTemperature | 6900 |
Contrast (2) | +25 |
Contrast | Normal |
ConvertToGrayscale | False |
Copyright | Magne Skaarn |
CopyrightFlag | True |
CopyrightNotice | Magne Skaarn |
CreateDate (1) | 2007:07:01 03:56:44.57+02:00 |
CreateDate | 2007:07:01 03:56:44 |
Creator | Magne Skaarn |
CreatorCountry | Norway |
CreatorTool | Adobe Photoshop Lightroom |
CreatorWorkTelephone | 004792229465 |
CropAngle | -0.304934 |
CropBottom | 0.669732 |
CropHeight | 412 |
CropLeft | 0 |
CropRight | 0.927098 |
CropTop | 0.044145 |
CropUnit | pixels |
CropWidth | 900 |
CustomRendered | Normal |
DateTimeDigitized | 2007:07:01 03:56:44.57+02:00 |
DateTimeOriginal (1) | 2007:07:01 03:56:44.57+02:00 |
DateTimeOriginal | 2007:07:01 03:56:44 |
Defringe | 0 |
DigitalZoomRatio | 1 |
ExifImageHeight | 412 |
ExifImageWidth | 900 |
Exposure | 0.00 |
ExposureCompensation | -1 |
ExposureMode | Auto |
ExposureProgram | Aperture-priority AE |
ExposureTime | 1/4 |
FillLight | 0 |
Flash | No Flash |
FlashFired | False |
FlashFunction | False |
FlashMode | Unknown |
FlashRedEyeMode | False |
FlashReturn | No return detection |
FNumber | 10.0 |
FocalLength | 48.0 mm |
FocalLength35efl | 48.0 mm (35 mm equivalent: 72.0 mm) |
FocalLengthIn35mmFormat | 72 mm |
FOV | 28.1 deg |
GainControl | None |
GreenHue | 0 |
GreenSaturation | 0 |
HasCrop | True |
HasSettings | True |
Headline | 2007 |
HighlightRecovery | 0 |
HueAdjustmentAqua | 0 |
HueAdjustmentBlue | 0 |
HueAdjustmentGreen | 0 |
HueAdjustmentMagenta | 0 |
HueAdjustmentOrange | 0 |
HueAdjustmentPurple | 0 |
HueAdjustmentRed | 0 |
HueAdjustmentYellow | 0 |
HyperfocalDistance | 11.50 m |
ImageHeight | 412 |
ImageNumber | 8456 |
ImageSize | 900x412 |
ImageWidth | 900 |
ISO | 100 |
Lens | 28.0-70.0 mm f/2.8 |
LensInfo | 28-70mm f/2.8 |
LightSource | Unknown |
LightValue | 8.6 |
LuminanceAdjustmentAqua | 0 |
LuminanceAdjustmentBlue | 0 |
LuminanceAdjustmentGreen | 0 |
LuminanceAdjustmentMagenta | 0 |
LuminanceAdjustmentOrange | 0 |
LuminanceAdjustmentPurple | 0 |
LuminanceAdjustmentRed | 0 |
LuminanceAdjustmentYellow | 0 |
LuminanceSmoothing | 0 |
Make | NIKON CORPORATION |
Marked | True |
MaxApertureValue | 2.8 |
Megapixels | 0.371 |
MeteringMode | Multi-segment |
Model | NIKON D200 |
ModifyDate (1) | 2008:12:28 21:11:13+01:00 |
ModifyDate | 2008:12:28 21:11:13 |
ParametricDarks | -57 |
ParametricHighlights | 0 |
ParametricHighlightSplit | 75 |
ParametricLights | +64 |
ParametricMidtoneSplit | 50 |
ParametricShadows | 0 |
ParametricShadowSplit | 25 |
PostCropVignetteAmount | 0 |
ProfileDescription | sRGB IEC61966-2.1 |
RedHue | 0 |
RedSaturation | 0 |
Rights | Magne Skaarn |
Saturation (2) | 0 |
Saturation | High |
SaturationAdjustmentAqua | 0 |
SaturationAdjustmentBlue | 0 |
SaturationAdjustmentGreen | 0 |
SaturationAdjustmentMagenta | 0 |
SaturationAdjustmentOrange | 0 |
SaturationAdjustmentPurple | 0 |
SaturationAdjustmentRed | +24 |
SaturationAdjustmentYellow | 0 |
ScaleFactor35efl | 1.5 |
SceneCaptureType | Standard |
SceneType | Directly photographed |
SensingMethod | One-chip color area |
Shadows | 12 |
ShadowTint | 0 |
SharpenDetail | 25 |
SharpenEdgeMasking | 0 |
SharpenRadius | +1.0 |
Sharpness (2) | 75 |
Sharpness | Hard |
ShutterSpeed | 1/4 |
ShutterSpeedValue | 1/4 |
Software | Ver.1.00 |
SplitToningBalance | 0 |
SplitToningHighlightHue | 0 |
SplitToningHighlightSaturation | 0 |
SplitToningShadowHue | 0 |
SplitToningShadowSaturation | 0 |
SubjectDistanceRange | Unknown |
Tint | +2 |
ToneCurve | 0, 0, 32, 16, 64, 50, 128, 128, 192, 202, 255, 255 |
ToneCurveName | Strong Contrast |
Version | 4.6 |
Vibrance | +25 |
VignetteAmount | 0 |
WhiteBalance (2) | As Shot |
WhiteBalance | Auto |