Felt | Verdi |
AlreadyApplied | True |
Aperture | 14.0 |
ApertureValue | 14.0 |
Artist | unknown |
BitsPerSample | 8 |
BlueHue | 0 |
BlueSaturation | +63 |
Brightness | +57 |
By-line | unknown |
CameraProfile | Embedded |
ChromaticAberrationB | 0 |
ChromaticAberrationR | 0 |
CircleOfConfusion | 0.019 mm |
Clarity | 0 |
ColorComponents | 3 |
ColorNoiseReduction | 25 |
Contrast | 0 |
ConvertToGrayscale | True |
CreateDate (1) | 2009:01:31 09:14:26+01:00 |
CreateDate | 2009:01:31 09:14:26 |
Creator | unknown |
CreatorTool | Adobe Photoshop Lightroom |
CropAngle | 2.88858 |
CropBottom | 1 |
CropHeight | 2413 |
CropLeft | 0.050817 |
CropRight | 0.949183 |
CropTop | 0 |
CropUnit | pixels |
CropWidth | 3619 |
CustomRendered | Normal |
DateTimeDigitized | 2009:01:31 09:14:26+01:00 |
DateTimeOriginal (1) | 2009:01:31 09:14:26+01:00 |
DateTimeOriginal | 2009:01:31 09:14:26 |
Defringe | 0 |
ExifImageHeight | 2413 |
ExifImageWidth | 3619 |
Exposure | +0.70 |
ExposureCompensation | 0 |
ExposureMode | Auto |
ExposureProgram | Aperture-priority AE |
ExposureTime | 1/60 |
FillLight | 0 |
Firmware | 1.1.1 |
Flash | Off, Did not fire |
FlashCompensation | 0 |
FlashFired | False |
FlashFunction | False |
FlashMode | Off |
FlashRedEyeMode | False |
FlashReturn | No return detection |
FNumber | 14.0 |
FocalLength | 29.0 mm |
FocalLength35efl | 29.0 mm (35 mm equivalent: 46.9 mm) |
FOV | 42.0 deg |
GrayMixerAqua | -20 |
GrayMixerBlue | +6 |
GrayMixerGreen | -25 |
GrayMixerMagenta | +8 |
GrayMixerOrange | -14 |
GrayMixerPurple | +16 |
GrayMixerRed | -3 |
GrayMixerYellow | -19 |
GreenHue | 0 |
GreenSaturation | 0 |
HasCrop | True |
HasSettings | True |
HighlightRecovery | 0 |
HyperfocalDistance | 3.24 m |
ImageHeight (1) | 2413 |
ImageHeight | 533 |
ImageNumber | 48 |
ImageSize | 800x533 |
ImageWidth (1) | 3619 |
ImageWidth | 800 |
IncrementalTemperature | +23 |
IncrementalTint | +49 |
ISO | 100 |
Lens | 17.0-50.0 mm |
LensInfo | 17-50mm f/? |
LightValue | 13.5 |
LuminanceSmoothing | 0 |
Make | Canon |
MaxApertureValue | 2.8 |
Megapixels | 0.426 |
MeteringMode | Multi-segment |
Model | Canon EOS 400D DIGITAL |
ModifyDate (1) | 2009:04:20 16:20:03+02:00 |
ModifyDate | 2009:04:20 16:20:03 |
OwnerName | unknown |
ParametricDarks | -2 |
ParametricHighlights | 0 |
ParametricHighlightSplit | 75 |
ParametricLights | +2 |
ParametricMidtoneSplit | 50 |
ParametricShadows | -20 |
ParametricShadowSplit | 25 |
PostCropVignetteAmount | 0 |
ProfileDescription | sRGB IEC61966-2.1 |
RedHue | 0 |
RedSaturation | -34 |
ScaleFactor35efl | 1.6 |
SceneCaptureType | Standard |
SerialNumber | 2281227749 |
Shadows | 8 |
ShadowTint | 0 |
SharpenDetail | 25 |
SharpenEdgeMasking | 0 |
SharpenRadius | +1.0 |
Sharpness | 25 |
ShutterSpeed | 1/60 |
ShutterSpeedValue | 1/60 |
SplitToningBalance | 0 |
SplitToningHighlightHue | 50 |
SplitToningHighlightSaturation | 66 |
SplitToningShadowHue | 30 |
SplitToningShadowSaturation | 28 |
ToneCurve | 0, 0, 255, 255 |
ToneCurveName | Linear |
Version | 5.3 |
VignetteAmount | -41 |
VignetteMidpoint | 48 |
WhiteBalance (2) | Custom |
WhiteBalance | Auto |