Felt | Verdi |
2009-06-19T12:59:50+02:00 File E:\Bilder\2009\6 juni\2009_06_18\rosenrot_MG_3643.psd saved
2009-06-19T13:09:15+02:00 File E:\Bilder\2009\6 juni\2009_06_18\rosenrot_MG_3643-sharp.psd saved
2009-06-19T13:10:12+02:00 File E:\Bilder\2009\6 juni\2009_06_18\rosenrot_MG_3643-sharp.jpg saved
2009-06-19T13:11:51+02:00 File E:\Bilder\2009\6 juni\2009_06_18\rosenrot_MG_3643-sharp.jpg saved
2009-06-19T13:11:51+02:00 File rosenrot_MG_3643-sharp.jpg closed
AlreadyApplied | True |
Aperture | 16.0 |
ApertureValue | 16.0 |
Artist | Helge Sterk |
BitsPerSample | 8 |
BlueHue | 0 |
BlueSaturation | 0 |
Brightness | +33 |
By-line | Helge Sterk |
CameraProfile | Adobe Standard |
ChromaticAberrationB | 0 |
ChromaticAberrationR | 0 |
CircleOfConfusion | 0.031 mm |
Clarity | 0 |
ColorComponents | 3 |
ColorMode | RGB |
ColorNoiseReduction | 25 |
ColorSpace | sRGB |
ColorTemperature | 5150 |
Contrast | +50 |
ConvertToGrayscale | False |
Copyright | Copyright: hsfoto.no |
CopyrightNotice | Copyright: hsfoto.no |
CreateDate (1) | 2009:06:18 12:42:30.24+02:00 |
CreateDate | 2009:06:18 12:42:30 |
Creator | Helge Sterk |
CustomRendered | Normal |
DateTimeDigitized | 2009:06:18 12:42:30.24+02:00 |
DateTimeOriginal (1) | 2009:06:18 12:42:30.24+02:00 |
DateTimeOriginal | 2009:06:18 12:42:30 |
Defringe | 0 |
ExifImageHeight | 658 |
ExifImageWidth | 903 |
Exposure | +1.20 |
ExposureCompensation | +1/3 |
ExposureMode | Auto |
ExposureProgram | Aperture-priority AE |
ExposureTime | 1/200 |
FillLight | 0 |
Firmware | 1.0.6 |
Flash | On, Fired |
FlashCompensation | 0 |
FlashFired | True |
FlashFunction | False |
FlashMode | On |
FlashRedEyeMode | False |
FlashReturn | No return detection |
FNumber | 16.0 |
FocalLength | 50.0 mm |
FocalLength35efl | 50.0 mm (35 mm equivalent: 48.8 mm) |
Format | image/jpeg |
FOV | 40.5 deg |
GreenHue | 0 |
GreenSaturation | 0 |
HasCrop | False |
HasSettings | True |
HighlightRecovery | 8 |
HueAdjustmentAqua | 0 |
HueAdjustmentBlue | 0 |
HueAdjustmentGreen | 0 |
HueAdjustmentMagenta | 0 |
HueAdjustmentOrange | 0 |
HueAdjustmentPurple | 0 |
HueAdjustmentRed | 0 |
HueAdjustmentYellow | 0 |
HyperfocalDistance | 5.08 m |
ICCProfileName | sRGB IEC61966-2.1 |
ImageHeight | 658 |
ImageNumber | 0 |
ImageSize | 903x658 |
ImageWidth | 903 |
ISO | 50 |
Lens | EF50mm f/1.2L USM |
LensInfo | 50mm f/? |
LightValue | 16.6 |
LuminanceAdjustmentAqua | 0 |
LuminanceAdjustmentBlue | 0 |
LuminanceAdjustmentGreen | 0 |
LuminanceAdjustmentMagenta | 0 |
LuminanceAdjustmentOrange | 0 |
LuminanceAdjustmentPurple | 0 |
LuminanceAdjustmentRed | 0 |
LuminanceAdjustmentYellow | 0 |
LuminanceSmoothing | 0 |
Make | Canon |
MaxApertureValue | 1.2 |
Megapixels | 0.594 |
MeteringMode | Multi-segment |
Model | Canon EOS 5D Mark II |
ModifyDate (1) | 2009:06:19 13:11:51+02:00 |
ModifyDate | 2009:06:19 13:11:51 |
Orientation | Horizontal (normal) |
OwnerName | Helge Sterk |
ParametricDarks | 0 |
ParametricHighlights | 0 |
ParametricHighlightSplit | 75 |
ParametricLights | 0 |
ParametricMidtoneSplit | 50 |
ParametricShadows | 0 |
ParametricShadowSplit | 25 |
PostCropVignetteAmount | 0 |
ProfileDescription | sRGB IEC61966-2.1 |
Rating | 0 |
RawFileName | _MG_3643.CR2 |
RedHue | 0 |
RedSaturation | 0 |
Rights | Copyright: hsfoto.no |
Saturation | +31 |
SaturationAdjustmentAqua | 0 |
SaturationAdjustmentBlue | 0 |
SaturationAdjustmentGreen | 0 |
SaturationAdjustmentMagenta | 0 |
SaturationAdjustmentOrange | 0 |
SaturationAdjustmentPurple | 0 |
SaturationAdjustmentRed | 0 |
SaturationAdjustmentYellow | 0 |
ScaleFactor35efl | 1.0 |
SceneCaptureType | Standard |
SerialNumber | 330232447 |
Shadows | 7 |
ShadowTint | 0 |
SharpenDetail | 25 |
SharpenEdgeMasking | 0 |
SharpenRadius | +1.0 |
Sharpness | 25 |
ShutterSpeed | 1/200 |
ShutterSpeedValue | 1/200 |
SidecarForExtension | CR2 |
Software | Adobe Photoshop CS4 Windows |
SplitToningBalance | 0 |
SplitToningHighlightHue | 0 |
SplitToningHighlightSaturation | 0 |
SplitToningShadowHue | 0 |
SplitToningShadowSaturation | 0 |
Tint | 0 |
ToneCurve | 0, 0, 32, 22, 64, 56, 128, 128, 192, 196, 255, 255 |
ToneCurveName | Medium Contrast |
URL_List | |
Version | 5.3 |
Vibrance | 0 |
VignetteAmount | 0 |
WhiteBalance (2) | Custom |
WhiteBalance | Auto |