Felt | Verdi |
AlreadyApplied | True |
Aperture | 8.0 |
ApertureValue | 8.0 |
Artist | Eric Fagerheim |
AuthorsPosition | photographer |
BitsPerSample | 8 |
BlueHue | +11 |
BlueSaturation | -21 |
Brightness | +36 |
By-line | Eric Fagerheim |
By-lineTitle | photographer |
CameraProfile | Embedded |
Caption-Abstract | Eric Fagerheim |
ChromaticAberrationB | 0 |
ChromaticAberrationR | 0 |
CircleOfConfusion | 0.020 mm |
Clarity | 0 |
ColorComponents | 3 |
ColorNoiseReduction | 25 |
Contrast (2) | +55 |
Contrast | Normal |
ConvertToGrayscale | True |
Copyright | Eric Fagerheim |
CopyrightFlag | True |
CopyrightNotice | Eric Fagerheim |
CreateDate (1) | 2009:10:31 15:41:44+01:00 |
CreateDate | 2009:10:31 15:41:44 |
Creator | Eric Fagerheim |
CreatorCity | Trondheim |
CreatorCountry | Norway |
CreatorTool | Adobe Photoshop Lightroom |
CreatorWorkTelephone | +92440401 |
CreatorWorkURL | http://www.fotofashon.no |
CropAngle | 0 |
CropBottom | 1 |
CropHeight | 800 |
CropLeft | 0.02353 |
CropRight | 1 |
CropTop | 0.122396 |
CropUnit | pixels |
CropWidth | 591 |
CustomRendered | Normal |
DateTimeDigitized | 2009:10:31 15:41:44+01:00 |
DateTimeOriginal (1) | 2009:10:31 15:41:44+01:00 |
DateTimeOriginal | 2009:10:31 15:41:44 |
Defringe | 0 |
Description | Eric Fagerheim |
ExifImageHeight | 800 |
ExifImageWidth | 591 |
Exposure | -0.48 |
ExposureCompensation | 0 |
ExposureMode | Manual |
ExposureProgram | Manual |
ExposureTime | 1/125 |
FillLight | 0 |
Flash | Off, Did not fire |
FlashFired | False |
FlashFunction | False |
FlashMode | Off |
FlashRedEyeMode | False |
FlashReturn | No return detection |
FNumber | 8.0 |
FocalLength | 58.0 mm |
FocalLength35efl | 58.0 mm (35 mm equivalent: 87.0 mm) |
FocalLengthIn35mmFormat | 87 mm |
FOV | 23.4 deg |
GrayMixerAqua | -10 |
GrayMixerBlue | +19 |
GrayMixerGreen | +31 |
GrayMixerMagenta | +17 |
GrayMixerOrange | +52 |
GrayMixerPurple | +100 |
GrayMixerRed | +12 |
GrayMixerYellow | +48 |
GreenHue | +16 |
GreenSaturation | +51 |
HasCrop | True |
HasSettings | True |
HighlightRecovery | 0 |
HyperfocalDistance | 20.99 m |
ImageDescription | Eric Fagerheim |
ImageHeight | 800 |
ImageSize | 591x800 |
ImageWidth | 591 |
IncrementalTemperature | 0 |
IncrementalTint | 0 |
ISO | 100 |
Keywords | akt, baby, barn, barne fotograf, beauty, bilde, bilder, bryllup, bryllupsfotograf, eric fagerheim, fashion, flink fotograf, foto, fotofashion, fotograf trondheim, konfirmasjon, linn nordskag, lokasjon, modell, modell fotograf, prortrett, studio, topp fotograf, ute |
Label | fotofashion |
Lens | smc PENTAX-DA* 50-135mm F2.8 ED [IF] SDM |
LensID (1) | 8 241 |
LensID | smc PENTAX-DA* 50-135mm F2.8 ED [IF] SDM |
LensInfo | 50-135mm f/2.8 |
LightValue | 13.0 |
LuminanceSmoothing | 0 |
Make | PENTAX |
Marked | True |
Megapixels | 0.473 |
MeteringMode | Multi-segment |
Model | PENTAX K20D |
ModifyDate (1) | 2009:11:01 14:41:26+01:00 |
ModifyDate | 2009:11:01 14:41:26 |
PaintCorrectionActive | true |
PaintCorrectionAmount | 1.000000 |
PaintCorrectionBrightness | 0.000000 |
PaintCorrectionClarity | 0.000000 |
PaintCorrectionContrast | 0.000000 |
PaintCorrectionExposure | 0.175000 |
PaintCorrectionHue | 0.000000 |
PaintCorrectionMaskCenterWeight | 0.000000 |
PaintCorrectionMaskFlow | 0.220000 |
PaintCorrectionMaskRadius (2) | 0.182164 |
PaintCorrectionMaskRadius | 0.099774 |
PaintCorrectionMaskValue | 1.000000 |
PaintCorrectionMaskWhat | Mask/Paint |
PaintCorrectionSaturation | 0.000000 |
PaintCorrectionSharpness | 0.000000 |
PaintCorrectionWhat | Correction |
ParametricDarks | -33 |
ParametricHighlights | 0 |
ParametricHighlightSplit | 75 |
ParametricLights | +7 |
ParametricMidtoneSplit | 50 |
ParametricShadows | 0 |
ParametricShadowSplit | 25 |
PostCropVignetteAmount | 0 |
ProfileDescription | sRGB IEC61966-2.1 |
Rating | 1 |
RedHue | +23 |
RedSaturation | +10 |
Rights | Eric Fagerheim |
Saturation | Normal |
ScaleFactor35efl | 1.5 |
SceneCaptureType | Standard |
SensingMethod | One-chip color area |
Shadows | 0 |
ShadowTint | +4 |
SharpenDetail | 25 |
SharpenEdgeMasking | 0 |
SharpenRadius | +1.0 |
Sharpness (2) | 25 |
Sharpness | Hard |
ShutterSpeed | 1/125 |
ShutterSpeedValue | 1/125 |
Software | Adobe Photoshop Lightroom |
SplitToningBalance | 0 |
SplitToningHighlightHue | 11 |
SplitToningHighlightSaturation | 1 |
SplitToningShadowHue | 353 |
SplitToningShadowSaturation | 6 |
Subject | akt, baby, barn, barne fotograf, beauty, bilde, bilder, bryllup, bryllupsfotograf, eric fagerheim, fashion, flink fotograf, foto, fotofashion, fotograf trondheim, konfirmasjon, linn nordskag, lokasjon, modell, modell fotograf, prortrett, studio, topp fotograf, ute |
SubjectDistanceRange | Close |
ToneCurve | 0, 0, 255, 255 |
ToneCurveName | Linear |
URL | http://www.fotofashion.no |
Version | 5.4 |
VignetteAmount | 0 |
WebStatement | http://www.fotofashion.no |
WhiteBalance (2) | As Shot |
WhiteBalance | Auto |