Felt | Verdi |
AlreadyApplied | True |
Aperture | 4.0 |
ApertureValue | 4.0 |
BitsPerSample | 8 |
BlueHue | 0 |
BlueSaturation | 0 |
Brightness | +34 |
CameraProfile | Embedded |
ChromaticAberrationB | 0 |
ChromaticAberrationR | 0 |
CircleOfConfusion | 0.019 mm |
Clarity | -10 |
ColorComponents | 3 |
ColorNoiseReduction | 0 |
ColorSpace | sRGB |
Contrast | +27 |
ConvertToGrayscale | False |
CreateDate (1) | 2010:01:17 15:08:51+01:00 |
CreateDate | 2009:08:03 08:04:16 |
CreatorTool | Adobe Photoshop Lightroom |
CropAngle | 0 |
CropBottom | 0.938998 |
CropHeight | 667 |
CropLeft | 0.02471 |
CropRight | 0.915778 |
CropTop | 0.04793 |
CropUnit | pixels |
CropWidth | 1000 |
CustomRendered | Normal |
DateTimeDigitized | 2009:08:03 08:04:16.00+02:00 |
DateTimeOriginal (1) | 2009:08:03 08:04:16.00+02:00 |
DateTimeOriginal | 2009:08:03 08:04:16 |
Defringe | 0 |
DerivedFrom | |
ExifImageHeight | 667 |
ExifImageWidth | 1000 |
Exposure | -0.33 |
ExposureCompensation | +2/3 |
ExposureMode | Auto |
ExposureProgram | Aperture-priority AE |
ExposureTime | 1/50 |
FillLight | 0 |
Firmware | 1.0.4 |
Flash | Off, Did not fire |
FlashCompensation | 0 |
FlashFired | False |
FlashFunction | False |
FlashMode | Off |
FlashRedEyeMode | False |
FlashReturn | No return detection |
FNumber | 4.0 |
FocalLength | 97.0 mm |
FocalLength35efl | 97.0 mm (35 mm equivalent: 157.0 mm) |
Format | application/vnd.adobe.photoshop |
FOV | 13.1 deg |
GreenHue | 0 |
GreenSaturation | -35 |
HasCrop | True |
HasSettings | True |
HighlightRecovery | 21 |
HueAdjustmentAqua | 0 |
HueAdjustmentBlue | 0 |
HueAdjustmentGreen | 0 |
HueAdjustmentMagenta | 0 |
HueAdjustmentOrange | 0 |
HueAdjustmentPurple | 0 |
HueAdjustmentRed | 0 |
HueAdjustmentYellow | 0 |
HyperfocalDistance | 126.73 m |
ImageHeight | 667 |
ImageNumber | 0 |
ImageSize | 1000x667 |
ImageWidth | 1000 |
IncrementalTemperature | +4 |
IncrementalTint | 0 |
ISO | 100 |
Lens | EF70-200mm f/4L IS USM |
LensInfo | 70-200mm f/? |
LightValue | 9.6 |
LuminanceAdjustmentAqua | 0 |
LuminanceAdjustmentBlue | 0 |
LuminanceAdjustmentGreen | 0 |
LuminanceAdjustmentMagenta | 0 |
LuminanceAdjustmentOrange | 0 |
LuminanceAdjustmentPurple | 0 |
LuminanceAdjustmentRed | 0 |
LuminanceAdjustmentYellow | 0 |
LuminanceSmoothing | 0 |
Make | Canon |
MaxApertureValue | 4.0 |
Megapixels | 0.667 |
MeteringMode | Multi-segment |
Model | Canon EOS 40D |
ModifyDate (1) | 2010:01:17 17:27:16+01:00 |
ModifyDate | 2010:01:17 17:27:16 |
PaintCorrectionActive | true |
PaintCorrectionAmount | 1.000000 |
PaintCorrectionBrightness | 0.000000 |
PaintCorrectionClarity (1) | 0.479000 |
PaintCorrectionClarity | -1.000000 |
PaintCorrectionContrast (1) | 0.619195 |
PaintCorrectionContrast | -1.000000 |
PaintCorrectionExposure (1) | -0.105146 |
PaintCorrectionExposure | -0.310345 |
PaintCorrectionHue (1) | 59.000000 |
PaintCorrectionHue | 232.000000 |
PaintCorrectionMaskCenterWeight (111) | 0.091098 |
PaintCorrectionMaskCenterWeight | 0.000000 |
PaintCorrectionMaskFlow (17) | 1.000000 |
PaintCorrectionMaskFlow | 0.988621 |
PaintCorrectionMaskRadius (1) | 0.512956 |
PaintCorrectionMaskRadius (107) | 0.282333 |
PaintCorrectionMaskRadius (156) | 0.206220 |
PaintCorrectionMaskRadius (31) | 0.146151 |
PaintCorrectionMaskRadius (92) | 0.078112 |
PaintCorrectionMaskRadius | 0.450295 |
PaintCorrectionMaskValue (32) | 1.000000 |
PaintCorrectionMaskValue | 0.000000 |
PaintCorrectionMaskWhat | Mask/Paint |
PaintCorrectionSaturation (1) | 0.000000 |
PaintCorrectionSaturation (2) | 0.260000 |
PaintCorrectionSaturation | 0.320000 |
PaintCorrectionSharpness | 0.000000 |
PaintCorrectionWhat | Correction |
ParametricDarks | 0 |
ParametricHighlights | 0 |
ParametricHighlightSplit | 75 |
ParametricLights | 0 |
ParametricMidtoneSplit | 50 |
ParametricShadows | 0 |
ParametricShadowSplit | 25 |
PostCropVignetteAmount | +48 |
PostCropVignetteFeather | 70 |
PostCropVignetteMidpoint | 0 |
PostCropVignetteRoundness | +69 |
ProfileDescription | sRGB IEC61966-2.1 |
RedHue | -44 |
RedSaturation | +17 |
Saturation | 0 |
SaturationAdjustmentAqua | 0 |
SaturationAdjustmentBlue | 0 |
SaturationAdjustmentGreen | 0 |
SaturationAdjustmentMagenta | 0 |
SaturationAdjustmentOrange | 0 |
SaturationAdjustmentPurple | 0 |
SaturationAdjustmentRed | 0 |
SaturationAdjustmentYellow | 0 |
ScaleFactor35efl | 1.6 |
SceneCaptureType | Standard |
SerialNumber | 630446683 |
Shadows | 0 |
ShadowTint | 0 |
SharpenDetail | 25 |
SharpenEdgeMasking | 0 |
SharpenRadius | +1.0 |
Sharpness | 0 |
ShutterSpeed | 1/50 |
ShutterSpeedValue | 1/50 |
Software | Adobe Photoshop CS3 Macintosh |
SplitToningBalance | 0 |
SplitToningHighlightHue | 0 |
SplitToningHighlightSaturation | 0 |
SplitToningShadowHue | 0 |
SplitToningShadowSaturation | 0 |
ToneCurve | 0, 0, 255, 255 |
ToneCurveName | Linear |
Version | 5.5 |
Vibrance | 0 |
VignetteAmount | 0 |
WhiteBalance (2) | Custom |
WhiteBalance | Auto |