Felt | Verdi |
AlreadyApplied | False |
BitsPerSample | 8 |
BlueHue | 0 |
BlueSaturation | 0 |
Brightness | +50 |
CameraProfile | Adobe Standard |
ChromaticAberrationB | 0 |
ChromaticAberrationR | 0 |
Clarity | +67 |
ColorComponents | 3 |
ColorMode | RGB |
ColorNoiseReduction | 25 |
ColorSpace | Uncalibrated |
ColorTemperature | 6050 |
Contrast | +64 |
ConvertToGrayscale | False |
CreateDate | 2010:02:20 20:56:15.10+01:00 |
CreatorTool | Elements Organizer 8.0 |
CropAngle | 0.132979 |
CropBottom | 0.907013 |
CropLeft | 0.236161 |
CropRight | 0.926704 |
CropTop | 0.380349 |
DateTimeDigitized | 2010:02:20 20:56:15.1+01:00 |
DateTimeOriginal | 2010:02:20 19:56:15Z |
Defringe | 0 |
ExifImageHeight | 1049 |
ExifImageWidth | 2080 |
Exposure | 0.00 |
FillLight | 0 |
Flash | No Flash |
FlashFired | False |
FlashFunction | False |
FlashMode | Unknown |
FlashRedEyeMode | False |
FlashReturn | No return detection |
GPSLatitude (2) | 0 deg 0' 0.00" |
GPSLatitude | 0 deg 0' 0.00" N |
GPSLatitudeRef | North |
GPSLongitude (2) | 0 deg 0' 0.00" |
GPSLongitude | 0 deg 0' 0.00" E |
GPSLongitudeRef (1) | Unknown () |
GPSLongitudeRef | East |
GPSPosition | 0 deg 0' 0.00" N, 0 deg 0' 0.00" E |
GreenHue | 0 |
GreenSaturation | 0 |
HasCrop | True |
HasSettings | True |
HighlightRecovery | 0 |
HueAdjustmentAqua | 0 |
HueAdjustmentBlue | 0 |
HueAdjustmentGreen | 0 |
HueAdjustmentMagenta | 0 |
HueAdjustmentOrange | 0 |
HueAdjustmentPurple | 0 |
HueAdjustmentRed | 0 |
HueAdjustmentYellow | 0 |
ICCProfileName | |
ImageHeight | 1049 |
ImageNumber | 2762 |
ImageSize | 2080x1049 |
ImageWidth | 2080 |
Keywords | In Focus, High Quality |
Lens | 18.0-70.0 mm f/3.5-4.5 |
LensInfo | 18-70mm f/3.5-4.5 |
LuminanceAdjustmentAqua | 0 |
LuminanceAdjustmentBlue | 0 |
LuminanceAdjustmentGreen | 0 |
LuminanceAdjustmentMagenta | 0 |
LuminanceAdjustmentOrange | 0 |
LuminanceAdjustmentPurple | 0 |
LuminanceAdjustmentRed | 0 |
LuminanceAdjustmentYellow | 0 |
LuminanceSmoothing | 0 |
Make | NIKON CORPORATION |
Megapixels | 2.2 |
Model | NIKON D70s |
ModifyDate (1) | 2010:03:01 23:01:12+01:00 |
ModifyDate | 2010:03:01 23:01:12 |
ParametricDarks | 0 |
ParametricHighlights | 0 |
ParametricHighlightSplit | 75 |
ParametricLights | 0 |
ParametricMidtoneSplit | 50 |
ParametricShadows | 0 |
ParametricShadowSplit | 25 |
PostCropVignetteAmount | 0 |
Rating | 0 |
RawFileName | 20 02 10_0082.NEF |
RedHue | 0 |
RedSaturation | 0 |
Saturation | +62 |
SaturationAdjustmentAqua | 0 |
SaturationAdjustmentBlue | 0 |
SaturationAdjustmentGreen | 0 |
SaturationAdjustmentMagenta | 0 |
SaturationAdjustmentOrange | 0 |
SaturationAdjustmentPurple | 0 |
SaturationAdjustmentRed | 0 |
SaturationAdjustmentYellow | 0 |
SerialNumber | 3006ee09 |
Shadows | 5 |
ShadowTint | 0 |
SharpenDetail | 25 |
SharpenEdgeMasking | 0 |
SharpenRadius | +1.0 |
Sharpness | 25 |
Software | Elements Organizer 8.0 |
SplitToningBalance | 0 |
SplitToningHighlightHue | 0 |
SplitToningHighlightSaturation | 0 |
SplitToningShadowHue | 0 |
SplitToningShadowSaturation | 0 |
Subject | In Focus, High Quality |
Tint | -22 |
ToneCurve | 0, 0, 32, 22, 64, 56, 128, 128, 192, 196, 255, 255 |
ToneCurveName | Medium Contrast |
Version | 5.5 |
Vibrance | +72 |
VignetteAmount | 0 |
WhiteBalance | Custom |