Felt | Verdi |
AlreadyApplied | True |
Aperture | 8.0 |
ApertureValue | 8.0 |
Artist | Vidar Jensen |
BitsPerSample | 8 |
BlueHue | 0 |
BlueSaturation | 0 |
Brightness | +50 |
By-line | Monica Johansen |
CameraProfile | Embedded |
ChromaticAberrationB | 0 |
ChromaticAberrationR | 0 |
CircleOfConfusion | 0.019 mm |
Clarity | 50 |
ColorComponents | 3 |
ColorNoiseReduction | 0 |
ColorTemperature | 4900 |
Contrast | 0 |
ConvertToGrayscale | False |
Copyright | www.monicajohansen.com |
CopyrightNotice | www.monicajohansen.com |
CreateDate | 2010:04:25 18:11:07 |
Creator | Monica Johansen |
CreatorAddress | Storehaugen 21 |
CreatorCountry | Norway |
CreatorPostalCode | N-5304 |
CreatorRegion | Hetlevik |
CreatorTool | Adobe Photoshop Lightroom |
CreatorWorkEmail | monica.johansen@gmail.com |
CreatorWorkURL | www.monicajohansen.com |
CropAngle | 0 |
CropBottom | 0.929245 |
CropHeight | 1819 |
CropLeft | 0.201258 |
CropRight | 0.769654 |
CropTop | 0.227594 |
CropUnit | pixels |
CropWidth | 2210 |
CustomRendered | Normal |
DateTimeDigitized | 2010:04:25 18:11:07.51+02:00 |
DateTimeOriginal (1) | 2010:04:25 18:11:07.51+02:00 |
DateTimeOriginal | 2010:04:25 18:11:07 |
Defringe | 0 |
Exposure | 0.00 |
ExposureCompensation | 0 |
ExposureMode | Manual |
ExposureProgram | Manual |
ExposureTime | 1/125 |
FillLight | 0 |
Firmware | 1.0.8 |
Flash | Off, Did not fire |
FlashCompensation | 0 |
FlashFired | False |
FlashFunction | False |
FlashMode | Off |
FlashRedEyeMode | False |
FlashReturn | No return detection |
FNumber | 8.0 |
FocalLength | 35.0 mm |
FocalLength35efl | 35.0 mm (35 mm equivalent: 56.7 mm) |
FOV | 35.2 deg |
GreenHue | 0 |
GreenSaturation | 0 |
HasCrop | True |
HasSettings | True |
HighlightRecovery | 0 |
HueAdjustmentAqua | 0 |
HueAdjustmentBlue | 0 |
HueAdjustmentGreen | 0 |
HueAdjustmentMagenta | 0 |
HueAdjustmentOrange | 0 |
HueAdjustmentPurple | 0 |
HueAdjustmentRed | 0 |
HueAdjustmentYellow | 0 |
HyperfocalDistance | 8.25 m |
ImageHeight | 1819 |
ImageNumber | 0 |
ImageSize | 2210x1819 |
ImageWidth | 2210 |
ISO | 100 |
Keywords | Katt 2010 |
Lens | EF24-105mm f/4L IS USM |
LensInfo | 24-105mm f/? |
LightValue | 13.0 |
LuminanceAdjustmentAqua | 0 |
LuminanceAdjustmentBlue | 0 |
LuminanceAdjustmentGreen | 0 |
LuminanceAdjustmentMagenta | 0 |
LuminanceAdjustmentOrange | 0 |
LuminanceAdjustmentPurple | 0 |
LuminanceAdjustmentRed | 0 |
LuminanceAdjustmentYellow | 0 |
LuminanceSmoothing | 0 |
Make | Canon |
Marked | True |
MaxApertureValue | 4.0 |
Megapixels | 4.0 |
MeteringMode | Multi-segment |
Model | Canon EOS 40D |
ModifyDate (1) | 2010:04:26 22:26:25+02:00 |
ModifyDate | 2010:04:26 22:26:25 |
OwnerName | Vidar Jensen |
ParametricDarks | -5 |
ParametricHighlights | 0 |
ParametricHighlightSplit | 75 |
ParametricLights | +5 |
ParametricMidtoneSplit | 50 |
ParametricShadows | 0 |
ParametricShadowSplit | 25 |
ProfileDescription | sRGB IEC61966-2.1 |
RedHue | 0 |
RedSaturation | 0 |
Rights | www.monicajohansen.com |
Saturation | 0 |
SaturationAdjustmentAqua | 0 |
SaturationAdjustmentBlue | 0 |
SaturationAdjustmentGreen | 0 |
SaturationAdjustmentMagenta | 0 |
SaturationAdjustmentOrange | 0 |
SaturationAdjustmentPurple | 0 |
SaturationAdjustmentRed | 0 |
SaturationAdjustmentYellow | 0 |
ScaleFactor35efl | 1.6 |
SceneCaptureType | Standard |
SerialNumber | 330110850 |
Shadows | 2 |
ShadowTint | 0 |
SharpenDetail | 50 |
SharpenEdgeMasking | 70 |
SharpenRadius | +0.8 |
Sharpness | 50 |
ShutterSpeed | 1/125 |
ShutterSpeedValue | 1/125 |
SplitToningBalance | 0 |
SplitToningHighlightHue | 0 |
SplitToningHighlightSaturation | 0 |
SplitToningShadowHue | 0 |
SplitToningShadowSaturation | 0 |
Subject | Katt 2010 |
Tint | -4 |
ToneCurve | 0, 0, 32, 22, 64, 56, 128, 128, 192, 196, 255, 255 |
ToneCurveName | Medium Contrast |
Version | 4.4.1 |
Vibrance | +20 |
VignetteAmount | 0 |
WhiteBalance (2) | As Shot |
WhiteBalance | Manual |