Felt | Verdi |
AlreadyApplied | True |
Aperture | 4.5 |
ApertureValue | 4.5 |
Artist | Alf Jacob Nilsen |
BitsPerSample (1) | 8, 8, 8 |
BitsPerSample (2) | 8 8 8 |
BitsPerSample | 8 |
BlueHue | 0 |
BlueSaturation | 0 |
Brightness | +65 |
By-line | Alf Jacob Nilsen |
CameraProfile | ACR 4.6 |
Caption-Abstract | A White-tailed Sea Eagle (Haliaeetus albicilla) is catching a fish on the surface of a fjord in Flatanger, western Norway. |
CaptionWriter | AJN |
CFAPattern | [Red,Green][Green,Blue] |
ChromaticAberrationB | 0 |
ChromaticAberrationR | 0 |
CircleOfConfusion | 0.030 mm |
Clarity | 0 |
ColorComponents | 3 |
ColorMode | RGB |
ColorNoiseReduction | 25 |
ColorSpace (1) | Unknown (-1) |
ColorSpace | Uncalibrated |
ColorTemperature | 6600 |
Contrast (2) | +37 |
Contrast | Normal |
ConvertToGrayscale | False |
Copyright | Copyright: Bioquatic Photo |
CopyrightFlag | True |
CopyrightNotice | Copyright: Bioquatic Photo |
CreateDate (1) | 2010:05:31 19:31:04+02:00 |
CreateDate | 2010:05:21 08:16:59 |
Creator | Alf Jacob Nilsen |
CreatorCity | Hidrasund |
CreatorCountry | Norway |
CreatorPostalCode | NO-4432 |
CreatorTool | Adobe Photoshop CS3 Windows |
CreatorWorkURL | Bioquatic Photo - www.biophoto.net and www.biophoto.no |
CustomRendered | Normal |
DateTimeDigitized | 2010:05:21 08:16:59.38+02:00 |
DateTimeOriginal (1) | 2010:05:21 08:16:59.38+02:00 |
DateTimeOriginal | 2010:05:21 08:16:59 |
Defringe | 0 |
Description | A White-tailed Sea Eagle (Haliaeetus albicilla) is catching a fish on the surface of a fjord in Flatanger, western Norway. |
DigitalZoomRatio | 1 |
ExifImageHeight | 532 |
ExifImageWidth | 800 |
Exposure | -0.35 |
ExposureCompensation | -8/3 |
ExposureMode | Auto |
ExposureProgram | Aperture-priority AE |
ExposureTime | 1/4000 |
FillLight | 0 |
Flash | No Flash |
FlashFired | False |
FlashFunction | False |
FlashMode | Unknown |
FlashRedEyeMode | False |
FlashReturn | No return detection |
FNumber | 4.5 |
FocalLength | 340.0 mm |
FocalLength35efl | 340.0 mm (35 mm equivalent: 340.0 mm) |
FocalLengthIn35mmFormat | 340 mm |
Format | image/jpeg |
FOV | 6.1 deg |
GainControl | None |
GreenHue | 0 |
GreenSaturation | 0 |
HasCrop | False |
HasSettings | True |
HighlightRecovery | 34 |
HueAdjustmentAqua | 0 |
HueAdjustmentBlue | 0 |
HueAdjustmentGreen | 0 |
HueAdjustmentMagenta | 0 |
HueAdjustmentOrange | 0 |
HueAdjustmentPurple | 0 |
HueAdjustmentRed | 0 |
HueAdjustmentYellow | 0 |
HyperfocalDistance | 854.98 m |
ICCProfileName | Adobe RGB (1998) |
ImageDescription | A White-tailed Sea Eagle (Haliaeetus albicilla) is catching a fish on the surface of a fjord in Flatanger, western Norway. |
ImageHeight (1) | 3407 |
ImageHeight | 532 |
ImageNumber | 17094 |
ImageSize | 800x532 |
ImageWidth (1) | 5120 |
ImageWidth | 800 |
ISO | 320 |
Keywords | ørner, rovfugler, rovfugl, white-tailed sea eagle, ern, erne, sea eagle, accipritridae, falconiformes, aves, haliaeetus albicilla, flatanger, havørn, fugler, fugl, birds, bird, aves, predatory, predator, eagles, ørner, ørn, ole martin dahle, motlys, water drops, droplets |
Lens | 200.0-400.0 mm f/4.0 |
LensInfo | 200-400mm f/4 |
LightSource | Unknown |
LightValue | 14.6 |
LuminanceAdjustmentAqua | 0 |
LuminanceAdjustmentBlue | 0 |
LuminanceAdjustmentGreen | 0 |
LuminanceAdjustmentMagenta | 0 |
LuminanceAdjustmentOrange | 0 |
LuminanceAdjustmentPurple | 0 |
LuminanceAdjustmentRed | 0 |
LuminanceAdjustmentYellow | 0 |
LuminanceSmoothing | 0 |
Make | NIKON CORPORATION |
Marked | True |
MaxApertureValue | 4.0 |
Megapixels | 0.426 |
MeteringMode | Multi-segment |
Model | NIKON D700 |
ModifyDate (1) | 2010:05:31 19:31:04+02:00 |
ModifyDate | 2010:05:31 19:31:04 |
ObjectName | 42021-D |
Orientation | Horizontal (normal) |
ParametricDarks | 0 |
ParametricHighlights | 0 |
ParametricHighlightSplit | 75 |
ParametricLights | 0 |
ParametricMidtoneSplit | 50 |
ParametricShadows | 0 |
ParametricShadowSplit | 25 |
PhotometricInterpretation | RGB |
PlanarConfiguration | Chunky |
PostCropVignetteAmount | 0 |
ProfileDescription | Adobe RGB (1998) |
Rating | 0 |
RawFileName | _BIQ7075.NEF |
RedHue | 0 |
RedSaturation | 0 |
Rights | Copyright: Bioquatic Photo |
SamplesPerPixel | 3 |
Saturation (2) | +2 |
Saturation | Normal |
SaturationAdjustmentAqua | 0 |
SaturationAdjustmentBlue | 0 |
SaturationAdjustmentGreen | 0 |
SaturationAdjustmentMagenta | 0 |
SaturationAdjustmentOrange | 0 |
SaturationAdjustmentPurple | 0 |
SaturationAdjustmentRed | 0 |
SaturationAdjustmentYellow | 0 |
ScaleFactor35efl | 1.0 |
SceneCaptureType | Standard |
SceneType | Directly photographed |
SensingMethod | One-chip color area |
SerialNumber | 2150600 |
Shadows | 14 |
ShadowTint | 0 |
SharpenDetail | 25 |
SharpenEdgeMasking | 0 |
SharpenRadius | +1.0 |
Sharpness (2) | 25 |
Sharpness | Normal |
ShutterSpeed | 1/4000 |
ShutterSpeedValue | 1/4000 |
SidecarForExtension | NEF |
Software | Adobe Photoshop CS3 Windows |
SplitToningBalance | 0 |
SplitToningHighlightHue | 0 |
SplitToningHighlightSaturation | 0 |
SplitToningShadowHue | 0 |
SplitToningShadowSaturation | 0 |
Subject | ørner, rovfugler, rovfugl, white-tailed sea eagle, ern, erne, sea eagle, accipritridae, falconiformes, aves, haliaeetus albicilla, flatanger, havørn, fugler, fugl, birds, bird, aves, predatory, predator, eagles, ørner, ørn, ole martin dahle, motlys, water drops, droplets |
SubjectDistanceRange | Unknown |
Tint | -17 |
Title | 42021-D |
ToneCurve | 0, 0, 32, 22, 64, 56, 128, 128, 192, 196, 255, 255 |
ToneCurveName | Medium Contrast |
URL | www.biophoto.net |
URL_List | |
Version | 4.6 |
Vibrance | +38 |
VignetteAmount | 0 |
WebStatement | www.biophoto.net |
WhiteBalance (2) | As Shot |
WhiteBalance | Auto |
Writer-Editor | AJN |