Felt | Verdi |
AlreadyApplied | True |
Aperture | 16.0 |
ApertureValue | 16.0 |
BitsPerSample | 8 |
BlueHue | +19 |
BlueSaturation | 0 |
Brightness | 0 |
CameraProfile | Embedded |
ChromaticAberrationB | 0 |
ChromaticAberrationR | 0 |
CircleOfConfusion | 0.019 mm |
Clarity | -8 |
ColorComponents | 3 |
ColorNoiseReduction | 0 |
ColorSpace | sRGB |
Contrast | +31 |
ConvertToGrayscale | False |
CreateDate (1) | 2009:05:29 01:10:49+02:00 |
CreateDate | 2009:05:28 17:31:01 |
CreatorTool | Adobe Photoshop Lightroom |
CropAngle | 1.5447 |
CropBottom | 1 |
CropHeight | 800 |
CropLeft | 0.020751 |
CropRight | 0.964591 |
CropTop | 0 |
CropUnit | pixels |
CropWidth | 1200 |
CustomRendered | Normal |
DateTimeDigitized | 2009:05:28 17:31:01.00+02:00 |
DateTimeOriginal (1) | 2009:05:28 17:31:01.00+02:00 |
DateTimeOriginal | 2009:05:28 17:31:01 |
Defringe | 0 |
ExifImageHeight | 800 |
ExifImageWidth | 1200 |
Exposure | 0.00 |
ExposureCompensation | 0 |
ExposureMode | Manual |
ExposureProgram | Manual |
ExposureTime | 1/160 |
FillLight | 0 |
Firmware | 1.0.4 |
Flash | Off, Did not fire |
FlashCompensation | 0 |
FlashFired | False |
FlashFunction | False |
FlashMode | Off |
FlashRedEyeMode | False |
FlashReturn | No return detection |
FNumber | 16.0 |
FocalLength | 25.0 mm |
FocalLength35efl | 25.0 mm (35 mm equivalent: 40.5 mm) |
Format | application/vnd.adobe.photoshop |
FOV | 48.0 deg |
GreenHue | +27 |
GreenSaturation | 0 |
HasCrop | True |
HasSettings | True |
HighlightRecovery | 0 |
HueAdjustmentAqua | 0 |
HueAdjustmentBlue | 0 |
HueAdjustmentGreen | 0 |
HueAdjustmentMagenta | 0 |
HueAdjustmentOrange | 0 |
HueAdjustmentPurple | 0 |
HueAdjustmentRed | 0 |
HueAdjustmentYellow | 0 |
HyperfocalDistance | 2.10 m |
ImageHeight | 800 |
ImageNumber | 0 |
ImageSize | 1200x800 |
ImageWidth | 1200 |
IncrementalTemperature | 0 |
IncrementalTint | 0 |
ISO | 400 |
Label | Red |
Lens | 17-50mm |
LensInfo | 17-50mm f/? |
LightValue | 13.3 |
LuminanceAdjustmentAqua | 0 |
LuminanceAdjustmentBlue | 0 |
LuminanceAdjustmentGreen | 0 |
LuminanceAdjustmentMagenta | 0 |
LuminanceAdjustmentOrange | 0 |
LuminanceAdjustmentPurple | 0 |
LuminanceAdjustmentRed | 0 |
LuminanceAdjustmentYellow | 0 |
LuminanceSmoothing | 0 |
Make | Canon |
MaxApertureValue | 2.8 |
Megapixels | 0.960 |
MeteringMode | Multi-segment |
Model | Canon EOS 40D |
ModifyDate (1) | 2009:12:15 23:33:51+01:00 |
ModifyDate | 2009:12:15 23:33:51 |
ParametricDarks | 0 |
ParametricHighlights | 0 |
ParametricHighlightSplit | 75 |
ParametricLights | 0 |
ParametricMidtoneSplit | 50 |
ParametricShadows | 0 |
ParametricShadowSplit | 25 |
PostCropVignetteAmount | 0 |
ProfileDescription | sRGB IEC61966-2.1 |
RedHue | +35 |
RedSaturation | -4 |
Saturation | 0 |
SaturationAdjustmentAqua | 0 |
SaturationAdjustmentBlue | 0 |
SaturationAdjustmentGreen | 0 |
SaturationAdjustmentMagenta | 0 |
SaturationAdjustmentOrange | 0 |
SaturationAdjustmentPurple | 0 |
SaturationAdjustmentRed | 0 |
SaturationAdjustmentYellow | 0 |
ScaleFactor35efl | 1.6 |
SceneCaptureType | Standard |
SerialNumber | 630446683 |
Shadows | 0 |
ShadowTint | 0 |
SharpenDetail | 25 |
SharpenEdgeMasking | 0 |
SharpenRadius | +1.0 |
Sharpness | 0 |
ShutterSpeed | 1/160 |
ShutterSpeedValue | 1/160 |
Software | Adobe Photoshop CS3 Macintosh |
SplitToningBalance | 0 |
SplitToningHighlightHue | 0 |
SplitToningHighlightSaturation | 0 |
SplitToningShadowHue | 0 |
SplitToningShadowSaturation | 0 |
ToneCurve | 0, 0, 255, 255 |
ToneCurveName | Linear |
Version | 5.5 |
Vibrance | +25 |
VignetteAmount | 0 |
WhiteBalance (2) | As Shot |
WhiteBalance | Auto |