Felt | Verdi |
AlreadyApplied | True |
Aperture | 1.8 |
ApertureValue | 1.8 |
BitsPerSample | 8 |
BlueHue | 0 |
BlueSaturation | 0 |
Brightness | +75 |
CameraProfile | Adobe Standard |
ChromaticAberrationB | 0 |
ChromaticAberrationR | 0 |
CircleOfConfusion | 0.019 mm |
Clarity | +52 |
ColorComponents | 3 |
ColorMode | RGB |
ColorNoiseReduction | 0 |
ColorSpace | Uncalibrated |
ColorTemperature | 5000 |
Contrast | +61 |
ConvertToGrayscale | True |
CreateDate (1) | 2010:04:05 20:15:16.00+02:00 |
CreateDate | 2010:04:05 20:15:16 |
CropAngle | 0.517148 |
CropBottom | 1 |
CropConstrainToWarp | 0 |
CropLeft | 0.009648 |
CropRight | 0.990352 |
CropTop | 0 |
CustomRendered | Normal |
DateCreated (1) | 2010:04:05 |
DateCreated | 2010:04:05 20:15:16 |
DateTimeOriginal | 2010:04:05 20:15:16 |
Defringe | 0 |
ExifImageHeight | 2550 |
ExifImageWidth | 3836 |
Exposure | +0.65 |
ExposureCompensation | -5/3 |
ExposureMode | Auto |
ExposureProgram | Aperture-priority AE |
ExposureTime | 1/160 |
FillLight | 10 |
Firmware | 1.1.1 |
Flash | Off, Did not fire |
FlashCompensation | 0 |
FNumber | 1.8 |
FocalLength | 50.0 mm |
FocalLength35efl | 50.0 mm (35 mm equivalent: 80.9 mm) |
Format | image/jpeg |
FOV | 25.1 deg |
GrainAmount | 0 |
GrayMixerAqua | -8 |
GrayMixerBlue | +9 |
GrayMixerGreen | -18 |
GrayMixerMagenta | -5 |
GrayMixerOrange | -17 |
GrayMixerPurple | +8 |
GrayMixerRed | -14 |
GrayMixerYellow | -18 |
GreenHue | 0 |
GreenSaturation | 0 |
HasCrop | True |
HasSettings | True |
HighlightRecovery | 60 |
HyperfocalDistance | 74.83 m |
ICCProfileName | ProPhoto RGB |
ImageHeight | 2550 |
ImageNumber | 0 |
ImageSize | 3836x2550 |
ImageWidth | 3836 |
ISO | 1000 |
Label | |
Lens | EF50mm f/1.8 II |
LensID (1) | 29 |
LensID | Canon EF 50mm f/1.8 II |
LensInfo | 50mm f/? |
LensManualDistortionAmount | 0 |
LensModel | EF50mm f/1.8 II |
LensProfileEnable | 0 |
LensProfileSetup | LensDefaults |
LightValue | 5.7 |
LuminanceNoiseReductionContrast | 0 |
LuminanceNoiseReductionDetail | 81 |
LuminanceSmoothing | 35 |
Make | Canon |
MaxApertureValue | 1.8 |
Megapixels | 9.8 |
MeteringMode | Multi-segment |
Model | Canon EOS 40D |
ModifyDate (1) | 2010:09:21 23:51:21+02:00 |
ModifyDate | 2010:09:21 23:51:21 |
Orientation | Horizontal (normal) |
ParametricDarks | 0 |
ParametricHighlights | 0 |
ParametricHighlightSplit | 75 |
ParametricLights | 0 |
ParametricMidtoneSplit | 50 |
ParametricShadows | 0 |
ParametricShadowSplit | 25 |
PerspectiveHorizontal | 0 |
PerspectiveRotate | 0.0 |
PerspectiveScale | 100 |
PerspectiveVertical | 0 |
PostCropVignetteAmount | -35 |
PostCropVignetteFeather | 50 |
PostCropVignetteHighlightContrast | 0 |
PostCropVignetteMidpoint | 50 |
PostCropVignetteRoundness | 0 |
PostCropVignetteStyle | 1 |
ProcessVersion | 5.7 |
ProfileDescription | ProPhoto RGB |
Rating | 0 |
RawFileName | IMG_9630.CR2 |
RedHue | 0 |
RedSaturation | 0 |
ScaleFactor35efl | 1.6 |
SceneCaptureType | Standard |
SensitivityType | Unknown |
SerialNumber | 1831002818 |
Shadows | 11 |
ShadowTint | 0 |
SharpenDetail | 30 |
SharpenEdgeMasking | 0 |
SharpenRadius | +1.0 |
Sharpness | 25 |
ShutterSpeed | 1/160 |
ShutterSpeedValue | 1/160 |
Software | Adobe Photoshop CS5 Macintosh |
SplitToningBalance | +38 |
SplitToningHighlightHue | 51 |
SplitToningHighlightSaturation | 47 |
SplitToningShadowHue | 219 |
SplitToningShadowSaturation | 51 |
Tint | +36 |
ToneCurve | 0, 0, 32, 16, 64, 50, 128, 128, 192, 202, 255, 255 |
ToneCurveName | Strong Contrast |
URL_List | |
Version | 6.2 |
VignetteAmount | 0 |
WhiteBalance (1) | Custom |
WhiteBalance | Auto |