Felt | Verdi |
AlreadyApplied | True |
Aperture | 8.0 |
ApertureValue | 8.0 |
ApproximateFocusDistance | 4294967295 |
Artist | Venche Jensen |
AuthorsPosition | Photographer |
BitsPerSample (1) | 8 8 8 |
BitsPerSample | 8 |
BlueHue | 0 |
BlueSaturation | 0 |
Brightness | +36 |
By-line | Venche Jensen |
By-lineTitle | Photographer |
CameraProfile | Adobe Standard |
CFAPattern | [Red,Green][Green,Blue] |
ChromaticAberrationB | 0 |
ChromaticAberrationR | -39 |
CircleOfConfusion | 0.020 mm |
Clarity | +60 |
ColorComponents | 3 |
ColorMode | RGB |
ColorNoiseReduction | 25 |
ColorNoiseReductionDetail | 50 |
ColorSpace | sRGB |
ColorTemperature | 4350 |
Contrast (1) | +22 |
Contrast | Normal |
ConvertToGrayscale | False |
Copyright | Dont use without permission |
CopyrightFlag | True |
CopyrightNotice | Dont use without permission |
CreateDate (1) | 2010:11:16 13:44:23.22+01:00 |
CreateDate | 2010:11:16 13:44:23 |
Creator | Venche Jensen |
CreatorAddress | Granshagen 1.11 |
CreatorCity | Alta |
CreatorCountry | Norway |
CreatorPostalCode | 9511 |
CreatorTool | Adobe Photoshop CS5 Macintosh |
CreatorWorkEmail | wenche@roro.no |
CreatorWorkTelephone | 04745472913 |
CreatorWorkURL | http://www.venche.no |
CropAngle | 0 |
CropBottom | 0.832839 |
CropConstrainToWarp | 1 |
CropLeft | 0.078187 |
CropRight | 0.832457 |
CropTop | 0.143422 |
CustomRendered | Normal |
DateCreated (1) | 2010:11:16 |
DateCreated | 2010:11:16 13:44:23.022 |
DateTimeOriginal | 2010:11:16 13:44:23 |
Defringe | 0 |
DigitalZoomRatio | 1 |
DOF | inf (3.59 m - inf) |
ExifImageHeight | 728 |
ExifImageWidth | 1200 |
Exposure | 0.00 |
ExposureCompensation | -3/2 |
ExposureMode | Manual |
ExposureProgram | Manual |
ExposureTime | 1/60 |
FillLight | 33 |
Flash | No Flash |
FNumber | 8.0 |
FocalLength | 24.0 mm |
FocalLength35efl | 24.0 mm (35 mm equivalent: 36.0 mm) |
FocalLengthIn35mmFormat | 36 mm |
Format | image/jpeg |
FOV | 53.1 deg |
GainControl | Low gain up |
GrainAmount | 0 |
GreenHue | 0 |
GreenSaturation | 0 |
HasCrop | True |
HasSettings | True |
HighlightRecovery | 78 |
HueAdjustmentAqua | 0 |
HueAdjustmentBlue | 0 |
HueAdjustmentGreen | 0 |
HueAdjustmentMagenta | 0 |
HueAdjustmentOrange | 0 |
HueAdjustmentPurple | 0 |
HueAdjustmentRed | 0 |
HueAdjustmentYellow | 0 |
HyperfocalDistance | 3.59 m |
ICCProfileName | sRGB IEC61966-2.1 |
ImageHeight (1) | 1963 |
ImageHeight | 728 |
ImageNumber | 11806 |
ImageSize | 1200x728 |
ImageWidth (1) | 3234 |
ImageWidth | 1200 |
ISO | 400 |
Lens | 17.0-55.0 mm f/2.8 |
LensID (1) | 125 |
LensID | AF-S DX Zoom-Nikkor 17-55mm f/2.8G IF-ED |
LensInfo | 17-55mm f/2.8 |
LensManualDistortionAmount | 0 |
LensModel | 17.0-55.0 mm f/2.8 |
LensProfileEnable | 0 |
LensProfileSetup | LensDefaults |
LightSource | Unknown |
LightValue | 9.9 |
LuminanceAdjustmentAqua | 0 |
LuminanceAdjustmentBlue | 0 |
LuminanceAdjustmentGreen | 0 |
LuminanceAdjustmentMagenta | -9 |
LuminanceAdjustmentOrange | -28 |
LuminanceAdjustmentPurple | 0 |
LuminanceAdjustmentRed | -18 |
LuminanceAdjustmentYellow | -14 |
LuminanceSmoothing | 0 |
Make | NIKON CORPORATION |
Marked | True |
MaxApertureValue | 2.8 |
Megapixels | 0.874 |
MeteringMode | Multi-segment |
Model | NIKON D300S |
ModifyDate (1) | 2010:11:16 15:03:18+01:00 |
ModifyDate | 2010:11:16 15:03:18 |
Orientation | Horizontal (normal) |
ParametricDarks | 0 |
ParametricHighlights | 0 |
ParametricHighlightSplit | 75 |
ParametricLights | 0 |
ParametricMidtoneSplit | 50 |
ParametricShadows | 0 |
ParametricShadowSplit | 25 |
PerspectiveHorizontal | 0 |
PerspectiveRotate | 0.0 |
PerspectiveScale | 100 |
PerspectiveVertical | 0 |
PhotometricInterpretation | RGB |
PostCropVignetteAmount | 0 |
PreservedFileName | _VEJ1605.NEF |
ProcessVersion | 5.7 |
ProfileDescription | sRGB IEC61966-2.1 |
Rating | 0 |
RawFileName | 161110_VEJ1605_400.NEF |
RedHue | 0 |
RedSaturation | 0 |
Rights | Dont use without permission |
Saturation (1) | +16 |
Saturation | Normal |
SaturationAdjustmentAqua | 0 |
SaturationAdjustmentBlue | 0 |
SaturationAdjustmentGreen | 0 |
SaturationAdjustmentMagenta | 0 |
SaturationAdjustmentOrange | 0 |
SaturationAdjustmentPurple | 0 |
SaturationAdjustmentRed | 0 |
SaturationAdjustmentYellow | 0 |
ScaleFactor35efl | 1.5 |
SceneCaptureType | Standard |
SceneType | Directly photographed |
SensingMethod | One-chip color area |
SensitivityType | Unknown |
SerialNumber | 6018751 |
Shadows | 0 |
ShadowTint | 0 |
SharpenDetail | 25 |
SharpenEdgeMasking | 0 |
SharpenRadius | +1.0 |
Sharpness (1) | 25 |
Sharpness | Normal |
ShutterSpeed | 1/60 |
ShutterSpeedValue | 1/60 |
Software | Adobe Photoshop CS5 Macintosh |
SplitToningBalance | 0 |
SplitToningHighlightHue | 0 |
SplitToningHighlightSaturation | 0 |
SplitToningShadowHue | 0 |
SplitToningShadowSaturation | 0 |
SubjectDistance | 4294967295 m |
SubjectDistanceRange | Unknown |
Tint | -13 |
ToneCurve | 0, 0, 32, 22, 64, 56, 128, 128, 192, 196, 255, 255 |
ToneCurveName | Medium Contrast |
URL_List | |
Version | 6.2 |
Vibrance | +18 |
VignetteAmount | 0 |
WhiteBalance (1) | Custom |
WhiteBalance | Auto |