Felt | Verdi |
AlreadyApplied | True |
Aperture | 2.8 |
ApertureValue | 2.8 |
ApproximateFocusDistance | 4294967295 |
Artist | Orjan Bertelsen |
AuthorsPosition | Photographer Ørjan Bertelsen |
BitsPerSample (1) | 8, 8, 8 |
BitsPerSample | 8 |
BlueHue | 0 |
BlueSaturation | 0 |
Brightness | +61 |
By-line | Ørjan Bertelsen Ph +4790123161 |
By-lineTitle | Photographer Ørjan Bertelsen |
CameraProfile | Adobe Standard |
Caption-Abstract | sted:Birtavarre; kåfjord |
CFAPattern | [Red,Green][Green,Blue] |
ChromaticAberrationB | 0 |
ChromaticAberrationR | 0 |
CircleOfConfusion | 0.030 mm |
Clarity | 0 |
ColorComponents | 3 |
ColorMode | RGB |
ColorNoiseReduction | 25 |
ColorNoiseReductionDetail | 50 |
ColorSpace | sRGB |
ColorTemperature | 3600 |
Contrast (1) | +31 |
Contrast | Normal |
ConvertToGrayscale | False |
Copyright | O.Bertelsen www.bertelsenfoto.com |
CopyrightFlag | True |
CopyrightNotice | Photo: Ørjan Bertelsen |
CreateDate (1) | 2011:01:03 21:58:58.16+01:00 |
CreateDate | 2011:01:03 21:58:58 |
Creator | Ørjan Bertelsen Ph +4790123161 |
CreatorCountry | Norge |
CreatorTool | Adobe Photoshop CS5 Macintosh |
CreatorWorkEmail | orjan@bertelsenfoto.com |
CreatorWorkTelephone | +4790123161 |
CreatorWorkURL | www.bertelsenfoto.com |
CustomRendered | Normal |
DateCreated (1) | 2011:01:03 |
DateCreated | 2011:01:03 21:58:58.016 |
DateTimeDigitized | 2011:01:03 21:58:58.16+01:00 |
DateTimeOriginal (1) | 2011:01:03 21:58:58.16+01:00 |
DateTimeOriginal | 2011:01:03 21:58:58 |
Defringe | 0 |
Description | sted:Birtavarre; kåfjord |
DigitalZoomRatio | 1 |
DOF | inf (2.33 m - inf) |
ExifImageHeight | 599 |
ExifImageWidth | 900 |
Exposure | 0.00 |
ExposureCompensation | 0 |
ExposureMode | Manual |
ExposureProgram | Manual |
ExposureTime | 8 |
FillLight | 22 |
Flash | No Flash |
FlashFired | False |
FlashFunction | False |
FlashMode | Unknown |
FlashRedEyeMode | False |
FlashReturn | No return detection |
FNumber | 2.8 |
FocalLength | 14.0 mm |
FocalLength35efl | 14.0 mm (35 mm equivalent: 14.0 mm) |
FocalLengthIn35mmFormat | 14 mm |
Format | image/jpeg |
FOV | 104.3 deg |
GainControl | High gain up |
GradientBasedCorrActive | true |
GradientBasedCorrAmount | 1.000000 |
GradientBasedCorrBrightness | 0.240000 |
GradientBasedCorrClarity | 0.040000 |
GradientBasedCorrContrast | 0.000000 |
GradientBasedCorrExposure | -0.025000 |
GradientBasedCorrHue | 0.000000 |
GradientBasedCorrMaskFullX | 0.403297 |
GradientBasedCorrMaskFullY | 0.990954 |
GradientBasedCorrMaskValue | 1.000000 |
GradientBasedCorrMaskWhat | Mask/Gradient |
GradientBasedCorrMaskZeroX | 0.374105 |
GradientBasedCorrMaskZeroY | 0.600043 |
GradientBasedCorrSaturation (1) | -0.890000 |
GradientBasedCorrSaturation | 0.000000 |
GradientBasedCorrSharpness | 0.080000 |
GradientBasedCorrWhat | Correction |
GrainAmount | 0 |
GreenHue | 0 |
GreenSaturation | 0 |
HasCrop | False |
HasSettings | True |
HighlightRecovery | 47 |
HueAdjustmentAqua | 0 |
HueAdjustmentBlue | 0 |
HueAdjustmentGreen | 0 |
HueAdjustmentMagenta | 0 |
HueAdjustmentOrange | 0 |
HueAdjustmentPurple | 0 |
HueAdjustmentRed | 0 |
HueAdjustmentYellow | 0 |
HyperfocalDistance | 2.33 m |
ICCProfileName | sRGB IEC61966-2.1 |
ImageHeight | 599 |
ImageNumber | 32907 |
ImageSize | 900x599 |
ImageWidth | 900 |
ISO | 1600 |
Keywords | Nordlys, northern lights, Aurora, Birtavarre |
Lens | 14.0-24.0 mm f/2.8 |
LensID (1) | 146 |
LensID | AF-S Zoom-Nikkor 14-24mm f/2.8G ED |
LensInfo | 14-24mm f/2.8 |
LensManualDistortionAmount | 0 |
LensModel | 14.0-24.0 mm f/2.8 |
LensProfileChromaticAberrationScale | 100 |
LensProfileDistortionScale | 100 |
LensProfileEnable | 1 |
LensProfileFilename | NIKON D3X (Nikon FX 14-24mm f2.8 G ED) - RAW.lcp |
LensProfileName | Adobe (Nikon AF-S NIKKOR 14-24mm f/2.8G ED) |
LensProfileSetup | LensDefaults |
LensProfileVignettingScale | 100 |
LightSource | Unknown |
LightValue | -4.0 |
LuminanceAdjustmentAqua | 0 |
LuminanceAdjustmentBlue | 0 |
LuminanceAdjustmentGreen | 0 |
LuminanceAdjustmentMagenta | 0 |
LuminanceAdjustmentOrange | 0 |
LuminanceAdjustmentPurple | 0 |
LuminanceAdjustmentRed | 0 |
LuminanceAdjustmentYellow | 0 |
LuminanceSmoothing | 0 |
Make | NIKON CORPORATION |
Marked | True |
MaxApertureValue | 2.8 |
Megapixels | 0.539 |
MeteringMode | Multi-segment |
Model | NIKON D3S |
ModifyDate (1) | 2011:01:03 22:36:50+01:00 |
ModifyDate | 2011:01:03 22:36:50 |
ObjectName | Auroras over Birtavarre, northern Norway |
Orientation | Horizontal (normal) |
ParametricDarks | 0 |
ParametricHighlights | 0 |
ParametricHighlightSplit | 75 |
ParametricLights | 0 |
ParametricMidtoneSplit | 50 |
ParametricShadows | 0 |
ParametricShadowSplit | 25 |
PerspectiveHorizontal | 0 |
PerspectiveRotate | 0.0 |
PerspectiveScale | 100 |
PerspectiveVertical | 0 |
PhotometricInterpretation | RGB |
PostCropVignetteAmount | 0 |
ProcessVersion | 5.7 |
ProfileDescription | sRGB IEC61966-2.1 |
Rating | 1 |
RawFileName | OBE_2790.NEF |
RedHue | 0 |
RedSaturation | 0 |
Rights | Photo: Ørjan Bertelsen |
SamplesPerPixel | 3 |
Saturation (1) | 0 |
Saturation | Normal |
SaturationAdjustmentAqua | 0 |
SaturationAdjustmentBlue | +9 |
SaturationAdjustmentGreen | -1 |
SaturationAdjustmentMagenta | 0 |
SaturationAdjustmentOrange | 0 |
SaturationAdjustmentPurple | 0 |
SaturationAdjustmentRed | 0 |
SaturationAdjustmentYellow | 0 |
ScaleFactor35efl | 1.0 |
SceneCaptureType | Standard |
SceneType | Directly photographed |
SensingMethod | One-chip color area |
SensitivityType | Unknown |
SerialNumber | 2014312 |
Shadows | 9 |
ShadowTint | 0 |
SharpenDetail | 25 |
SharpenEdgeMasking | 0 |
SharpenRadius | +1.0 |
Sharpness (1) | 25 |
Sharpness | Normal |
ShutterSpeed | 8 |
ShutterSpeedValue | 8 |
Software | Adobe Photoshop CS5 Macintosh |
SplitToningBalance | 0 |
SplitToningHighlightHue | 0 |
SplitToningHighlightSaturation | 0 |
SplitToningShadowHue | 0 |
SplitToningShadowSaturation | 0 |
Subject | Nordlys, northern lights, Aurora, Birtavarre |
SubjectDistance | 4294967295 m |
SubjectDistanceRange | Unknown |
Tint | +38 |
Title | Auroras over Birtavarre, northern Norway |
ToneCurve | 0, 0, 32, 22, 64, 56, 128, 128, 192, 196, 255, 255 |
ToneCurveName | Medium Contrast |
URL | www. bertelsenfoto.com |
URL_List | |
UsageTerms | photo: Ørjan Bertelsen |
Version | 6.2 |
Vibrance | 0 |
VignetteAmount | 0 |
WebStatement | www. bertelsenfoto.com |
WhiteBalance (1) | Custom |
WhiteBalance | Auto |