Felt | Verdi |
AlreadyApplied | True |
Aperture | 2.8 |
ApertureValue | 2.8 |
BitsPerSample | 8 |
BlueHue | 0 |
BlueSaturation | 0 |
Brightness | +50 |
CameraProfile | Adobe Standard |
CFAPattern | [Green,Blue][Red,Green] |
ChromaticAberrationB | 0 |
ChromaticAberrationR | 0 |
CircleOfConfusion | 0.020 mm |
Clarity | +31 |
ColorComponents | 3 |
ColorMode | RGB |
ColorNoiseReduction | 25 |
ColorSpace | Uncalibrated |
ColorTemperature | 5350 |
Contrast (1) | +100 |
Contrast | Normal |
ConvertToGrayscale | False |
CreateDate (1) | 2011:02:25 11:08:57.00+01:00 |
CreateDate | 2011:02:25 11:08:57 |
CreatorTool | Ver.1.00 |
CropAngle | 0 |
CropBottom | 1 |
CropLeft | 0 |
CropRight | 1 |
CropTop | 0 |
CustomRendered | Normal |
DateCreated (1) | 2011:02:25 |
DateCreated | 2011:02:25 11:08:57 |
DateTimeOriginal | 2011:02:25 11:08:57 |
Defringe | 0 |
DigitalZoomRatio | 1 |
DOF | inf (401.17 m - inf) |
ExifImageHeight | 664 |
ExifImageWidth | 1000 |
Exposure | -2.29 |
ExposureCompensation | +1/3 |
ExposureMode | Manual |
ExposureProgram | Manual |
ExposureTime | 1/2500 |
FillLight | 0 |
Flash | No Flash |
FNumber | 2.8 |
FocalLength | 150.0 mm |
FocalLength35efl | 150.0 mm (35 mm equivalent: 225.0 mm) |
FocalLengthIn35mmFormat | 225 mm |
Format | image/jpeg |
FOV | 9.1 deg |
GainControl | None |
GradientBasedCorrActive | true |
GradientBasedCorrAmount | 1.000000 |
GradientBasedCorrBrightness | 0.000000 |
GradientBasedCorrClarity | 0.000000 |
GradientBasedCorrContrast | -0.450000 |
GradientBasedCorrExposure | -0.075000 |
GradientBasedCorrHue | 229.000000 |
GradientBasedCorrMaskFullX | 0.155724 |
GradientBasedCorrMaskFullY | 0.068441 |
GradientBasedCorrMaskValue | 1.000000 |
GradientBasedCorrMaskWhat | Mask/Gradient |
GradientBasedCorrMaskZeroX | 0.231481 |
GradientBasedCorrMaskZeroY | 0.494297 |
GradientBasedCorrSaturation (1) | 0.450000 |
GradientBasedCorrSaturation | 0.140000 |
GradientBasedCorrSharpness | 0.000000 |
GradientBasedCorrWhat | Correction |
GrainAmount | 0 |
GreenHue | 0 |
GreenSaturation | 0 |
HasCrop | True |
HasSettings | True |
HighlightRecovery | 0 |
HueAdjustmentAqua | -10 |
HueAdjustmentBlue | -12 |
HueAdjustmentGreen | -100 |
HueAdjustmentMagenta | 0 |
HueAdjustmentOrange | -12 |
HueAdjustmentPurple | 0 |
HueAdjustmentRed | 0 |
HueAdjustmentYellow | +2 |
HyperfocalDistance | 401.17 m |
ICCProfileName | Adobe RGB (1998) |
ImageHeight | 664 |
ImageNumber | 10492 |
ImageSize | 1000x664 |
ImageWidth | 1000 |
ISO | 200 |
Lens | 50.0-150.0 mm f/2.8 |
LensID (1) | 122 |
LensID | Sigma 50-150mm F2.8 EX APO DC HSM |
LensInfo | 50-150mm f/2.8 |
LightSource | Unknown |
LightValue | 13.3 |
LuminanceAdjustmentAqua | -40 |
LuminanceAdjustmentBlue | -59 |
LuminanceAdjustmentGreen | 0 |
LuminanceAdjustmentMagenta | 0 |
LuminanceAdjustmentOrange | -19 |
LuminanceAdjustmentPurple | -26 |
LuminanceAdjustmentRed | 0 |
LuminanceAdjustmentYellow | -21 |
LuminanceSmoothing | 0 |
Make | NIKON CORPORATION |
MaxApertureValue | 2.8 |
Megapixels | 0.664 |
MeteringMode | Spot |
Model | NIKON D90 |
ModifyDate (1) | 2011:02:27 19:25:52+01:00 |
ModifyDate | 2011:02:27 19:25:52 |
Orientation | Horizontal (normal) |
PaintCorrectionActive | true |
PaintCorrectionAmount | 1.000000 |
PaintCorrectionBrightness | 0.000000 |
PaintCorrectionClarity | -0.175000 |
PaintCorrectionContrast | -0.225000 |
PaintCorrectionExposure | 0.025000 |
PaintCorrectionHue | 229.000000 |
PaintCorrectionMaskCenterWeight | 0.000000 |
PaintCorrectionMaskFlow | 0.641000 |
PaintCorrectionMaskRadius | 0.110248 |
PaintCorrectionMaskValue | 1.000000 |
PaintCorrectionMaskWhat | Mask/Paint |
PaintCorrectionSaturation (1) | 0.125000 |
PaintCorrectionSaturation | 0.000000 |
PaintCorrectionSharpness | 0.000000 |
PaintCorrectionWhat | Correction |
ParametricDarks | 0 |
ParametricHighlights | 0 |
ParametricHighlightSplit | 75 |
ParametricLights | 0 |
ParametricMidtoneSplit | 50 |
ParametricShadows | 0 |
ParametricShadowSplit | 25 |
PostCropVignetteAmount | 0 |
ProcessVersion | 5.0 |
ProfileDescription | Adobe RGB (1998) |
Rating | 0 |
RawFileName | _DSC0419.NEF |
RedHue | 0 |
RedSaturation | 0 |
Saturation (1) | +26 |
Saturation | Normal |
SaturationAdjustmentAqua | +43 |
SaturationAdjustmentBlue | +90 |
SaturationAdjustmentGreen | -100 |
SaturationAdjustmentMagenta | -14 |
SaturationAdjustmentOrange | -3 |
SaturationAdjustmentPurple | -100 |
SaturationAdjustmentRed | -24 |
SaturationAdjustmentYellow | +47 |
ScaleFactor35efl | 1.5 |
SceneCaptureType | Standard |
SceneType | Directly photographed |
SensingMethod | One-chip color area |
SerialNumber | 6336187 |
Shadows | 5 |
ShadowTint | 0 |
SharpenDetail | 25 |
SharpenEdgeMasking | 0 |
SharpenRadius | +1.0 |
Sharpness (1) | 25 |
Sharpness | Normal |
ShutterSpeed | 1/2500 |
ShutterSpeedValue | 1/2500 |
Software | Adobe Photoshop CS5 Windows |
SplitToningBalance | 0 |
SplitToningHighlightHue | 0 |
SplitToningHighlightSaturation | 0 |
SplitToningShadowHue | 0 |
SplitToningShadowSaturation | 0 |
SubjectDistance | 4294967295 m |
SubjectDistanceRange | Unknown |
Tint | -6 |
ToneCurve | 0, 0, 32, 22, 64, 56, 128, 128, 192, 196, 255, 255 |
ToneCurveName | Medium Contrast |
URL_List | |
Version | 6.0 |
Vibrance | +21 |
VignetteAmount | 0 |
WhiteBalance (1) | As Shot |
WhiteBalance | Auto |