Felt | Verdi |
AlreadyApplied | True |
Aperture | 2.2 |
ApertureValue | 2.2 |
ApproximateFocusDistance | 4294967295 |
Artist | Photographer: Odd Andersen
BitsPerSample | 8 |
BlueHue | 0 |
BlueSaturation | 0 |
Brightness | +50 |
By-line | Photographer: Odd Andersen
CameraProfile | Camera Landscape |
ChromaticAberrationB | 0 |
ChromaticAberrationR | 0 |
CircleOfConfusion | 0.031 mm |
Clarity | +50 |
ColorComponents | 3 |
ColorMode | RGB |
ColorNoiseReduction | 25 |
ColorNoiseReductionDetail | 50 |
ColorSpace | sRGB |
ColorTemperature | 3800 |
Contrast | +25 |
ConvertToGrayscale | False |
Copyright | Copyright: Odd Andersen |
CopyrightNotice | Copyright: Odd Andersen |
CreateDate (1) | 2011:03:01 22:29:13.82+01:00 |
CreateDate | 2011:03:01 22:29:13 |
Creator | Photographer: Odd Andersen
CustomRendered | Normal |
DateCreated (1) | 2011:03:01 |
DateCreated | 2011:03:01 22:29:13.082 |
DateTimeOriginal | 2011:03:01 22:29:13 |
Defringe | 0 |
DOF | inf (18.09 m - inf) |
ExifImageHeight | 733 |
ExifImageWidth | 1100 |
Exposure | 0.00 |
ExposureCompensation | +1 |
ExposureMode | Auto |
ExposureProgram | Aperture-priority AE |
ExposureTime | 20 |
FillLight | 9 |
Firmware | 2.0.4 |
Flash | Off, Did not fire |
FlashCompensation | 0 |
FNumber | 2.2 |
FocalLength | 35.0 mm |
FocalLength35efl | 35.0 mm (35 mm equivalent: 34.2 mm) |
Format | image/jpeg |
FOV | 55.6 deg |
GrainAmount | 0 |
GreenHue | 0 |
GreenSaturation | 0 |
HasCrop | False |
HasSettings | True |
HighlightRecovery | 0 |
HueAdjustmentAqua | 0 |
HueAdjustmentBlue | 0 |
HueAdjustmentGreen | 0 |
HueAdjustmentMagenta | 0 |
HueAdjustmentOrange | 0 |
HueAdjustmentPurple | 0 |
HueAdjustmentRed | 0 |
HueAdjustmentYellow | 0 |
HyperfocalDistance | 18.09 m |
ICCProfileName | sRGB IEC61966-2.1 |
ImageHeight | 733 |
ImageNumber | 0 |
ImageSize | 1100x733 |
ImageWidth | 1100 |
ISO | 2000 |
Lens | EF35mm f/1.4L USM |
LensID (1) | 180 |
LensID | Canon EF 35mm f/1.4L USM |
LensInfo | 35mm f/? |
LensManualDistortionAmount | 0 |
LensModel | EF35mm f/1.4L USM |
LensProfileChromaticAberrationScale | 100 |
LensProfileDistortionScale | 100 |
LensProfileEnable | 1 |
LensProfileFilename | Canon EOS 5D Mark II (Canon EF 35mm f1.4L USM) - RAW.lcp |
LensProfileName | Adobe (Canon EF 35mm f/1.4 L USM) |
LensProfileSetup | Custom |
LensProfileVignettingScale | 100 |
LightValue | -6.4 |
LuminanceAdjustmentAqua | 0 |
LuminanceAdjustmentBlue | 0 |
LuminanceAdjustmentGreen | 0 |
LuminanceAdjustmentMagenta | 0 |
LuminanceAdjustmentOrange | 0 |
LuminanceAdjustmentPurple | 0 |
LuminanceAdjustmentRed | 0 |
LuminanceAdjustmentYellow | 0 |
LuminanceSmoothing | 0 |
Make | Canon |
MaxApertureValue | 1.4 |
Megapixels | 0.806 |
MeteringMode | Multi-segment |
Model | Canon EOS 5D Mark II |
ModifyDate (1) | 2011:03:08 21:55:41+01:00 |
ModifyDate | 2011:03:08 21:55:41 |
Orientation | Horizontal (normal) |
OwnerName | Odd Andersen |
ParametricDarks | 0 |
ParametricHighlights | 0 |
ParametricHighlightSplit | 76 |
ParametricLights | 0 |
ParametricMidtoneSplit | 50 |
ParametricShadows | +9 |
ParametricShadowSplit | 10 |
PerspectiveHorizontal | 0 |
PerspectiveRotate | 0.0 |
PerspectiveScale | 100 |
PerspectiveVertical | 0 |
PostCropVignetteAmount | 0 |
ProcessVersion | 5.7 |
ProfileDescription | sRGB IEC61966-2.1 |
Rating | 1 |
RawFileName | 3-IMG-1921.CR2 |
RedHue | 0 |
RedSaturation | 0 |
Rights | Copyright: Odd Andersen |
Saturation | 0 |
SaturationAdjustmentAqua | 0 |
SaturationAdjustmentBlue | 0 |
SaturationAdjustmentGreen | 0 |
SaturationAdjustmentMagenta | -36 |
SaturationAdjustmentOrange | 0 |
SaturationAdjustmentPurple | 0 |
SaturationAdjustmentRed | 0 |
SaturationAdjustmentYellow | 0 |
ScaleFactor35efl | 1.0 |
SceneCaptureType | Standard |
SensitivityType | Unknown |
SerialNumber | 130101911 |
Shadows | 3 |
ShadowTint | 0 |
SharpenDetail | 25 |
SharpenEdgeMasking | 0 |
SharpenRadius | +1.0 |
Sharpness | 25 |
ShutterSpeed | 20 |
ShutterSpeedValue | 20 |
SidecarForExtension | CR2 |
Software | Adobe Photoshop CS5 Windows |
SplitToningBalance | 0 |
SplitToningHighlightHue | 0 |
SplitToningHighlightSaturation | 0 |
SplitToningShadowHue | 0 |
SplitToningShadowSaturation | 0 |
SubjectDistance | 4294967295 m |
Tint | +10 |
Tlf: +47 91 54 08 01 |
Tlf: |
ToneCurve | 0, 0, 32, 22, 64, 56, 128, 128, 192, 196, 255, 255 |
ToneCurveName | Medium Contrast |
URL_List | |
Version | 6.3 |
Vibrance | 0 |
VignetteAmount | 0 |
WhiteBalance (1) | Custom |
WhiteBalance | Auto |