Felt | Verdi |
AlreadyApplied | True |
Aperture | 7.1 |
ApertureValue | 7.1 |
ApproximateFocusDistance | 6.45 |
Artist | THOMAS FJORTOFT |
BitsPerSample | 8 |
BlueHue | -1 |
BlueSaturation | +1 |
Brightness | -26 |
By-line | THOMAS FJORTOFT |
CameraProfile | Adobe Standard |
Caption-Abstract | OLYMPUS DIGITAL CAMERA |
CFAPattern | [Blue,Green][Green,Red] |
ChromaticAberrationB | 0 |
ChromaticAberrationR | 0 |
CircleOfConfusion | 0.015 mm |
Clarity | +43 |
ColorComponents | 3 |
ColorNoiseReduction | 25 |
ColorNoiseReductionDetail | 50 |
ColorTemperature | 5050 |
Contrast (1) | -31 |
Contrast | Normal |
ConvertToGrayscale | False |
Copyright | Timmey78 |
CopyrightNotice | Timmey78 |
CreateDate | 2011:06:14 12:13:38 |
Creator | THOMAS FJORTOFT |
CreatorTool | Adobe Photoshop Lightroom 3.4 |
CropAngle | 6.56429 |
CropBottom | 1 |
CropConstrainToWarp | 0 |
CropHeight | 2445 |
CropLeft | 0.309084 |
CropRight | 0.723745 |
CropTop | 0.122497 |
CropUnit | pixels |
CropWidth | 1964 |
CustomRendered | Normal |
DateCreated (1) | 2011:06:14 |
DateCreated | 2011:06:14 12:13:38 |
DateTimeOriginal | 2011:06:14 12:13:38 |
Defringe | 0 |
Description | OLYMPUS DIGITAL CAMERA |
DigitalZoomRatio | 1 |
DOF | 0.09 m (6.40 - 6.50 m) |
Exposure | +0.23 |
ExposureCompensation | 0 |
ExposureMode | Auto |
ExposureProgram | Aperture-priority AE |
ExposureTime | 1/40 |
FillLight | 8 |
Flash | Auto, Did not fire |
FlashCompensation | 0 |
FNumber | 7.1 |
FocalLength | 300.0 mm |
FocalLength35efl | 300.0 mm (35 mm equivalent: 601.0 mm) |
FocalLengthIn35mmFormat | 601 mm |
FOV | 3.4 deg |
GainControl | None |
GrainAmount | 0 |
GreenHue | +25 |
GreenSaturation | +20 |
HasCrop | True |
HasSettings | True |
HighlightRecovery | 8 |
HueAdjustmentAqua | +30 |
HueAdjustmentBlue | -5 |
HueAdjustmentGreen | -36 |
HueAdjustmentMagenta | +15 |
HueAdjustmentOrange | +5 |
HueAdjustmentPurple | -25 |
HueAdjustmentRed | +40 |
HueAdjustmentYellow | 0 |
HyperfocalDistance | 845.18 m |
ImageDescription | OLYMPUS DIGITAL CAMERA |
ImageHeight | 2445 |
ImageSize | 1964x2445 |
ImageWidth | 1964 |
ISO | 100 |
Lens | OLYMPUS 300mm Lens |
LensInfo | 300mm f/2.8 |
LensManualDistortionAmount | 0 |
LensModel | OLYMPUS 300mm Lens |
LensProfileEnable | 0 |
LensProfileSetup | LensDefaults |
LensSerialNumber | 030002020 |
LightSource | Unknown |
LightValue | 11.0 |
LuminanceAdjustmentAqua | +5 |
LuminanceAdjustmentBlue | +7 |
LuminanceAdjustmentGreen | 0 |
LuminanceAdjustmentMagenta | +9 |
LuminanceAdjustmentOrange | -5 |
LuminanceAdjustmentPurple | +3 |
LuminanceAdjustmentRed | -7 |
LuminanceAdjustmentYellow | -5 |
LuminanceSmoothing | 0 |
Make | OLYMPUS IMAGING CORP. |
MaxApertureValue | 2.8 |
Megapixels | 4.8 |
MeteringMode | Multi-segment |
Model | E-5 |
ModifyDate (1) | 2011:06:14 21:11:02+02:00 |
ModifyDate | 2011:06:14 21:11:02 |
ParametricDarks | +54 |
ParametricHighlights | -40 |
ParametricHighlightSplit | 90 |
ParametricLights | +52 |
ParametricMidtoneSplit | 35 |
ParametricShadows | 0 |
ParametricShadowSplit | 11 |
PerspectiveHorizontal | 0 |
PerspectiveRotate | 0.0 |
PerspectiveScale | 100 |
PerspectiveVertical | 0 |
PostCropVignetteAmount | 0 |
ProcessVersion | 5.7 |
ProfileDescription | sRGB IEC61966-2.1 |
Rating | 4 |
RedHue | -25 |
RedSaturation | +20 |
Rights | Timmey78 |
Saturation (1) | +13 |
Saturation | Normal |
SaturationAdjustmentAqua | -15 |
SaturationAdjustmentBlue | +25 |
SaturationAdjustmentGreen | -11 |
SaturationAdjustmentMagenta | -30 |
SaturationAdjustmentOrange | +20 |
SaturationAdjustmentPurple | -2 |
SaturationAdjustmentRed | 0 |
SaturationAdjustmentYellow | +20 |
ScaleFactor35efl | 2.0 |
SceneCaptureType | Standard |
SerialNumber | AB1502213 |
Shadows | 5 |
ShadowTint | 0 |
SharpenDetail | 20 |
SharpenEdgeMasking | 0 |
SharpenRadius | +0.7 |
Sharpness (1) | 38 |
Sharpness | Normal |
ShutterSpeed | 1/40 |
ShutterSpeedValue | 1/40 |
Software | Adobe Photoshop Lightroom 3.4 |
SplitToningBalance | 0 |
SplitToningHighlightHue | 0 |
SplitToningHighlightSaturation | 0 |
SplitToningShadowHue | 0 |
SplitToningShadowSaturation | 0 |
SubjectDistance | 6.45 m |
Tint | +12 |
ToneCurve | 0, 0, 32, 22, 64, 56, 128, 128, 192, 196, 255, 255 |
ToneCurveName | Medium Contrast |
Version | 6.4 |
Vibrance | +20 |
VignetteAmount | 0 |
WhiteBalance (1) | As Shot |
WhiteBalance | Auto |