Felt | Verdi |
AlreadyApplied | True |
Aperture | 5.0 |
ApertureValue | 5.0 |
ApproximateFocusDistance | 84.7 |
Artist | Thomas Holm |
BitsPerSample | 8 |
BlueHue | -1 |
BlueSaturation | +1 |
Brightness | -33 |
By-line | Thomas Holm |
CameraProfile | Adobe Standard |
CFAPattern | [Blue,Green][Green,Red] |
ChromaticAberrationB | 0 |
ChromaticAberrationR | 0 |
CircleOfConfusion | 0.015 mm |
Clarity | +15 |
ColorComponents | 3 |
ColorNoiseReduction | 25 |
ColorNoiseReductionDetail | 50 |
ColorTemperature | 6000 |
Contrast (1) | -17 |
Contrast | Normal |
ConvertToGrayscale | False |
Copyright | © ThomasHolm.no |
CopyrightFlag | True |
CopyrightNotice | © ThomasHolm.no |
CreateDate | 2011:08:01 20:10:19 |
Creator | Thomas Holm |
CreatorTool | Adobe Photoshop Lightroom 3.4.1 |
CreatorWorkURL | www.thomasholm.no |
CropAngle | 0.199441 |
CropBottom | 1 |
CropConstrainToWarp | 0 |
CropHeight | 960 |
CropLeft | 0.00361 |
CropRight | 0.99639 |
CropTop | 0 |
CropUnit | pixels |
CropWidth | 1280 |
CustomRendered | Normal |
DateCreated (1) | 2011:08:01 |
DateCreated | 2011:08:01 20:10:19 |
DateTimeOriginal | 2011:08:01 20:10:19 |
Defringe | 0 |
DigitalZoomRatio | 1 |
DOF | inf (30.62 m - inf) |
Exposure | -0.23 |
ExposureCompensation | +1 |
ExposureMode | Manual |
ExposureProgram | Aperture-priority AE |
ExposureTime | 1/800 |
FillLight | 10 |
Flash | On, Did not fire |
FlashCompensation | 0 |
FNumber | 5.0 |
FocalLength | 60.0 mm |
FocalLength35efl | 60.0 mm (35 mm equivalent: 120.0 mm) |
FocalLengthIn35mmFormat | 120 mm |
FOV | 17.1 deg |
GainControl | High gain up |
GrainAmount | 0 |
GreenHue | +25 |
GreenSaturation | +20 |
HasCrop | True |
HasSettings | True |
HighlightRecovery | 18 |
HueAdjustmentAqua | +30 |
HueAdjustmentBlue | -5 |
HueAdjustmentGreen | -36 |
HueAdjustmentMagenta | +15 |
HueAdjustmentOrange | +5 |
HueAdjustmentPurple | -25 |
HueAdjustmentRed | +40 |
HueAdjustmentYellow | 0 |
HyperfocalDistance | 47.93 m |
ImageHeight | 960 |
ImageSize | 1280x960 |
ImageWidth | 1280 |
ISO | 640 |
Lens | OLYMPUS 12-60mm Lens |
LensInfo | 12-60mm f/2.8-4 |
LensManualDistortionAmount | 0 |
LensModel | OLYMPUS 12-60mm Lens |
LensProfileEnable | 0 |
LensProfileSetup | LensDefaults |
LensSerialNumber | 230005742 |
LightSource | Cloudy |
LightValue | 11.6 |
LuminanceAdjustmentAqua | +5 |
LuminanceAdjustmentBlue | +7 |
LuminanceAdjustmentGreen | 0 |
LuminanceAdjustmentMagenta | +9 |
LuminanceAdjustmentOrange | -5 |
LuminanceAdjustmentPurple | +3 |
LuminanceAdjustmentRed | -7 |
LuminanceAdjustmentYellow | +9 |
LuminanceNoiseReductionContrast | 0 |
LuminanceNoiseReductionDetail | 75 |
LuminanceSmoothing | 25 |
Make | OLYMPUS IMAGING CORP. |
Marked | True |
MaxApertureValue | 2.8 |
Megapixels | 1.2 |
MeteringMode | Center-weighted average |
Model | E-5 |
ModifyDate (1) | 2011:09:06 20:44:44+02:00 |
ModifyDate | 2011:09:06 20:44:44 |
ParametricDarks | +54 |
ParametricHighlights | -40 |
ParametricHighlightSplit | 90 |
ParametricLights | +26 |
ParametricMidtoneSplit | 35 |
ParametricShadows | -15 |
ParametricShadowSplit | 11 |
PerspectiveHorizontal | 0 |
PerspectiveRotate | 0.0 |
PerspectiveScale | 100 |
PerspectiveVertical | 0 |
PostCropVignetteAmount | -6 |
PostCropVignetteFeather | 50 |
PostCropVignetteHighlightContrast | 0 |
PostCropVignetteMidpoint | 50 |
PostCropVignetteRoundness | 0 |
PostCropVignetteStyle | 1 |
ProcessVersion | 5.7 |
ProfileDescription | sRGB IEC61966-2.1 |
RedHue | -25 |
RedSaturation | +20 |
Rights | © ThomasHolm.no |
Saturation (1) | +6 |
Saturation | High |
SaturationAdjustmentAqua | -15 |
SaturationAdjustmentBlue | +25 |
SaturationAdjustmentGreen | -11 |
SaturationAdjustmentMagenta | -30 |
SaturationAdjustmentOrange | +20 |
SaturationAdjustmentPurple | -2 |
SaturationAdjustmentRed | 0 |
SaturationAdjustmentYellow | +25 |
ScaleFactor35efl | 2.0 |
SceneCaptureType | Standard |
SerialNumber | AB1502888 |
Shadows | 20 |
ShadowTint | 0 |
SharpenDetail | 20 |
SharpenEdgeMasking | 0 |
SharpenRadius | +0.7 |
Sharpness (1) | 60 |
Sharpness | Normal |
ShutterSpeed | 1/800 |
ShutterSpeedValue | 1/800 |
Software | Adobe Photoshop Lightroom 3.4.1 |
SplitToningBalance | 0 |
SplitToningHighlightHue | 0 |
SplitToningHighlightSaturation | 0 |
SplitToningShadowHue | 0 |
SplitToningShadowSaturation | 0 |
SubjectDistance | 84.7 m |
Tint | +16 |
ToneCurve | 0, 0, 32, 22, 64, 56, 128, 128, 192, 196, 255, 255 |
ToneCurveName | Medium Contrast |
UsageTerms | No copying without permission! |
Version | 6.4.1 |
Vibrance | +29 |
VignetteAmount | 0 |
WhiteBalance (1) | Custom |
WhiteBalance | Manual |