Felt | Verdi |
AlreadyApplied | True |
Aperture | 8.0 |
ApertureValue | 8.0 |
ApproximateFocusDistance | 0.59 |
BitsPerSample | 8 |
BlueHue | 0 |
BlueSaturation | 0 |
Brightness | +43 |
CameraProfile | Adobe Standard |
ChromaticAberrationB | 0 |
ChromaticAberrationR | 0 |
CircleOfConfusion | 0.027 mm |
Clarity | +65 |
ColorComponents | 1 |
ColorMode | RGB |
ColorNoiseReduction | 25 |
ColorNoiseReductionDetail | 50 |
ColorSpace | Uncalibrated |
ColorTemperature | 5850 |
Contrast | +89 |
ConvertToGrayscale | True |
CopyrightFlag | True |
CreateDate (1) | 2011:09:07 18:29:54.29 |
CreateDate | 2011:09:07 18:29:54 |
CreatorTool | Adobe Photoshop Lightroom 3.4.1 |
CropAngle | 0 |
CropBottom | 0.829736 |
CropConstrainToWarp | 0 |
CropLeft | 0.164668 |
CropRight | 0.926459 |
CropTop | 0 |
CustomRendered | Normal |
DateCreated (1) | 2011:09:07 |
DateCreated | 2011:09:07 18:29:54.029 |
DateTimeOriginal | 2011:09:07 18:29:54 |
Defringe | 0 |
DOF | 0.013 m (0.584 - 0.596 m) |
ExifImageHeight | 1016 |
ExifImageWidth | 1400 |
Exposure | +0.67 |
ExposureCompensation | 0 |
ExposureMode | Auto |
ExposureProgram | Aperture-priority AE |
ExposureTime | 1/125 |
FillLight | 3 |
Firmware | 1.0.6 |
Flash | No Flash |
FlashCompensation | 0 |
FNumber | 8.0 |
FocalLength | 100.0 mm |
FocalLength35efl | 100.0 mm (35 mm equivalent: 110.8 mm) |
Format | image/jpeg |
FOV | 18.5 deg |
GrainAmount | 0 |
GrayMixerAqua | -19 |
GrayMixerBlue | +11 |
GrayMixerGreen | -27 |
GrayMixerMagenta | +7 |
GrayMixerOrange | -19 |
GrayMixerPurple | +18 |
GrayMixerRed | -29 |
GrayMixerYellow | +10 |
GreenHue | 0 |
GreenSaturation | 0 |
HasCrop | True |
HasSettings | True |
HighlightRecovery | 100 |
HyperfocalDistance | 46.10 m |
ICCProfileName | ProPhoto RGB |
ImageHeight | 1016 |
ImageNumber | 0 |
ImageSize | 1400x1016 |
ImageWidth | 1400 |
ISO | 6400 |
Label | |
Lens | EF100mm f/2.8L Macro IS USM |
LensID (1) | 254 |
LensID | Canon EF 100mm f/2.8L Macro IS USM |
LensInfo | 100mm f/? |
LensManualDistortionAmount | 0 |
LensModel | EF100mm f/2.8L Macro IS USM |
LensProfileEnable | 0 |
LensProfileSetup | LensDefaults |
LightValue | 7.0 |
LuminanceNoiseReductionContrast | 0 |
LuminanceNoiseReductionDetail | 0 |
LuminanceSmoothing | 67 |
Make | Canon |
Marked | True |
MaxApertureValue | 2.8 |
Megapixels | 1.4 |
MeteringMode | Partial |
Model | Canon EOS-1D Mark IV |
ModifyDate (1) | 2011:09:14 20:08:43+02:00 |
ModifyDate | 2011:09:14 20:08:43 |
ObjectName | Alien |
Orientation | Horizontal (normal) |
ParametricDarks | -43 |
ParametricHighlights | 0 |
ParametricHighlightSplit | 75 |
ParametricLights | +21 |
ParametricMidtoneSplit | 50 |
ParametricShadows | +40 |
ParametricShadowSplit | 25 |
PerspectiveHorizontal | 0 |
PerspectiveRotate | 0.0 |
PerspectiveScale | 100 |
PerspectiveVertical | 0 |
PostCropVignetteAmount | 0 |
ProcessVersion | 5.7 |
ProfileDescription | ProPhoto RGB |
Rating | 0 |
RawFileName | _C8G9387.dng |
RedHue | 0 |
RedSaturation | 0 |
ScaleFactor35efl | 1.1 |
SceneCaptureType | Standard |
SerialNumber | 630500128 |
Shadows | 17 |
ShadowTint | 0 |
SharpenDetail | 25 |
SharpenEdgeMasking | 0 |
SharpenRadius | +1.0 |
Sharpness | 25 |
ShutterSpeed | 1/125 |
ShutterSpeedValue | 1/125 |
Software | Adobe Photoshop CS5 Windows |
SplitToningBalance | 0 |
SplitToningHighlightHue | 215 |
SplitToningHighlightSaturation | 0 |
SplitToningShadowHue | 216 |
SplitToningShadowSaturation | 0 |
SubjectDistance | 0.59 m |
Tint | +5 |
Title | Alien |
ToneCurve | 0, 0, 255, 255 |
ToneCurveName | Linear |
URL_List | |
Version | 6.4.1 |
VignetteAmount | -100 |
VignetteMidpoint | 6 |
WhiteBalance (1) | Auto |
WhiteBalance | Manual |