Felt | Verdi |
ApertureValue | 16.0 |
Artist | Enno Swets |
BitsPerSample | 8 |
BlueHue | 0 |
BlueSaturation | 0 |
ChromaticAberrationB | 0 |
ChromaticAberrationR | 0 |
CircleOfConfusion | 0.020 mm |
ColorComponents | 3 |
ColorMode | RGB |
ColorNoiseReduction | 25 |
ColorNoiseReductionDetail | 50 |
ColorSpace | Uncalibrated |
Contrast (1) | Normal |
CustomRendered (1) | Normal |
DateCreated (1) | 2011:05:13 |
DateTimeOriginal | 2011:05:13 13:58:39 |
Defringe | 0 |
DigitalZoomRatio | 1 |
DOF | 0.008 m (0.416 - 0.424 m) |
ExifImageWidth | 1024 |
Exposure | 0.00 |
ExposureCompensation (1) | 0 |
ExposureMode | Auto |
ExposureProgram | Aperture-priority AE |
ExposureTime (1) | 1/80 |
Flash | Off, Did not fire |
FlashFired | False |
FlashReturn | No return detection |
FNumber | 16.0 |
FocalLength | 105.0 mm |
FocalLength35efl | 105.0 mm (35 mm equivalent: 157.0 mm) |
Format | image/x-nikon-nef |
GainControl (1) | Low gain up |
GrainAmount | 0 |
GreenSaturation | 0 |
HasCrop | False |
HasSettings | True |
HighlightRecovery | 0 |
HueAdjustmentBlue | 0 |
HueAdjustmentGreen | 0 |
HueAdjustmentOrange | 0 |
HueAdjustmentPurple | 0 |
HueAdjustmentRed | 0 |
HueAdjustmentYellow | 0 |
HyperfocalDistance | 34.29 m |
ICCProfileName | |
ImageHeight (1) | 3264 |
ImageWidth (1) | 4928 |
Lens | 105.0 mm f/2.8 |
LensID (1) | 138 |
LensID | AF-S VR Micro-Nikkor 105mm f/2.8G IF-ED |
LensInfo | 105mm f/2.8 |
LensProfileEnable | 0 |
LightSource | Unknown |
LightValue | 12.3 |
LuminanceAdjustmentAqua | 0 |
LuminanceAdjustmentBlue | 0 |
LuminanceAdjustmentGreen | 0 |
LuminanceAdjustmentMagenta | 0 |
LuminanceAdjustmentOrange | 0 |
LuminanceAdjustmentPurple | 0 |
Make (1) | NIKON CORPORATION |
MaxApertureValue | 3.5 |
Megapixels | 0.695 |
MeteringMode | Multi-segment |
Model (1) | NIKON D7000 |
ModifyDate (1) | 2011:05:13 11:58:39.20 |
Orientation | Horizontal (normal) |
ParametricDarks | 0 |
ParametricHighlights | 0 |
ParametricLights | 0 |
ParametricMidtoneSplit | 50 |
ParametricShadows | 0 |
ParametricShadowSplit | 25 |
PerspectiveScale | 100 |
PerspectiveVertical | 0 |
PhotometricInterpretation | RGB |
PostCropVignetteAmount | 0 |
ProcessVersion | 5.7 |
Rating | 3 |
RawFileName | DSC_1384.NEF |
RedHue | 0 |
RelatedImageHeight | 3264 |
Saturation (2) | 0 |
Saturation | Normal |
SaturationAdjustmentGreen | 0 |
SaturationAdjustmentMagenta | 0 |
SaturationAdjustmentPurple | 0 |
SaturationAdjustmentYellow | 0 |
SceneCaptureType | Standard |
SceneType | Directly photographed |
SensingMethod (1) | One-chip color area |
SensitivityType | 2 |
SerialNumber | 6142279 |
Shadows | 5 |
ShadowTint | 0 |
Sharpness (2) | 25 |
Sharpness | Normal |
ShutterSpeedValue (1) | 1/80 |
Software | Elements Organizer 9.0 |
SplitToningBalance | 0 |
SplitToningHighlightHue | 0 |
SubjectDistanceRange (1) | Unknown |
ToneCurveName | Medium Contrast |
Vibrance | +34 |
WhiteBalance | Auto |