Felt | Verdi |
AlreadyApplied | True |
Aperture | 3.2 |
ApertureValue | 3.2 |
ApproximateFocusDistance | 2.93 |
Artist | Harald Eigum |
BitsPerSample | 8 |
BlueHue | 0 |
BlueSaturation | 0 |
Brightness | +50 |
By-line | Harald Eigum |
CameraProfile | Adobe Standard |
ChromaticAberrationB | 0 |
ChromaticAberrationR | 0 |
CircleOfConfusion | 0.019 mm |
Clarity | +53 |
ColorComponents | 3 |
ColorMode | RGB |
ColorNoiseReduction | 25 |
ColorNoiseReductionDetail | 50 |
ColorSpace | sRGB |
ColorTemperature | 3200 |
Contrast | +25 |
ConvertToGrayscale | False |
Copyright | Harald Eigum |
CopyrightNotice | Harald Eigum |
CreateDate (1) | 2011:10:15 21:30:49.82 |
CreateDate | 2011:10:15 21:30:49 |
Creator | Harald Eigum, Harald Eigum |
CustomRendered | Normal |
DateCreated (1) | 2011:10:15 |
DateCreated | 2011:10:15 21:30:49.082 |
DateTimeOriginal | 2011:10:15 21:30:49 |
Defringe | 0 |
DOF | 2.83 m (2.09 - 4.92 m) |
ExifImageHeight | 5184 |
ExifImageWidth | 3456 |
Exposure | 0.00 |
ExposureCompensation | 0 |
ExposureMode | Auto |
ExposureProgram | Shutter speed priority AE |
ExposureTime | 1/60 |
FillLight | 0 |
Firmware | 1.2.3 |
Flash | Off, Did not fire |
FlashCompensation | 0 |
FNumber | 3.2 |
FocalLength | 21.0 mm |
FocalLength35efl | 21.0 mm (35 mm equivalent: 33.0 mm) |
Format | image/jpeg |
FOV | 57.3 deg |
GrainAmount | 0 |
GreenHue | 0 |
GreenSaturation | 0 |
HasCrop | False |
HasSettings | True |
HighlightRecovery | 53 |
HueAdjustmentAqua | 0 |
HueAdjustmentBlue | 0 |
HueAdjustmentGreen | 0 |
HueAdjustmentMagenta | 0 |
HueAdjustmentOrange | 0 |
HueAdjustmentPurple | 0 |
HueAdjustmentRed | 0 |
HueAdjustmentYellow | 0 |
HyperfocalDistance | 7.20 m |
ICCProfileName | sRGB IEC61966-2.1 |
ImageHeight | 5184 |
ImageNumber | 0 |
ImageSize | 3456x5184 |
ImageWidth | 3456 |
ISO | 3200 |
Lens | 17-70mm |
LensID (1) | 137 |
LensID | Sigma 17-70mm f/2.8-4 DC Macro OS HSM | C |
LensInfo | 17-70mm f/? |
LensManualDistortionAmount | 0 |
LensModel | 17-70mm |
LensProfileEnable | 0 |
LensProfileSetup | LensDefaults |
LightValue | 4.3 |
LuminanceAdjustmentAqua | 0 |
LuminanceAdjustmentBlue | 0 |
LuminanceAdjustmentGreen | 0 |
LuminanceAdjustmentMagenta | 0 |
LuminanceAdjustmentOrange | 0 |
LuminanceAdjustmentPurple | 0 |
LuminanceAdjustmentRed | 0 |
LuminanceAdjustmentYellow | 0 |
LuminanceNoiseReductionContrast | 0 |
LuminanceNoiseReductionDetail | 50 |
LuminanceSmoothing | 50 |
Make | Canon |
MaxApertureValue | 3.1 |
Megapixels | 17.9 |
MeteringMode | Multi-segment |
Model | Canon EOS 7D |
ModifyDate (1) | 2011:10:15 23:49:08+02:00 |
ModifyDate | 2011:10:15 23:49:08 |
Orientation | Horizontal (normal) |
ParametricDarks | 0 |
ParametricHighlights | 0 |
ParametricHighlightSplit | 75 |
ParametricLights | 0 |
ParametricMidtoneSplit | 50 |
ParametricShadows | 0 |
ParametricShadowSplit | 25 |
PerspectiveHorizontal | 0 |
PerspectiveRotate | 0.0 |
PerspectiveScale | 100 |
PerspectiveVertical | 0 |
PostCropVignetteAmount | 0 |
ProcessVersion | 5.7 |
ProfileDescription | sRGB IEC61966-2.1 |
Rating | 0 |
RawFileName | Netal_0189.CR2 |
RedHue | 0 |
RedSaturation | 0 |
Rights | Harald Eigum |
Saturation | 0 |
SaturationAdjustmentAqua | 0 |
SaturationAdjustmentBlue | 0 |
SaturationAdjustmentGreen | 0 |
SaturationAdjustmentMagenta | 0 |
SaturationAdjustmentOrange | 0 |
SaturationAdjustmentPurple | 0 |
SaturationAdjustmentRed | 0 |
SaturationAdjustmentYellow | 0 |
ScaleFactor35efl | 1.6 |
SceneCaptureType | Standard |
SerialNumber | 430528985 |
Shadows | 0 |
ShadowTint | 0 |
SharpenDetail | 25 |
SharpenEdgeMasking | 0 |
SharpenRadius | +1.0 |
Sharpness | 25 |
ShutterSpeed | 1/60 |
ShutterSpeedValue | 1/60 |
Software | Adobe Photoshop CS5 Windows |
SplitToningBalance | 0 |
SplitToningHighlightHue | 0 |
SplitToningHighlightSaturation | 0 |
SplitToningShadowHue | 0 |
SplitToningShadowSaturation | 0 |
SubjectDistance | 2.93 m |
Tint | +2 |
ToneCurve | 0, 0, 32, 22, 64, 56, 128, 128, 192, 196, 255, 255 |
ToneCurveName | Medium Contrast |
URL_List | |
Version | 6.4.1 |
Vibrance | 0 |
VignetteAmount | 0 |
WhiteBalance (1) | As Shot |
WhiteBalance | Auto |