Felt | Verdi |
AlreadyApplied | True |
Aperture | 5.0 |
ApertureValue | 5.0 |
ApproximateFocusDistance | 4.47 |
Artist | Jon Leirdal |
BitsPerSample | 8 |
BlueHue | 0 |
BlueSaturation | 0 |
Brightness | +59 |
By-line | Jon Leirdal |
CameraProfile | Adobe Standard |
ChromaticAberrationB | 0 |
ChromaticAberrationR | 0 |
CircleOfConfusion | 0.019 mm |
Clarity | 0 |
ColorComponents | 3 |
ColorNoiseReduction | 25 |
ColorNoiseReductionDetail | 50 |
ColorTemperature | 4900 |
Contrast | +75 |
ConvertToGrayscale | True |
Copyright | Jon Leirdal © 2009 |
CopyrightFlag | True |
CopyrightNotice | Jon Leirdal © 2009 |
CreateDate (1) | 2010:02:07 14:24:15.38+01:00 |
CreateDate | 2010:02:07 14:24:15 |
Creator | Jon Leirdal |
CreatorAddress | Huldreveien 87 |
CreatorCity | Borgen |
CreatorCountry | Norway |
CreatorPostalCode | 1388 |
CreatorRegion | Akershus |
CreatorTool | Adobe Photoshop Lightroom 3.4.1 |
CreatorWorkEmail | jon@leirdal.com |
CreatorWorkTelephone | +47 95126727 |
CreatorWorkURL | www.leirdal.net |
CropAngle | 0 |
CropBottom | 0.96875 |
CropConstrainToWarp | 0 |
CropHeight | 1200 |
CropLeft | 0 |
CropRight | 1 |
CropTop | 0.03125 |
CropUnit | pixels |
CropWidth | 1920 |
CustomRendered | Normal |
DateCreated (1) | 2010:02:07 |
DateCreated | 2010:02:07 14:24:15.38+01:00 |
DateTimeOriginal | 2010:02:07 14:24:15 |
Defringe | 0 |
DOF | 0.52 m (4.23 - 4.74 m) |
Exposure | 0.00 |
ExposureCompensation | 0 |
ExposureMode | Auto |
ExposureProgram | Aperture-priority AE |
ExposureTime | 1/640 |
FillLight | 38 |
Firmware | 1.0.6 |
Flash | Off, Did not fire |
FlashCompensation | 0 |
FNumber | 5.0 |
FocalLength | 85.0 mm |
FocalLength35efl | 85.0 mm (35 mm equivalent: 134.7 mm) |
FOV | 15.2 deg |
GrainAmount | 0 |
GrayMixerAqua | -20 |
GrayMixerBlue | +5 |
GrayMixerGreen | -23 |
GrayMixerMagenta | +6 |
GrayMixerOrange | -13 |
GrayMixerPurple | +13 |
GrayMixerRed | -4 |
GrayMixerYellow | -16 |
GreenHue | 0 |
GreenSaturation | 0 |
HasCrop | True |
HasSettings | True |
HighlightRecovery | 0 |
HyperfocalDistance | 76.21 m |
ImageHeight | 1200 |
ImageNumber | 0 |
ImageSize | 1920x1200 |
ImageWidth | 1920 |
ISO | 100 |
Keywords | Art, Asker, Graffiti, Hjem, Home, Kunst, Place, Season, Sted, Vinter, Årstid |
Lens | EF24-105mm f/4L IS USM |
LensID (1) | 237 |
LensID | Canon EF 24-105mm f/4L IS USM |
LensInfo | 24-105mm f/? |
LensManualDistortionAmount | 0 |
LensModel | EF24-105mm f/4L IS USM |
LensProfileEnable | 0 |
LensProfileSetup | LensDefaults |
LightValue | 14.0 |
LuminanceSmoothing | 0 |
Make | Canon |
Marked | True |
MaxApertureValue | 4.0 |
Megapixels | 2.3 |
MeteringMode | Multi-segment |
Model | Canon EOS 50D |
ModifyDate (1) | 2011:09:05 12:49:48+02:00 |
ModifyDate | 2011:09:05 12:49:48 |
ParametricDarks | 0 |
ParametricHighlights | 0 |
ParametricHighlightSplit | 75 |
ParametricLights | 0 |
ParametricMidtoneSplit | 50 |
ParametricShadows | 0 |
ParametricShadowSplit | 25 |
PerspectiveHorizontal | 0 |
PerspectiveRotate | 0.0 |
PerspectiveScale | 100 |
PerspectiveVertical | 0 |
PostCropVignetteAmount | 0 |
ProcessVersion | 5.7 |
ProfileDescription | sRGB IEC61966-2.1 |
Rating | 4 |
RedHue | 0 |
RedSaturation | 0 |
Rights | Jon Leirdal © 2009 |
ScaleFactor35efl | 1.6 |
SceneCaptureType | Standard |
SerialNumber | 230103934 |
Shadows | 23 |
ShadowTint | 0 |
SharpenDetail | 25 |
SharpenEdgeMasking | 0 |
SharpenRadius | +1.0 |
Sharpness | 25 |
ShutterSpeed | 1/640 |
ShutterSpeedValue | 1/640 |
Software | Adobe Photoshop Lightroom 3.4.1 |
SplitToningBalance | 0 |
SplitToningHighlightHue | 146 |
SplitToningHighlightSaturation | 10 |
SplitToningShadowHue | 229 |
SplitToningShadowSaturation | 78 |
Subject | Art, Asker, Graffiti, Hjem, Home, Kunst, Place, Season, Sted, Vinter, Årstid |
SubjectDistance | 4.47 m |
Tint | +16 |
ToneCurve | 0, 0, 32, 22, 64, 56, 128, 128, 192, 196, 255, 255 |
ToneCurveName | Medium Contrast |
Version | 6.4.1 |
VignetteAmount | 0 |
WhiteBalance (1) | As Shot |
WhiteBalance | Auto |