Felt | Verdi |
2011-12-12T12:08:35+01:00 File foto.no.psd saved
2011-12-12T12:08:46+01:00 File foto.no.jpg saved
AlreadyApplied | True |
Aperture | 5.6 |
ApertureValue | 5.6 |
ApproximateFocusDistance | 6.11 |
Artist | Haakon Selje |
BitsPerSample | 8 |
BlueHue | 0 |
BlueSaturation | 0 |
Brightness | +50 |
Brush Tool
By-line | Haakon Selje |
CameraProfile | Adobe Standard |
ChromaticAberrationB | 0 |
ChromaticAberrationR | 0 |
CircleOfConfusion | 0.019 mm |
Clarity | 0 |
ColorComponents | 3 |
ColorMode | RGB |
ColorNoiseReduction | 25 |
ColorNoiseReductionDetail | 50 |
ColorSpace | Uncalibrated |
ColorTemperature | 3400 |
Contrast | +52 |
ConvertToGrayscale | False |
Copyright | Haakon Selje |
CopyrightNotice | Haakon Selje |
CreateDate (1) | 2011:12:09 22:05:27.32 |
CreateDate | 2011:12:09 22:05:27 |
Creator | Haakon Selje |
CreatorTool | Adobe Photoshop CS5.1 Macintosh |
CustomRendered | Normal |
DateCreated (1) | 2011:12:09 |
DateCreated | 2011:12:09 22:05:27.032 |
DateTimeOriginal | 2011:12:09 22:05:27 |
Defringe | 0 |
Delete Layer
DOF | inf (1.73 m - inf) |
Edit Type Layer
ExifImageHeight | 3168 |
ExifImageWidth | 4752 |
Exposure | +0.05 |
ExposureCompensation | 0 |
ExposureMode | Manual |
ExposureProgram | Manual |
ExposureTime | 30 |
FillLight | 0 |
Firmware | 1.0.9 |
Flash | Off, Did not fire |
FlashCompensation | 0 |
FNumber | 5.6 |
FocalLength | 16.0 mm |
FocalLength35efl | 16.0 mm (35 mm equivalent: 25.4 mm) |
Format | image/jpeg |
FOV | 70.6 deg |
GrainAmount | 0 |
GreenHue | 0 |
GreenSaturation | 0 |
HasCrop | False |
HasSettings | True |
HighlightRecovery | 32 |
HueAdjustmentAqua | 0 |
HueAdjustmentBlue | 0 |
HueAdjustmentGreen | 0 |
HueAdjustmentMagenta | 0 |
HueAdjustmentOrange | 0 |
HueAdjustmentPurple | 0 |
HueAdjustmentRed | 0 |
HueAdjustmentYellow | 0 |
HyperfocalDistance | 2.42 m |
ICCProfileName | Adobe RGB (1998) |
ImageHeight | 3168 |
ImageNumber | 0 |
ImageSize | 4752x3168 |
ImageWidth | 4752 |
ISO | 200 |
Lens | EF-S15-85mm f/3.5-5.6 IS USM |
LensID (1) | 488 |
LensID | Canon EF-S 15-85mm f/3.5-5.6 IS USM |
LensInfo | 15-85mm f/? |
LensManualDistortionAmount | 0 |
LensModel | EF-S15-85mm f/3.5-5.6 IS USM |
LensProfileEnable | 0 |
LensProfileSetup | LensDefaults |
LightValue | -0.9 |
LuminanceAdjustmentAqua | 0 |
LuminanceAdjustmentBlue | 0 |
LuminanceAdjustmentGreen | 0 |
LuminanceAdjustmentMagenta | 0 |
LuminanceAdjustmentOrange | 0 |
LuminanceAdjustmentPurple | 0 |
LuminanceAdjustmentRed | 0 |
LuminanceAdjustmentYellow | 0 |
LuminanceSmoothing | 0 |
Make | Canon |
MaxApertureValue | 3.5 |
Megapixels | 15.1 |
MeteringMode | Partial |
Model | Canon EOS 500D |
ModifyDate (1) | 2011:12:12 12:08:46+01:00 |
ModifyDate | 2011:12:12 12:08:46 |
Move
New Layer
Orientation | Horizontal (normal) |
ParametricDarks | 0 |
ParametricHighlights | 0 |
ParametricHighlightSplit | 75 |
ParametricLights | 0 |
ParametricMidtoneSplit | 50 |
ParametricShadows | 0 |
ParametricShadowSplit | 25 |
PerspectiveHorizontal | 0 |
PerspectiveRotate | 0.0 |
PerspectiveScale | 100 |
PerspectiveVertical | 0 |
PostCropVignetteAmount | 0 |
ProcessVersion | 5.7 |
ProfileDescription | Adobe RGB (1998) |
Rating | 0 |
RawFileName | _MG_5035.CR2 |
RedHue | 0 |
RedSaturation | 0 |
Rights | Haakon Selje |
Saturation | +25 |
SaturationAdjustmentAqua | 0 |
SaturationAdjustmentBlue | 0 |
SaturationAdjustmentGreen | 0 |
SaturationAdjustmentMagenta | 0 |
SaturationAdjustmentOrange | 0 |
SaturationAdjustmentPurple | 0 |
SaturationAdjustmentRed | 0 |
SaturationAdjustmentYellow | 0 |
ScaleFactor35efl | 1.6 |
SceneCaptureType | Standard |
SerialNumber | 530116575 |
Shadows | 9 |
ShadowTint | 0 |
SharpenDetail | 25 |
SharpenEdgeMasking | 0 |
SharpenRadius | +1.0 |
Sharpness | 25 |
ShutterSpeed | 30 |
ShutterSpeedValue | 30 |
Software | Adobe Photoshop CS5.1 Macintosh |
SplitToningBalance | 0 |
SplitToningHighlightHue | 0 |
SplitToningHighlightSaturation | 0 |
SplitToningShadowHue | 0 |
SplitToningShadowSaturation | 0 |
SubjectDistance | 6.11 m |
Tint | 0 |
ToneCurve | 0, 0, 32, 22, 64, 56, 128, 128, 192, 196, 255, 255 |
ToneCurveName | Medium Contrast |
Type Tool
Undo
URL_List | |
Version | 6.4.1 |
Vibrance | +16 |
VignetteAmount | 0 |
WhiteBalance | Auto |