Felt | Verdi |
AlreadyApplied | True |
Aperture | 2.1 |
ApertureValue | 2.1 |
BitsPerSample (1) | 8 8 8 |
BitsPerSample | 8 |
BlueHue | 0 |
BlueSaturation | 0 |
Brightness | +50 |
CameraProfile | Adobe Standard |
ChromaticAberrationB | 0 |
ChromaticAberrationR | 0 |
CircleOfConfusion | 0.006 mm |
Clarity | 0 |
ColorComponents | 3 |
ColorMode | RGB |
ColorNoiseReduction | 25 |
ColorNoiseReductionDetail | 50 |
ColorSpace | sRGB |
ColorTemperature | 6100 |
Contrast | +25 |
ConvertToGrayscale | False |
Copyright | Eva Hodneland |
CopyrightFlag | True |
CopyrightNotice | Eva Hodneland |
CreateDate (1) | 2012:02:08 11:02:45+01:00 |
CreateDate | 2012:02:08 11:02:45 |
CreatorTool | Adobe Photoshop CS5.1 Windows |
CreatorWorkEmail | evahodne@online.no |
CropAngle | 4.478775 |
CropBottom | 0.999588 |
CropConstrainToWarp | 1 |
CropLeft | 0.11365 |
CropRight | 0.952234 |
CropTop | 0 |
DateCreated (1) | 2012:02:08 |
DateCreated | 2012:02:08 11:02:45 |
DateTimeOriginal | 2012:02:08 11:02:45 |
Defringe | 0 |
ExifImageHeight | 1134 |
ExifImageWidth | 850 |
Exposure | +0.50 |
ExposureCompensation | +0.33 |
ExposureProgram | Shutter speed priority AE |
ExposureTime | 1/100 |
FillLight | 0 |
Flash | Auto, Fired |
FNumber | 2.1 |
FocalLength | 5.5 mm |
FocalLength35efl | 5.5 mm (35 mm equivalent: 26.0 mm) |
FocalLengthIn35mmFormat | 26 mm |
Format | image/jpeg |
FOV | 69.4 deg |
GrainAmount | 0 |
GreenHue | 0 |
GreenSaturation | 0 |
HasCrop | True |
HasSettings | True |
HierarchicalSubject | Gatebilder, Mennesker, Places|Marokko |
HighlightRecovery | 0 |
HueAdjustmentAqua | 0 |
HueAdjustmentBlue | 0 |
HueAdjustmentGreen | 0 |
HueAdjustmentMagenta | 0 |
HueAdjustmentOrange | 0 |
HueAdjustmentPurple | 0 |
HueAdjustmentRed | 0 |
HueAdjustmentYellow | 0 |
HyperfocalDistance | 2.27 m |
ICCProfileName | sRGB IEC61966-2.1 |
ImageHeight (1) | 3780 |
ImageHeight | 1134 |
ImageSize | 850x1134 |
ImageWidth (1) | 2835 |
ImageWidth | 850 |
ISO | 400 |
Keywords | Gatebilder, Marokko, Mennesker, Places |
LensManualDistortionAmount | 0 |
LensProfileEnable | 0 |
LensProfileSetup | LensDefaults |
LightValue | 6.8 |
LuminanceAdjustmentAqua | 0 |
LuminanceAdjustmentBlue | 0 |
LuminanceAdjustmentGreen | 0 |
LuminanceAdjustmentMagenta | 0 |
LuminanceAdjustmentOrange | 0 |
LuminanceAdjustmentPurple | 0 |
LuminanceAdjustmentRed | 0 |
LuminanceAdjustmentYellow | 0 |
LuminanceNoiseReductionContrast | 0 |
LuminanceNoiseReductionDetail | 50 |
LuminanceSmoothing | 47 |
Make | Panasonic |
Marked | True |
MaxApertureValue | 2.0 |
Megapixels | 0.964 |
MeteringMode | Multi-segment |
Model | DMC-LX5 |
ModifyDate (1) | 2012:04:16 15:24:18+02:00 |
ModifyDate | 2012:04:16 15:24:18 |
Orientation | Horizontal (normal) |
PaintCorrectionActive | true |
PaintCorrectionAmount | 1.000000 |
PaintCorrectionBrightness | 0.030000 |
PaintCorrectionClarity | 0.170000 |
PaintCorrectionContrast | 0.040000 |
PaintCorrectionExposure | 0.225000 |
PaintCorrectionHue | 0.000000 |
PaintCorrectionMaskCenterWeight | 0.301835 |
PaintCorrectionMaskFlow | 0.852792 |
PaintCorrectionMaskRadius | 0.032277 |
PaintCorrectionMaskValue | 0.470000 |
PaintCorrectionMaskWhat | Mask/Paint |
PaintCorrectionSaturation (1) | 0.150000 |
PaintCorrectionSaturation | 0.000000 |
PaintCorrectionSharpness | 0.040000 |
PaintCorrectionWhat | Correction |
ParametricDarks | 0 |
ParametricHighlights | +9 |
ParametricHighlightSplit | 75 |
ParametricLights | +11 |
ParametricMidtoneSplit | 50 |
ParametricShadows | 0 |
ParametricShadowSplit | 25 |
PerspectiveHorizontal | 0 |
PerspectiveRotate | 0.0 |
PerspectiveScale | 100 |
PerspectiveVertical | 0 |
PhotometricInterpretation | RGB |
PostCropVignetteAmount | 0 |
ProcessVersion | 5.7 |
ProfileDescription | sRGB IEC61966-2.1 |
RawFileName | Sjefen i gata.jpg |
RedHue | 0 |
RedSaturation | 0 |
Rights | Eva Hodneland |
Saturation | 0 |
SaturationAdjustmentAqua | 0 |
SaturationAdjustmentBlue | 0 |
SaturationAdjustmentGreen | 0 |
SaturationAdjustmentMagenta | 0 |
SaturationAdjustmentOrange | 0 |
SaturationAdjustmentPurple | 0 |
SaturationAdjustmentRed | 0 |
SaturationAdjustmentYellow | 0 |
ScaleFactor35efl | 4.7 |
SensitivityType | Unknown |
Shadows | 5 |
ShadowTint | 0 |
SharpenDetail | 25 |
SharpenEdgeMasking | 0 |
SharpenRadius | +1.0 |
Sharpness | 51 |
ShutterSpeed | 1/100 |
ShutterSpeedValue | 1/100 |
SidecarForExtension | RW2 |
Software | Adobe Photoshop CS5.1 Windows |
SplitToningBalance | 0 |
SplitToningHighlightHue | 0 |
SplitToningHighlightSaturation | 0 |
SplitToningShadowHue | 0 |
SplitToningShadowSaturation | 0 |
Subject | Gatebilder, Marokko, Mennesker, Places |
Tint | +10 |
ToneCurve | 0, 0, 32, 22, 64, 56, 128, 128, 192, 196, 255, 255 |
ToneCurveName | Medium Contrast |
URL_List | |
Version | 6.3 |
Vibrance | 0 |
VignetteAmount | 0 |
WhiteBalance | As Shot |