Felt | Verdi |
AlreadyApplied | True |
Aperture | 13.0 |
ApertureValue | 13.0 |
ApproximateFocusDistance | 0.63 |
BitsPerSample | 8 |
BlueHue | 0 |
BlueSaturation | 0 |
Brightness | +50 |
CameraProfile | Adobe Standard |
CFAPattern | [Red,Green][Green,Blue] |
ChromaticAberrationB | 0 |
ChromaticAberrationR | 0 |
CircleOfConfusion | 0.020 mm |
Clarity | +45 |
ColorComponents | 3 |
ColorNoiseReduction | 25 |
ColorNoiseReductionDetail | 50 |
ColorTemperature | 2505 |
Contrast (1) | +40 |
Contrast | Normal |
ConvertToGrayscale | False |
CreateDate (1) | 2012:03:30 06:19:32.00 |
CreateDate | 2012:03:30 06:19:32 |
CreatorTool | Adobe Photoshop Lightroom 3.6 (Macintosh) |
CropAngle | 0 |
CropBottom | 0.953664 |
CropConstrainToWarp | 0 |
CropHeight | 766 |
CropLeft | 0.044272 |
CropRight | 0.862846 |
CropTop | 0.03133 |
CropUnit | pixels |
CropWidth | 1024 |
CustomRendered | Custom |
DateCreated (1) | 2012:03:30 |
DateCreated | 2012:03:30 06:19:32.00 |
DateTimeOriginal | 2012:03:30 06:19:32 |
Defringe | 0 |
DigitalZoomRatio | 1 |
DOF | inf (0.24 m - inf) |
Exposure | 0.00 |
ExposureCompensation | 0 |
ExposureMode | Manual |
ExposureProgram | Manual |
ExposureTime | 30 |
FillLight | 15 |
Flash | No Flash |
FNumber | 13.0 |
FocalLength | 10.0 mm |
FocalLength35efl | 10.0 mm (35 mm equivalent: 15.0 mm) |
FocalLengthIn35mmFormat | 15 mm |
Format | image/jpeg |
FOV | 100.4 deg |
GainControl | None |
GradientBasedCorrActive | true |
GradientBasedCorrAmount | 1.000000 |
GradientBasedCorrBrightness | 0.000000 |
GradientBasedCorrClarity | 0.000000 |
GradientBasedCorrContrast | 0.000000 |
GradientBasedCorrExposure (1) | -0.035000 |
GradientBasedCorrExposure (2) | 0.057500 |
GradientBasedCorrExposure | -0.257500 |
GradientBasedCorrHue (1) | 209.098007 |
GradientBasedCorrHue | 230.000000 |
GradientBasedCorrMaskFullX (1) | 0.811458 |
GradientBasedCorrMaskFullX (2) | 0.538743 |
GradientBasedCorrMaskFullX | 0.013715 |
GradientBasedCorrMaskFullY (1) | 0.123683 |
GradientBasedCorrMaskFullY (2) | 0.014368 |
GradientBasedCorrMaskFullY | 0.296469 |
GradientBasedCorrMaskValue | 1.000000 |
GradientBasedCorrMaskWhat | Mask/Gradient |
GradientBasedCorrMaskZeroX (1) | 0.732430 |
GradientBasedCorrMaskZeroX (2) | 0.566849 |
GradientBasedCorrMaskZeroX | 0.282801 |
GradientBasedCorrMaskZeroY (1) | 0.494082 |
GradientBasedCorrMaskZeroY (2) | 0.560493 |
GradientBasedCorrMaskZeroY | 0.516856 |
GradientBasedCorrSaturation (2) | 0.000000 |
GradientBasedCorrSaturation (4) | 0.857596 |
GradientBasedCorrSaturation | 0.404510 |
GradientBasedCorrSharpness | 0.000000 |
GradientBasedCorrWhat | Correction |
GrainAmount | 0 |
GreenHue | 0 |
GreenSaturation | 0 |
HasCrop | True |
HasSettings | True |
HighlightRecovery | 0 |
HueAdjustmentAqua | +60 |
HueAdjustmentBlue | 0 |
HueAdjustmentGreen | +73 |
HueAdjustmentMagenta | 0 |
HueAdjustmentOrange | 0 |
HueAdjustmentPurple | 0 |
HueAdjustmentRed | 0 |
HueAdjustmentYellow | +20 |
HyperfocalDistance | 0.38 m |
ImageHeight | 766 |
ImageNumber | 20451 |
ImageSize | 1024x766 |
ImageWidth | 1024 |
ISO | 200 |
Lens | 10.0-24.0 mm f/3.5-4.5 |
LensID (1) | 161 |
LensID | AF-S DX Nikkor 10-24mm f/3.5-4.5G ED |
LensInfo | 10-24mm f/3.5-4.5 |
LensManualDistortionAmount | 0 |
LensModel | 10.0-24.0 mm f/3.5-4.5 |
LensProfileEnable | 0 |
LensProfileSetup | LensDefaults |
LightSource | Unknown |
LightValue | 1.5 |
LuminanceAdjustmentAqua | 0 |
LuminanceAdjustmentBlue | 0 |
LuminanceAdjustmentGreen | 0 |
LuminanceAdjustmentMagenta | 0 |
LuminanceAdjustmentOrange | 0 |
LuminanceAdjustmentPurple | 0 |
LuminanceAdjustmentRed | 0 |
LuminanceAdjustmentYellow | 0 |
LuminanceSmoothing | 0 |
Make | NIKON CORPORATION |
MaxApertureValue | 3.5 |
Megapixels | 0.784 |
MeteringMode | Multi-segment |
Model | NIKON D300 |
ModifyDate (1) | 2012:04:12 23:10:49+02:00 |
ModifyDate | 2012:04:12 23:10:49 |
PaintCorrectionActive | true |
PaintCorrectionAmount | 1.000000 |
PaintCorrectionBrightness | 0.000000 |
PaintCorrectionClarity | 0.000000 |
PaintCorrectionContrast | 0.000000 |
PaintCorrectionExposure | -0.175000 |
PaintCorrectionHue | 209.098007 |
PaintCorrectionMaskCenterWeight | 0.217745 |
PaintCorrectionMaskFlow | 0.639551 |
PaintCorrectionMaskRadius | 0.013236 |
PaintCorrectionMaskValue | 0.916801 |
PaintCorrectionMaskWhat | Mask/Paint |
PaintCorrectionSaturation | 0.000000 |
PaintCorrectionSharpness | 0.000000 |
PaintCorrectionWhat | Correction |
ParametricDarks | -20 |
ParametricHighlights | -41 |
ParametricHighlightSplit | 75 |
ParametricLights | +5 |
ParametricMidtoneSplit | 50 |
ParametricShadows | -25 |
ParametricShadowSplit | 25 |
PerspectiveHorizontal | 0 |
PerspectiveRotate | 0.0 |
PerspectiveScale | 100 |
PerspectiveVertical | 0 |
PostCropVignetteAmount | 0 |
ProcessVersion | 5.7 |
ProfileDescription | sRGB IEC61966-2.1 |
RedHue | 0 |
RedSaturation | 0 |
Saturation (1) | -20 |
Saturation | Normal |
SaturationAdjustmentAqua | -35 |
SaturationAdjustmentBlue | +15 |
SaturationAdjustmentGreen | 0 |
SaturationAdjustmentMagenta | 0 |
SaturationAdjustmentOrange | +45 |
SaturationAdjustmentPurple | +15 |
SaturationAdjustmentRed | +55 |
SaturationAdjustmentYellow | +37 |
ScaleFactor35efl | 1.5 |
SceneCaptureType | Standard |
SceneType | Directly photographed |
SensingMethod | One-chip color area |
SerialNumber | 4086657 |
Shadows | 5 |
ShadowTint | 0 |
SharpenDetail | 41 |
SharpenEdgeMasking | 0 |
SharpenRadius | +1.0 |
Sharpness (1) | 78 |
Sharpness | Normal |
ShutterSpeed | 30 |
ShutterSpeedValue | 30 |
Software | Adobe Photoshop Lightroom 3.6 (Macintosh) |
SplitToningBalance | 0 |
SplitToningHighlightHue | 0 |
SplitToningHighlightSaturation | 0 |
SplitToningShadowHue | 0 |
SplitToningShadowSaturation | 0 |
SubjectDistance | 0.63 m |
SubjectDistanceRange | Unknown |
Tint | +4 |
ToneCurve | 0, 0, 32, 22, 64, 56, 128, 128, 192, 196, 255, 255 |
ToneCurveName | Medium Contrast |
Version | 6.6 |
Vibrance | +25 |
VignetteAmount | 0 |
WhiteBalance (1) | Custom |
WhiteBalance | Auto |