Felt | Verdi |
AlreadyApplied | True |
Aperture | 8.0 |
ApertureValue | 8.0 |
ApproximateFocusDistance | 4.47 |
BitsPerSample | 8 |
BlueHue | 0 |
BlueSaturation | 0 |
Brightness | +50 |
CameraProfile | Adobe Standard |
ChromaticAberrationB | 0 |
ChromaticAberrationR | 0 |
CircleOfConfusion | 0.031 mm |
Clarity | 0 |
ColorComponents | 1 |
ColorMode | Grayscale |
ColorNoiseReduction | 25 |
ColorNoiseReductionDetail | 50 |
ColorSpace | Uncalibrated |
ColorTemperature | 5550 |
Contrast | +25 |
ConvertToGrayscale | True |
Copyright | Remi_Kristiansen2010 |
CopyrightNotice | Remi_Kristiansen2010 |
CreateDate (1) | 2011:02:05 15:19:05.29+01:00 |
CreateDate | 2011:02:05 15:19:05 |
CreatorTool | Adobe Photoshop CS5 Macintosh |
CropAngle | 1.557833 |
CropBottom | 0.744258 |
CropConstrainToWarp | 1 |
CropLeft | 0.087422 |
CropRight | 0.751623 |
CropTop | 0.01908 |
CustomRendered | Normal |
DateCreated (1) | 2011:02:05 |
DateCreated | 2011:02:05 15:19:05.029+01:00 |
DateTimeOriginal | 2011:02:05 15:19:05 |
Defringe | 0 |
DOF | 1.37 m (3.89 - 5.26 m) |
ExifImageHeight | 3802 |
ExifImageWidth | 2613 |
Exposure | 0.00 |
ExposureCompensation | 0 |
ExposureMode | Auto |
ExposureProgram | Aperture-priority AE |
ExposureTime | 1/30 |
FillLight | 11 |
Firmware | 2.0.4 |
Flash | Off, Did not fire |
FlashCompensation | 0 |
FNumber | 8.0 |
FocalLength | 85.0 mm |
FocalLength35efl | 85.0 mm (35 mm equivalent: 83.0 mm) |
Format | image/jpeg |
FOV | 24.5 deg |
GradientBasedCorrActive | true |
GradientBasedCorrAmount | 1.000000 |
GradientBasedCorrBrightness (1) | -0.020000 |
GradientBasedCorrBrightness (3) | -0.055000 |
GradientBasedCorrBrightness | 0.000000 |
GradientBasedCorrClarity (1) | 0.000000 |
GradientBasedCorrClarity | 0.010000 |
GradientBasedCorrContrast | 0.000000 |
GradientBasedCorrExposure (1) | -0.175000 |
GradientBasedCorrExposure (2) | -0.087500 |
GradientBasedCorrExposure (3) | -0.100000 |
GradientBasedCorrExposure (4) | 0.325000 |
GradientBasedCorrExposure | -0.737500 |
GradientBasedCorrHue (1) | 0.000000 |
GradientBasedCorrHue | 32.000000 |
GradientBasedCorrMaskFullX (1) | 0.099239 |
GradientBasedCorrMaskFullX (2) | 0.656087 |
GradientBasedCorrMaskFullX (3) | 0.708872 |
GradientBasedCorrMaskFullX (4) | 0.801883 |
GradientBasedCorrMaskFullX | 0.655993 |
GradientBasedCorrMaskFullY (1) | 0.641465 |
GradientBasedCorrMaskFullY (2) | 0.509051 |
GradientBasedCorrMaskFullY (3) | -0.006817 |
GradientBasedCorrMaskFullY (4) | 0.724960 |
GradientBasedCorrMaskFullY | -0.194690 |
GradientBasedCorrMaskValue | 1.000000 |
GradientBasedCorrMaskWhat | Mask/Gradient |
GradientBasedCorrMaskZeroX (1) | 0.222553 |
GradientBasedCorrMaskZeroX (2) | 0.518481 |
GradientBasedCorrMaskZeroX (3) | 0.662752 |
GradientBasedCorrMaskZeroX (4) | 0.715604 |
GradientBasedCorrMaskZeroX | 0.595219 |
GradientBasedCorrMaskZeroY (1) | 0.618793 |
GradientBasedCorrMaskZeroY (2) | 0.453575 |
GradientBasedCorrMaskZeroY (3) | 0.243387 |
GradientBasedCorrMaskZeroY (4) | 0.371332 |
GradientBasedCorrMaskZeroY | 0.325860 |
GradientBasedCorrSaturation | 0.000000 |
GradientBasedCorrSharpness | 0.000000 |
GradientBasedCorrWhat | Correction |
GrainAmount | 0 |
GrayMixerAqua | -20 |
GrayMixerBlue | +5 |
GrayMixerGreen | -23 |
GrayMixerMagenta | +5 |
GrayMixerOrange | -43 |
GrayMixerPurple | +12 |
GrayMixerRed | -8 |
GrayMixerYellow | -14 |
GreenHue | 0 |
GreenSaturation | 0 |
HasCrop | True |
HasSettings | True |
HighlightRecovery | 0 |
HyperfocalDistance | 29.33 m |
ICCProfileName | Gray Gamma 2.2 |
ImageHeight | 3802 |
ImageNumber | 0 |
ImageSize | 2613x3802 |
ImageWidth | 2613 |
ISO | 1250 |
Lens | EF24-105mm f/4L IS USM |
LensID (1) | 237 |
LensID | Canon EF 24-105mm f/4L IS USM |
LensInfo | 24-105mm f/? |
LensManualDistortionAmount | 0 |
LensModel | EF24-105mm f/4L IS USM |
LensProfileEnable | 0 |
LensProfileSetup | LensDefaults |
LightValue | 7.3 |
LuminanceNoiseReductionContrast | 0 |
LuminanceNoiseReductionDetail | 50 |
LuminanceSmoothing | 17 |
Make | Canon |
MaxApertureValue | 4.0 |
Megapixels | 9.9 |
MeteringMode | Multi-segment |
Model | Canon EOS 5D Mark II |
ModifyDate (1) | 2012:05:24 14:50:15+02:00 |
ModifyDate | 2012:05:24 14:50:15 |
Orientation | Horizontal (normal) |
PaintCorrectionActive | true |
PaintCorrectionAmount | 1.000000 |
PaintCorrectionBrightness (1) | -0.055000 |
PaintCorrectionBrightness (2) | 0.105000 |
PaintCorrectionBrightness | 0.000000 |
PaintCorrectionClarity | 0.000000 |
PaintCorrectionContrast (1) | 0.040000 |
PaintCorrectionContrast | 0.000000 |
PaintCorrectionExposure (1) | -0.250000 |
PaintCorrectionExposure (2) | 0.187500 |
PaintCorrectionExposure | 0.000000 |
PaintCorrectionHue | 0.000000 |
PaintCorrectionMaskCenterWeight (1) | 0.110504 |
PaintCorrectionMaskCenterWeight (6) | 0.018572 |
PaintCorrectionMaskCenterWeight | 0.061672 |
PaintCorrectionMaskFlow (6) | 0.737589 |
PaintCorrectionMaskFlow | 0.836461 |
PaintCorrectionMaskRadius (1) | 0.154232 |
PaintCorrectionMaskRadius (2) | 0.037047 |
PaintCorrectionMaskRadius (6) | 0.050117 |
PaintCorrectionMaskRadius | 0.040322 |
PaintCorrectionMaskValue (6) | 0.000000 |
PaintCorrectionMaskValue | 0.460000 |
PaintCorrectionMaskWhat | Mask/Paint |
PaintCorrectionSaturation | 0.000000 |
PaintCorrectionSharpness | 0.000000 |
PaintCorrectionWhat | Correction |
ParametricDarks | 0 |
ParametricHighlights | 0 |
ParametricHighlightSplit | 75 |
ParametricLights | 0 |
ParametricMidtoneSplit | 50 |
ParametricShadows | 0 |
ParametricShadowSplit | 25 |
PerspectiveHorizontal | 0 |
PerspectiveRotate | 0.0 |
PerspectiveScale | 100 |
PerspectiveVertical | 0 |
PostCropVignetteAmount | -21 |
PostCropVignetteFeather | 50 |
PostCropVignetteHighlightContrast | 0 |
PostCropVignetteMidpoint | 50 |
PostCropVignetteRoundness | 0 |
PostCropVignetteStyle | 1 |
ProcessVersion | 5.7 |
ProfileDescription | Gray Gamma 2.2 |
Rating | 5 |
RawFileName | _MG_5829-1.CR2 |
RedHue | 0 |
RedSaturation | 0 |
Rights | Remi_Kristiansen2010 |
ScaleFactor35efl | 1.0 |
SceneCaptureType | Standard |
SerialNumber | 1531020570 |
Shadows | 8 |
ShadowTint | 0 |
SharpenDetail | 25 |
SharpenEdgeMasking | 27 |
SharpenRadius | +1.0 |
Sharpness | 66 |
ShutterSpeed | 1/30 |
ShutterSpeedValue | 1/30 |
Software | Adobe Photoshop CS5 Macintosh |
SplitToningBalance | 0 |
SplitToningHighlightHue | 0 |
SplitToningHighlightSaturation | 0 |
SplitToningShadowHue | 0 |
SplitToningShadowSaturation | 0 |
SubjectDistance | 4.47 m |
Tint | 0 |
ToneCurve | 0, 0, 32, 22, 64, 56, 128, 128, 192, 196, 255, 255 |
ToneCurveName | Medium Contrast |
URL_List | |
Version | 6.4 |
VignetteAmount | 0 |
WhiteBalance (1) | As Shot |
WhiteBalance | Manual |