Felt | Verdi |
AlreadyApplied | True |
Aperture | 4.5 |
ApertureValue | 4.5 |
ApproximateFocusDistance | 0.76 |
Artist | Krister Rafn |
AutoLateralCA | 0 |
BitsPerSample | 8 |
Blacks2012 | 0 |
BlueHue | 0 |
BlueSaturation | 0 |
Brightness | +50 |
By-line | Krister Rafn |
CameraProfile | Adobe Standard |
CircleOfConfusion | 0.019 mm |
Clarity | 0 |
Clarity2012 | 0 |
ColorComponents | 3 |
ColorNoiseReduction | 25 |
ColorNoiseReductionDetail | 50 |
ColorTemperature | 5750 |
Contrast | +25 |
Contrast2012 | 0 |
ConvertToGrayscale | False |
CreateDate (1) | 2012:06:20 14:14:10.88 |
CreateDate | 2012:06:20 14:14:10 |
Creator | Krister Rafn |
CreatorTool | Adobe Photoshop Lightroom 4.0 (Windows) |
CropAngle | -24.6275 |
CropBottom | 0.61177 |
CropConstrainToWarp | 0 |
CropHeight | 2132 |
CropLeft | 0.237886 |
CropRight | 0.989446 |
CropTop | 0.38823 |
CropUnit | pixels |
CropWidth | 2952 |
CustomRendered | Normal |
DateCreated (1) | 2012:06:20 |
DateCreated | 2012:06:20 14:14:10.88 |
DateTimeOriginal | 2012:06:20 14:14:10 |
Defringe | 0 |
DOF | 0.05 m (0.73 - 0.79 m) |
Exposure | 0.00 |
Exposure2012 | 0.00 |
ExposureCompensation | 0 |
ExposureMode | Manual |
ExposureProgram | Manual |
ExposureTime | 1/125 |
FillLight | 0 |
Firmware | 1.1.1 |
Flash | Off, Did not fire |
FlashCompensation | 0 |
FNumber | 4.5 |
FocalLength | 42.0 mm |
FocalLength35efl | 42.0 mm (35 mm equivalent: 66.7 mm) |
Format | image/jpeg |
FOV | 30.2 deg |
GrainAmount | 0 |
GreenHue | 0 |
GreenSaturation | 0 |
HasCrop | True |
HasSettings | True |
HighlightRecovery | 0 |
Highlights2012 | 0 |
HueAdjustmentAqua | 0 |
HueAdjustmentBlue | 0 |
HueAdjustmentGreen | 0 |
HueAdjustmentMagenta | 0 |
HueAdjustmentOrange | 0 |
HueAdjustmentPurple | 0 |
HueAdjustmentRed | 0 |
HueAdjustmentYellow | 0 |
HyperfocalDistance | 20.72 m |
ImageHeight | 2132 |
ImageNumber | 0 |
ImageSize | 2952x2132 |
ImageWidth | 2952 |
ISO | 100 |
Lens | 18-200mm |
LensID (1) | 137 |
LensID | Sigma 18-200mm f/3.5-6.3 DC OS HSM [II] |
LensInfo | 18-200mm f/? |
LensManualDistortionAmount | 0 |
LensModel | 18-200mm |
LensProfileEnable | 0 |
LensProfileSetup | LensDefaults |
LightValue | 11.3 |
LuminanceAdjustmentAqua | 0 |
LuminanceAdjustmentBlue | 0 |
LuminanceAdjustmentGreen | 0 |
LuminanceAdjustmentMagenta | 0 |
LuminanceAdjustmentOrange | 0 |
LuminanceAdjustmentPurple | 0 |
LuminanceAdjustmentRed | 0 |
LuminanceAdjustmentYellow | 0 |
LuminanceNoiseReductionContrast | 10 |
LuminanceNoiseReductionDetail | 50 |
LuminanceSmoothing | 35 |
Make | Canon |
MaxApertureValue | 4.6 |
Megapixels | 6.3 |
MeteringMode | Multi-segment |
Model | Canon EOS 500D |
ModifyDate (1) | 2012:06:20 14:15:49+02:00 |
ModifyDate | 2012:06:20 14:15:49 |
OwnerName | Krister Rafn |
ParametricDarks | -45 |
ParametricHighlights | +24 |
ParametricHighlightSplit | 75 |
ParametricLights | +14 |
ParametricMidtoneSplit | 50 |
ParametricShadows | -41 |
ParametricShadowSplit | 25 |
PerspectiveHorizontal | 0 |
PerspectiveRotate | 0.0 |
PerspectiveScale | 100 |
PerspectiveVertical | 0 |
PostCropVignetteAmount | 0 |
ProcessVersion | 6.7 |
ProfileDescription | sRGB IEC61966-2.1 |
RedHue | 0 |
RedSaturation | 0 |
Saturation | 0 |
SaturationAdjustmentAqua | 0 |
SaturationAdjustmentBlue | 0 |
SaturationAdjustmentGreen | 0 |
SaturationAdjustmentMagenta | 0 |
SaturationAdjustmentOrange | 0 |
SaturationAdjustmentPurple | 0 |
SaturationAdjustmentRed | 0 |
SaturationAdjustmentYellow | 0 |
ScaleFactor35efl | 1.6 |
SceneCaptureType | Standard |
SerialNumber | 1180415121 |
Shadows | 5 |
Shadows2012 | 0 |
ShadowTint | 0 |
SharpenDetail | 25 |
SharpenEdgeMasking | 0 |
SharpenRadius | +1.0 |
Sharpness | 25 |
ShutterSpeed | 1/125 |
ShutterSpeedValue | 1/125 |
Software | Adobe Photoshop Lightroom 4.0 (Windows) |
SplitToningBalance | 0 |
SplitToningHighlightHue | 0 |
SplitToningHighlightSaturation | 0 |
SplitToningShadowHue | 0 |
SplitToningShadowSaturation | 0 |
Tint | +7 |
ToneCurve | 0, 0, 255, 255 |
ToneCurveBlue | 0, 0, 255, 255 |
ToneCurveGreen | 0, 0, 255, 255 |
ToneCurveName | Linear |
ToneCurveName2012 | Linear |
ToneCurvePV2012 | 0, 0, 255, 255 |
ToneCurvePV2012Blue | 0, 0, 255, 255 |
ToneCurvePV2012Green | 0, 0, 255, 255 |
ToneCurvePV2012Red | 0, 0, 255, 255 |
ToneCurveRed | 0, 0, 255, 255 |
Version | 7.0 |
Vibrance | 0 |
VignetteAmount | 0 |
WhiteBalance (1) | As Shot |
WhiteBalance | Manual |
Whites2012 | 0 |