Felt | Verdi |
AlreadyApplied | True |
Aperture | 5.6 |
ApertureValue | 5.6 |
ApproximateFocusDistance | 4294967295 |
Artist | Daniel Shay Lunt |
BitsPerSample (1) | 8, 8, 8 |
BitsPerSample (2) | 8 8 8 |
BitsPerSample | 8 |
BlueHue | 0 |
BlueSaturation | 0 |
Brightness | +150 |
By-line | Daniel Shay Lunt |
CameraProfile | Adobe Standard |
CFAPattern | [Red,Green][Green,Blue] |
ChromaticAberrationB | 0 |
ChromaticAberrationR | 0 |
CircleOfConfusion | 0.020 mm |
Clarity | 0 |
ColorComponents | 1 |
ColorMode | RGB |
ColorNoiseReduction | 25 |
ColorNoiseReductionDetail | 50 |
ColorSpace | sRGB |
ColorTemperature | 10882 |
Contrast (1) | +30 |
Contrast | Normal |
ConvertToGrayscale | True |
Copyright | Daniel Shay Lunt |
CopyrightFlag | True |
CopyrightNotice | Daniel Shay Lunt |
CreateDate (1) | 2012:07:15 00:01+02:00 |
CreateDate | 2012:07:07 22:57:06 |
Creator | Daniel Shay Lunt |
CreatorAddress | Brunlaugbakken 27 |
CreatorCity | Fåberg |
CreatorCountry | Norway |
CreatorPostalCode | 2625 |
CreatorTool | Adobe Photoshop Elements 7.0 Windows |
CreatorWorkEmail | dshay75@gmail.com |
CreatorWorkTelephone | 93012176 |
CropAngle | 0 |
CropBottom | 0.902778 |
CropConstrainToWarp | 0 |
CropHeight | 2185 |
CropLeft | 0.22999 |
CropRight | 0.99448 |
CropTop | 0.233333 |
CropUnit | pixels |
CropWidth | 3767 |
CustomRendered | Normal |
DateCreated | 2012:07:07 |
DateTimeDigitized | 2012:07:07 22:57:06+02:00 |
DateTimeOriginal (1) | 2012:07:07 22:57:06+02:00 |
DateTimeOriginal | 2012:07:07 22:57:06 |
Defringe | 0 |
DigitalZoomRatio | 1 |
DOF | inf (128.37 m - inf) |
ExifImageHeight | 728 |
ExifImageWidth | 1200 |
Exposure | +3.50 |
ExposureCompensation | 0 |
ExposureMode | Manual |
ExposureProgram | Manual |
ExposureTime | 1/30 |
FillLight | 57 |
Flash | Off, Did not fire |
FlashFired | False |
FlashFunction | False |
FlashMode | Off |
FlashRedEyeMode | False |
FlashReturn | No return detection |
FNumber | 5.6 |
FocalLength | 120.0 mm |
FocalLength35efl | 120.0 mm (35 mm equivalent: 180.0 mm) |
FocalLengthIn35mmFormat | 180 mm |
Format | image/jpeg |
FOV | 11.4 deg |
GainControl | None |
GrainAmount | 0 |
GrayMixerAqua | -17 |
GrayMixerBlue | +14 |
GrayMixerGreen | -28 |
GrayMixerMagenta | +4 |
GrayMixerOrange | -20 |
GrayMixerPurple | +19 |
GrayMixerRed | -11 |
GrayMixerYellow | -24 |
GreenHue | 0 |
GreenSaturation | 0 |
HasCrop | True |
HasSettings | True |
HighlightRecovery | 0 |
HyperfocalDistance | 128.37 m |
ICCProfileName | sRGB IEC61966-2.1 |
ImageHeight (2) | 2185 |
ImageHeight | 728 |
ImageNumber | 11415 |
ImageSize | 1200x728 |
ImageWidth (1) | 3767 |
ImageWidth | 1200 |
ISO | 100 |
Keywords | Tåke, lillehammer, natt |
Lens | 24.0-120.0 mm f/3.5-5.6 |
LensID (1) | 120 |
LensID | AF-S VR Zoom-Nikkor 24-120mm f/3.5-5.6G IF-ED |
LensInfo | 24-120mm f/3.5-5.6 |
LensManualDistortionAmount | 0 |
LensModel | 24.0-120.0 mm f/3.5-5.6 |
LensProfileChromaticAberrationScale | 100 |
LensProfileDistortionScale | 100 |
LensProfileEnable | 1 |
LensProfileFilename | NIKON D3X (Nikon AF-S VR Zoom-NIKKOR 24-120mm f3.5-5.6G IF-ED) - RAW.lcp |
LensProfileName | Adobe (Nikon AF-S VR Zoom-NIKKOR 24-120mm f/3.5-5.6G IF-ED) |
LensProfileSetup | LensDefaults |
LensProfileVignettingScale | 100 |
LightSource | Shade |
LightValue | 9.9 |
LuminanceNoiseReductionContrast | 0 |
LuminanceNoiseReductionDetail | 63 |
LuminanceSmoothing | 84 |
Make | NIKON CORPORATION |
Marked | True |
MaxApertureValue | 5.7 |
Megapixels | 0.874 |
MeteringMode | Multi-segment |
Model | NIKON D7000 |
ModifyDate (1) | 2012:07:15 00:01+02:00 |
ModifyDate | 2012:07:15 00:01:00 |
Orientation | Horizontal (normal) |
ParametricDarks | 0 |
ParametricHighlights | 0 |
ParametricHighlightSplit | 75 |
ParametricLights | 0 |
ParametricMidtoneSplit | 50 |
ParametricShadows | 0 |
ParametricShadowSplit | 25 |
PerspectiveHorizontal | 0 |
PerspectiveRotate | 0.0 |
PerspectiveScale | 100 |
PerspectiveVertical | 0 |
PhotometricInterpretation | RGB |
PlanarConfiguration | Chunky |
PostCropVignetteAmount | -5 |
PostCropVignetteFeather | 50 |
PostCropVignetteHighlightContrast | 0 |
PostCropVignetteMidpoint | 50 |
PostCropVignetteRoundness | 0 |
PostCropVignetteStyle | 1 |
ProcessVersion | 5.7 |
ProfileDescription | sRGB IEC61966-2.1 |
RedHue | 0 |
RedSaturation | 0 |
Rights | Daniel Shay Lunt |
SamplesPerPixel | 3 |
Saturation | Normal |
ScaleFactor35efl | 1.5 |
SceneCaptureType | Standard |
SceneType | Directly photographed |
SensingMethod | One-chip color area |
SensitivityType | Recommended Exposure Index |
SerialNumber | 6004422 |
Shadows | 5 |
ShadowTint | 0 |
SharpenDetail | 35 |
SharpenEdgeMasking | 0 |
SharpenRadius | +0.5 |
Sharpness (1) | 40 |
Sharpness | Normal |
ShutterSpeed | 1/30 |
ShutterSpeedValue | 1/30 |
Software | Adobe Photoshop Elements 7.0 Windows |
SplitToningBalance | 0 |
SplitToningHighlightHue | 0 |
SplitToningHighlightSaturation | 0 |
SplitToningShadowHue | 0 |
SplitToningShadowSaturation | 0 |
Subject | Tåke, lillehammer, natt |
SubjectDistance | 4294967295 m |
SubjectDistanceRange | Unknown |
Tint | +30 |
ToneCurve | 0, 0, 32, 22, 64, 56, 128, 128, 192, 196, 255, 255 |
ToneCurveName | Medium Contrast |
URL | dshay75@gmail.com |
URL_List | |
Version | 6.6 |
VignetteAmount | 0 |
WebStatement | dshay75@gmail.com |
WhiteBalance (1) | Custom |
WhiteBalance | Manual |