Felt | Verdi |
AlreadyApplied | True |
Aperture | 10.0 |
ApertureValue | 10.0 |
AutoLateralCA | 0 |
BitsPerSample (1) | 8 8 8 |
BitsPerSample | 8 |
Blacks2012 | 0 |
BlueHue | 0 |
BlueSaturation | 0 |
CameraProfile | Adobe Standard |
CircleOfConfusion | 0.015 mm |
Clarity2012 | -86 |
ColorComponents | 3 |
ColorMode | RGB |
ColorNoiseReduction | 25 |
ColorNoiseReductionDetail | 50 |
ColorSpace | Uncalibrated |
ColorTemperature | 5900 |
Contrast | Normal |
Contrast2012 | +81 |
ConvertToGrayscale | True |
CreateDate | 2013:05:13 20:31:41 |
CreatorTool | Adobe Photoshop CS6 (Windows) |
CustomRendered | Normal |
DateCreated (1) | 2013:05:13 |
DateCreated | 2013:05:13 20:31:41 |
DateTimeOriginal | 2013:05:13 20:31:41 |
DigitalZoomRatio | 0 |
ExifImageHeight | 1100 |
ExifImageWidth | 735 |
Exposure2012 | -0.48 |
ExposureCompensation | +1.33 |
ExposureMode | Auto |
ExposureProgram | Aperture-priority AE |
ExposureTime | 1/15 |
Flash | Off, Did not fire |
FNumber | 10.0 |
FocalLength | 30.0 mm |
FocalLength35efl | 30.0 mm (35 mm equivalent: 62.0 mm) |
FocalLengthIn35mmFormat | 62 mm |
Format | image/jpeg |
FOV | 32.4 deg |
GainControl | Low gain up |
GrainAmount | 0 |
GrayMixerAqua | -19 |
GrayMixerBlue | +9 |
GrayMixerGreen | -27 |
GrayMixerMagenta | +4 |
GrayMixerOrange | -18 |
GrayMixerPurple | +15 |
GrayMixerRed | -9 |
GrayMixerYellow | -22 |
GreenHue | 0 |
GreenSaturation | 0 |
HasCrop | False |
HasSettings | True |
Highlights2012 | 0 |
HyperfocalDistance | 6.19 m |
ICCProfileName | Adobe RGB (1998) |
ImageHeight (1) | 4576 |
ImageHeight | 1100 |
ImageSize | 735x1100 |
ImageWidth (1) | 3056 |
ImageWidth | 735 |
ISO | 160 |
Lens | SIGMA 30mm F2.8 EX DN |
LensManualDistortionAmount | 0 |
LensModel | SIGMA 30mm F2.8 EX DN |
LensProfileEnable | 0 |
LensProfileSetup | LensDefaults |
LensSerialNumber | 132104948 |
LightSource | Unknown |
LightValue | 9.9 |
LuminanceSmoothing | 0 |
Make | Panasonic |
MaxApertureValue | 2.8 |
Megapixels | 0.808 |
MeteringMode | Multi-segment |
Model | DMC-GX1 |
ModifyDate (1) | 2013:05:13 23:35:54+02:00 |
ModifyDate | 2013:05:13 23:35:54 |
Orientation | Horizontal (normal) |
ParametricDarks | 0 |
ParametricHighlights | 0 |
ParametricHighlightSplit | 75 |
ParametricLights | 0 |
ParametricMidtoneSplit | 50 |
ParametricShadows | 0 |
ParametricShadowSplit | 25 |
PerspectiveHorizontal | 0 |
PerspectiveRotate | 0.0 |
PerspectiveScale | 100 |
PerspectiveVertical | 0 |
PhotometricInterpretation | RGB |
PlanarConfiguration | Chunky |
PostCropVignetteAmount | +19 |
PostCropVignetteFeather | 100 |
PostCropVignetteMidpoint | 44 |
PostCropVignetteRoundness | 0 |
PostCropVignetteStyle | 1 |
ProcessVersion | 6.7 |
ProfileDescription | Adobe RGB (1998) |
RedHue | 0 |
RedSaturation | 0 |
Saturation | Normal |
ScaleFactor35efl | 2.1 |
SceneCaptureType | Standard |
SceneType | Directly photographed |
SensingMethod | One-chip color area |
Shadows2012 | 0 |
ShadowTint | 0 |
SharpenDetail | 45 |
SharpenEdgeMasking | 7 |
SharpenRadius | +1.2 |
Sharpness (1) | 73 |
Sharpness | Normal |
ShutterSpeed | 1/15 |
ShutterSpeedValue | 1/15 |
Software | Adobe Photoshop CS6 (Windows) |
SplitToningBalance | 0 |
SplitToningHighlightHue | 231 |
SplitToningHighlightSaturation | 7 |
SplitToningShadowHue | 0 |
SplitToningShadowSaturation | 0 |
Tint | +19 |
ToneCurveName2012 | Linear |
ToneCurvePV2012 | 0, 0, 255, 255 |
ToneCurvePV2012Blue | 0, 0, 255, 255 |
ToneCurvePV2012Green | 0, 0, 255, 255 |
ToneCurvePV2012Red | 0, 0, 255, 255 |
URL_List | |
Version | 7.4 |
VignetteAmount | 0 |
WhiteBalance (1) | As Shot |
WhiteBalance | Auto |
Whites2012 | 0 |