Felt | Verdi |
AlreadyApplied | True |
Aperture | 5.0 |
ApertureValue | 5.0 |
BitsPerSample | 8 |
BlueHue | 0 |
BlueSaturation | 0 |
Brightness | +50 |
CameraProfile | Adobe Standard |
ChromaticAberrationB | 0 |
ChromaticAberrationR | 0 |
CircleOfConfusion | 0.030 mm |
Clarity | +100 |
ColorComponents | 1 |
ColorMode | Grayscale |
ColorNoiseReduction | 55 |
ColorNoiseReductionDetail | 50 |
ColorSpace | Uncalibrated |
ColorTemperature | 6000 |
Contrast | +44 |
ConvertToGrayscale | True |
CreateDate (1) | 2013:05:19 21:28:53+02:00 |
CreateDate | 2013:05:19 21:28:53 |
CropAngle | 1.548158 |
CropBottom | 0.968684 |
CropLeft | 0.055819 |
CropRight | 0.882568 |
CropTop | 0.000828 |
CustomRendered | Normal |
DateCreated (1) | 2013:05:19 |
DateCreated | 2013:05:19 21:28:53 |
DateTimeOriginal | 2013:05:19 21:28:53 |
Defringe | 0 |
DerivedFrom | |
ExifImageHeight | 3686 |
ExifImageWidth | 2720 |
Exposure | +0.35 |
ExposureCompensation | 0 |
ExposureMode | Auto |
ExposureProgram | Program AE |
ExposureTime | 1/125 |
FillLight | 8 |
Firmware | 1.1.1 |
Flash | Off, Did not fire |
FlashCompensation | 0 |
FNumber | 5.0 |
FocalLength | 60.0 mm |
FocalLength35efl | 60.0 mm (35 mm equivalent: 60.1 mm) |
Format | image/jpeg |
FOV | 33.3 deg |
GradientBasedCorrActive | true |
GradientBasedCorrAmount | 1.000000 |
GradientBasedCorrBrightness | -0.240000 |
GradientBasedCorrClarity | -1.000000 |
GradientBasedCorrContrast | -0.660000 |
GradientBasedCorrExposure | -0.375000 |
GradientBasedCorrHue | 0.000000 |
GradientBasedCorrMaskFullX | 0.998305 |
GradientBasedCorrMaskFullY | 0.005089 |
GradientBasedCorrMaskValue | 1.000000 |
GradientBasedCorrMaskWhat | Mask/Gradient |
GradientBasedCorrMaskZeroX | 0.004685 |
GradientBasedCorrMaskZeroY | 0.694677 |
GradientBasedCorrSaturation (1) | 0.850000 |
GradientBasedCorrSaturation | 0.000000 |
GradientBasedCorrSharpness | 0.450000 |
GradientBasedCorrWhat | Correction |
GrainAmount | 0 |
GrayMixerAqua | +63 |
GrayMixerBlue | -100 |
GrayMixerGreen | -28 |
GrayMixerMagenta | +3 |
GrayMixerOrange | +18 |
GrayMixerPurple | -7 |
GrayMixerRed | -38 |
GrayMixerYellow | -29 |
GreenHue | 0 |
GreenSaturation | 0 |
HasCrop | True |
HasSettings | True |
HighlightRecovery | 100 |
HyperfocalDistance | 24.01 m |
ICCProfileName | Gray Gamma 2.2 |
ImageHeight | 3686 |
ImageNumber | 24 |
ImageSize | 2720x3686 |
ImageWidth | 2720 |
ISO | 200 |
Lens | 24.0-70.0 mm |
LensID (1) | 161 |
LensID | Sigma 24-70mm f/2.8 EX or Tokina AT-X 24-70mm f/2.8 PRO FX (IF) |
LensInfo | 24-70mm f/? |
LightValue | 10.6 |
LuminanceSmoothing | 0 |
Make | Canon |
MaxApertureValue | 3.0 |
Megapixels | 10.0 |
MeteringMode | Unknown |
Model | Canon EOS 5D |
ModifyDate (1) | 2013:06:05 23:52:45+02:00 |
ModifyDate | 2013:06:05 23:52:45 |
Orientation | Horizontal (normal) |
ParametricDarks | -13 |
ParametricHighlights | +86 |
ParametricHighlightSplit | 75 |
ParametricLights | 0 |
ParametricMidtoneSplit | 50 |
ParametricShadows | 0 |
ParametricShadowSplit | 25 |
PostCropVignetteAmount | 0 |
ProcessVersion | 5.7 |
ProfileDescription | Gray Gamma 2.2 |
Rating | 0 |
RawFileName | IMG_3331.CR2 |
RedHue | 0 |
RedSaturation | 0 |
ScaleFactor35efl | 1.0 |
SceneCaptureType | Standard |
SerialNumber | 1430906675 |
Shadows | 11 |
ShadowTint | 0 |
SharpenDetail | 25 |
SharpenEdgeMasking | 6 |
SharpenRadius | +1.0 |
Sharpness | 85 |
ShutterSpeed | 1/125 |
ShutterSpeedValue | 1/125 |
SidecarForExtension | CR2 |
Software | Adobe Photoshop CS5 Windows |
SplitToningBalance | 0 |
SplitToningHighlightHue | 0 |
SplitToningHighlightSaturation | 0 |
SplitToningShadowHue | 0 |
SplitToningShadowSaturation | 0 |
Tint | +3 |
ToneCurve | 0, 0, 32, 22, 64, 56, 128, 128, 192, 196, 255, 255 |
ToneCurveName | Medium Contrast |
URL_List | |
Version | 6.0 |
VignetteAmount | 0 |
WhiteBalance (1) | Custom |
WhiteBalance | Manual |